BEGIN:VCALENDAR
VERSION:2.0
PRODID:-//Uniwersytet Dziecięcy Uniwersytetu Ekonomicznego w Krakowie - ECPv6.15.20//NONSGML v1.0//EN
CALSCALE:GREGORIAN
METHOD:PUBLISH
X-ORIGINAL-URL:https://ud.uek.krakow.pl
X-WR-CALDESC:Wydarzenia dla Uniwersytet Dziecięcy Uniwersytetu Ekonomicznego w Krakowie
REFRESH-INTERVAL;VALUE=DURATION:PT1H
X-Robots-Tag:noindex
X-PUBLISHED-TTL:PT1H
BEGIN:VTIMEZONE
TZID:Europe/Warsaw
BEGIN:DAYLIGHT
TZOFFSETFROM:+0100
TZOFFSETTO:+0200
TZNAME:CEST
DTSTART:20200329T010000
END:DAYLIGHT
BEGIN:STANDARD
TZOFFSETFROM:+0200
TZOFFSETTO:+0100
TZNAME:CET
DTSTART:20201025T010000
END:STANDARD
BEGIN:DAYLIGHT
TZOFFSETFROM:+0100
TZOFFSETTO:+0200
TZNAME:CEST
DTSTART:20210328T010000
END:DAYLIGHT
BEGIN:STANDARD
TZOFFSETFROM:+0200
TZOFFSETTO:+0100
TZNAME:CET
DTSTART:20211031T010000
END:STANDARD
BEGIN:DAYLIGHT
TZOFFSETFROM:+0100
TZOFFSETTO:+0200
TZNAME:CEST
DTSTART:20220327T010000
END:DAYLIGHT
BEGIN:STANDARD
TZOFFSETFROM:+0200
TZOFFSETTO:+0100
TZNAME:CET
DTSTART:20221030T010000
END:STANDARD
BEGIN:DAYLIGHT
TZOFFSETFROM:+0100
TZOFFSETTO:+0200
TZNAME:CEST
DTSTART:20230326T010000
END:DAYLIGHT
BEGIN:STANDARD
TZOFFSETFROM:+0200
TZOFFSETTO:+0100
TZNAME:CET
DTSTART:20231029T010000
END:STANDARD
END:VTIMEZONE
BEGIN:VEVENT
DTSTART;TZID=Europe/Warsaw:20220305T114000
DTEND;TZID=Europe/Warsaw:20220305T124000
DTSTAMP:20260419T210855
CREATED:20220224T135006Z
LAST-MODIFIED:20221004T104151Z
UID:3338-1646480400-1646484000@ud.uek.krakow.pl
SUMMARY:Zajęcia dodatkowe: Zdrowie - z czym to się je?
DESCRIPTION:Grupa I (6-8lat)\n„Zdrowie – z czym to się je?”\nJulia Bober\ndietetyk kliniczny\, absolwentka Uniwersytetu Dziecięcego UEK \n\n\nZAREJESTRUJ SIĘ
URL:https://ud.uek.krakow.pl/wydarzenie/zajecia-dodatkowe-zdrowie-z-czym-to-sie-je/
LOCATION:Budynek Główny UEK\, sala 4\, ul. Rakowicka 27\, 31-510 Kraków
CATEGORIES:Grupa I (6-8 lat) - archiwum
ATTACH;FMTTYPE=image/jpeg:https://ud.uek.krakow.pl/wp-content/uploads/2021/10/fiku-miku.jpg
ORGANIZER;CN="Uniwersytet Ekonomiczny w Krakowie":MAILTO:ud@uek.krakow.pl
END:VEVENT
BEGIN:VEVENT
DTSTART;TZID=Europe/Warsaw:20220305T114000
DTEND;TZID=Europe/Warsaw:20220305T124000
DTSTAMP:20260419T210855
CREATED:20220215T124833Z
LAST-MODIFIED:20221004T104526Z
UID:3288-1646480400-1646484000@ud.uek.krakow.pl
SUMMARY:Zajęcia dodatkowe: Skąd się biorą pieniądze?
DESCRIPTION:Grupa I (6-8lat)\n„Skąd się biorą pieniądze?”\nmgr Kamila Pilch\nKatedra Zarządzania Organizacjami Publicznymi UEK \n\n\nZAREJESTRUJ SIĘ
URL:https://ud.uek.krakow.pl/wydarzenie/zajecia-dodatkowe-skad-sie-biora-pieniadze/
LOCATION:Budynek Główny UEK\, sala 1\, ul. Rakowicka 27\, 31-510 Kraków
CATEGORIES:Grupa I (6-8 lat) - archiwum
ATTACH;FMTTYPE=image/jpeg:https://ud.uek.krakow.pl/wp-content/uploads/2022/02/Swinka.jpg
ORGANIZER;CN="Uniwersytet Ekonomiczny w Krakowie":MAILTO:ud@uek.krakow.pl
END:VEVENT
BEGIN:VEVENT
DTSTART;TZID=Europe/Warsaw:20220305T104500
DTEND;TZID=Europe/Warsaw:20220305T113000
DTSTAMP:20260419T210855
CREATED:20220221T082458Z
LAST-MODIFIED:20221004T104536Z
UID:3299-1646477100-1646479800@ud.uek.krakow.pl
SUMMARY:Wykład:  Jakie owady możemy spotkać w mieście i gdzie ich szukać?
DESCRIPTION:GRUPA I (6–8 LAT)\n„Jakie owady możemy spotkać w mieście i gdzie ich szukać?” \ndr Joanna Kajzer-Bonk\nInstytut Zoologii i Badań Biomedycznych UJ
URL:https://ud.uek.krakow.pl/wydarzenie/wyklad-jakie-owady-mozemy-spotkac-w-miescie-i-gdzie-ich-szukac/
LOCATION:Stara Aula w Budynku Głównym UEK\, ul. Rakowicka 27\, 31-510 Kraków
CATEGORIES:Grupa I (6-8 lat) - archiwum
ATTACH;FMTTYPE=image/jpeg:https://ud.uek.krakow.pl/wp-content/uploads/2022/02/W-pustyni-i-w-puszczy.jpg
ORGANIZER;CN="Uniwersytet Ekonomiczny w Krakowie":MAILTO:ud@uek.krakow.pl
END:VEVENT
BEGIN:VEVENT
DTSTART;TZID=Europe/Warsaw:20220305T103000
DTEND;TZID=Europe/Warsaw:20220305T113000
DTSTAMP:20260419T210855
CREATED:20220224T135343Z
LAST-MODIFIED:20221004T104554Z
UID:3340-1646476200-1646479800@ud.uek.krakow.pl
SUMMARY:Zajęcia dodatkowe: Zdrowie - z czym to się je?
DESCRIPTION:Grupa II (9-12lat)\n„Zdrowie – z czym to się je?”\nJulia Bober\ndietetyk kliniczny\, absolwentka Uniwersytetu Dziecięcego UEK \n\n\nZAREJESTRUJ SIĘ
URL:https://ud.uek.krakow.pl/wydarzenie/zajecia-dodatkowe-zdrowie-z-czym-to-sie-je-2/
LOCATION:Budynek Główny UEK\, sala 4\, ul. Rakowicka 27\, 31-510 Kraków
CATEGORIES:Grupa II (9–12 lat) - archiwum
ATTACH;FMTTYPE=image/jpeg:https://ud.uek.krakow.pl/wp-content/uploads/2021/10/fiku-miku.jpg
ORGANIZER;CN="Uniwersytet Ekonomiczny w Krakowie":MAILTO:ud@uek.krakow.pl
END:VEVENT
BEGIN:VEVENT
DTSTART;TZID=Europe/Warsaw:20220305T103000
DTEND;TZID=Europe/Warsaw:20220305T113000
DTSTAMP:20260419T210855
CREATED:20220215T130909Z
LAST-MODIFIED:20221004T104612Z
UID:3292-1646476200-1646479800@ud.uek.krakow.pl
SUMMARY:Zajęcia dodatkowe: Skąd się biorą pieniądze?
DESCRIPTION:Grupa II (9-12lat)\n„Skąd się biorą pieniądze?”\nmgr Kamila Pilch\nKatedra Zarządzania Organizacjami Publicznymi UEK \n\n\nZAREJESTRUJ SIĘ
URL:https://ud.uek.krakow.pl/wydarzenie/zajecia-dodatkowe-skad-sie-biora-pieniadze-2/
LOCATION:Budynek Główny UEK\, sala 1\, ul. Rakowicka 27\, 31-510 Kraków
CATEGORIES:Grupa II (9–12 lat) - archiwum
ATTACH;FMTTYPE=image/jpeg:https://ud.uek.krakow.pl/wp-content/uploads/2022/02/Swinka.jpg
ORGANIZER;CN="Uniwersytet Ekonomiczny w Krakowie":MAILTO:ud@uek.krakow.pl
END:VEVENT
BEGIN:VEVENT
DTSTART;TZID=Europe/Warsaw:20220205T114500
DTEND;TZID=Europe/Warsaw:20220205T123000
DTSTAMP:20260419T210855
CREATED:20211004T132008Z
LAST-MODIFIED:20220221T164401Z
UID:3035-1644061500-1644064200@ud.uek.krakow.pl
SUMMARY:Wykład:  Dzieci w przestrzeni publicznej. Czy wiemy jak chodzić po schodach?
DESCRIPTION:GRUPA II (9–12 LAT)\n„Dzieci w przestrzeni publicznej. Czy wiemy jak chodzić po schodach?” \nPaula Gibała\ndRIM Fundacja na rzecz Edukacji Przestrzennej
URL:https://ud.uek.krakow.pl/wydarzenie/wyklad-architektura-przestrzeni/
LOCATION:zajęcia online
CATEGORIES:Grupa II (9–12 lat) - archiwum
ATTACH;FMTTYPE=image/jpeg:https://ud.uek.krakow.pl/wp-content/uploads/2021/10/Miasto-scaled.jpg
ORGANIZER;CN="Uniwersytet Ekonomiczny w Krakowie":MAILTO:ud@uek.krakow.pl
END:VEVENT
BEGIN:VEVENT
DTSTART;TZID=Europe/Warsaw:20220205T114000
DTEND;TZID=Europe/Warsaw:20220205T124000
DTSTAMP:20260419T210855
CREATED:20211006T094011Z
LAST-MODIFIED:20220221T164309Z
UID:3076-1644061200-1644064800@ud.uek.krakow.pl
SUMMARY:Zajęcia dodatkowe: Czy inni ludzie wpływają na moje zachowanie?
DESCRIPTION:Grupa I (6-8lat)\n„Czy inni ludzie wpływają na moje zachowanie?”\nmgr Kamila Pilch\nKatedra Zarządzania Organizacjami Publicznymi UEK \nBardzo często możemy usłyszeć stwierdzenie mówiące\, że człowiek jest istotą społeczną. Podczas zajęć będziemy zastanawiać się co to zdanie oznacza w praktyce. Zastanowimy się dlaczego ludzie robią to\, co robią\, poznając reguły wpływu społecznego. \n\n\nZAREJESTRUJ SIĘ
URL:https://ud.uek.krakow.pl/wydarzenie/zajecia-dodatkowe-zachowanie/
LOCATION:zajęcia online
CATEGORIES:Grupa I (6-8 lat) - archiwum
ATTACH;FMTTYPE=image/jpeg:https://ud.uek.krakow.pl/wp-content/uploads/2021/10/rywalizacja.jpg
ORGANIZER;CN="Uniwersytet Ekonomiczny w Krakowie":MAILTO:ud@uek.krakow.pl
END:VEVENT
BEGIN:VEVENT
DTSTART;TZID=Europe/Warsaw:20220205T104500
DTEND;TZID=Europe/Warsaw:20220205T113000
DTSTAMP:20260419T210855
CREATED:20211004T132240Z
LAST-MODIFIED:20220221T164236Z
UID:3038-1644057900-1644060600@ud.uek.krakow.pl
SUMMARY:Wykład:  Dzieci w przestrzeni publicznej. Czy wiemy jak chodzić po schodach?
DESCRIPTION:GRUPA I (6–8 LAT)\n„Dzieci w przestrzeni publicznej. Czy wiemy jak chodzić po schodach?” \nPaula Gibała\ndRIM Fundacja na rzecz Edukacji Przestrzennej
URL:https://ud.uek.krakow.pl/wydarzenie/wyklad-architektura-przestrzeni-2/
LOCATION:zajęcia online
CATEGORIES:Grupa I (6-8 lat) - archiwum
ATTACH;FMTTYPE=image/jpeg:https://ud.uek.krakow.pl/wp-content/uploads/2021/10/Miasto-scaled.jpg
ORGANIZER;CN="Uniwersytet Ekonomiczny w Krakowie":MAILTO:ud@uek.krakow.pl
END:VEVENT
BEGIN:VEVENT
DTSTART;TZID=Europe/Warsaw:20220205T103000
DTEND;TZID=Europe/Warsaw:20220205T113000
DTSTAMP:20260419T210855
CREATED:20211006T094231Z
LAST-MODIFIED:20220221T164210Z
UID:3079-1644057000-1644060600@ud.uek.krakow.pl
SUMMARY:Zajęcia dodatkowe: Czy inni ludzie wpływają na moje zachowanie?
DESCRIPTION:Grupa II (9-12lat)\n„Czy inni ludzie wpływają na moje zachowanie?”\nmgr Kamila Pilch\nKatedra Zarządzania Organizacjami Publicznymi UEK \nBardzo często możemy usłyszeć stwierdzenie mówiące\, że człowiek jest istotą społeczną. Podczas zajęć będziemy zastanawiać się co to zdanie oznacza w praktyce. Zastanowimy się dlaczego ludzie robią to\, co robią\, poznając reguły wpływu społecznego. \n\n\nZAREJESTRUJ SIĘ
URL:https://ud.uek.krakow.pl/wydarzenie/zajecia-dodatkowe-zachowanie-2/
LOCATION:zajęcia online
CATEGORIES:Grupa II (9–12 lat) - archiwum
ATTACH;FMTTYPE=image/jpeg:https://ud.uek.krakow.pl/wp-content/uploads/2021/10/rywalizacja.jpg
ORGANIZER;CN="Uniwersytet Ekonomiczny w Krakowie":MAILTO:ud@uek.krakow.pl
END:VEVENT
BEGIN:VEVENT
DTSTART;TZID=Europe/Warsaw:20211218T113000
DTEND;TZID=Europe/Warsaw:20211218T123000
DTSTAMP:20260419T210855
CREATED:20211013T134604Z
LAST-MODIFIED:20220221T164039Z
UID:3112-1639827000-1639830600@ud.uek.krakow.pl
SUMMARY:Zajęcia dodatkowe: Metody kreatywnego myślenia
DESCRIPTION:Grupa I (6-8lat)\n„Metody kreatywnego myślenia.”\ndr Iryna Manczak\nKatedra Handlu i Instytucji Rynkowych UEK \n\n\nZAREJESTRUJ SIĘ
URL:https://ud.uek.krakow.pl/wydarzenie/zajecia-dodatkowe-metody/
LOCATION:zajęcia online
CATEGORIES:Grupa I (6-8 lat) - archiwum
ATTACH;FMTTYPE=image/jpeg:https://ud.uek.krakow.pl/wp-content/uploads/2021/10/Kreatywne-myslenie-scaled.jpg
ORGANIZER;CN="Uniwersytet Ekonomiczny w Krakowie":MAILTO:ud@uek.krakow.pl
END:VEVENT
BEGIN:VEVENT
DTSTART;TZID=Europe/Warsaw:20211218T113000
DTEND;TZID=Europe/Warsaw:20211218T121500
DTSTAMP:20260419T210855
CREATED:20211004T123813Z
LAST-MODIFIED:20220221T164002Z
UID:3029-1639827000-1639829700@ud.uek.krakow.pl
SUMMARY:Wykład:  Żonglowanie zadaniami\, czyli jak radzić sobie z wielozadaniowością
DESCRIPTION:GRUPA II (9–12 LAT)\n„Żonglowanie zadaniami\, czyli jak radzić sobie z wielozadaniowością.” \ndr Małgorzata Marchewka\nKatedra Procesu Zarządzania UEK
URL:https://ud.uek.krakow.pl/wydarzenie/wyklad-zonglowanie-zadaniami/
LOCATION:zajęcia online
CATEGORIES:Grupa II (9–12 lat) - archiwum
ATTACH;FMTTYPE=image/jpeg:https://ud.uek.krakow.pl/wp-content/uploads/2021/10/Zadania-scaled.jpg
ORGANIZER;CN="Uniwersytet Ekonomiczny w Krakowie":MAILTO:ud@uek.krakow.pl
END:VEVENT
BEGIN:VEVENT
DTSTART;TZID=Europe/Warsaw:20211218T103000
DTEND;TZID=Europe/Warsaw:20211218T111500
DTSTAMP:20260419T210855
CREATED:20211004T123943Z
LAST-MODIFIED:20220221T163936Z
UID:3032-1639823400-1639826100@ud.uek.krakow.pl
SUMMARY:Wykład:  Żonglowanie zadaniami\, czyli jak radzić sobie z wielozadaniowością
DESCRIPTION:GRUPA I (6–8 LAT)\n„Żonglowanie zadaniami\, czyli jak radzić sobie z wielozadaniowością.” \ndr Małgorzata Marchewka\nKatedra Procesu Zarządzania UEK
URL:https://ud.uek.krakow.pl/wydarzenie/wyklad-zonglowanie-zadaniami-czyli-jak-radzic-sobie-z-wielozadaniowoscia-2/
LOCATION:zajęcia online
CATEGORIES:Grupa I (6-8 lat) - archiwum
ATTACH;FMTTYPE=image/jpeg:https://ud.uek.krakow.pl/wp-content/uploads/2021/10/Zadania-scaled.jpg
ORGANIZER;CN="Uniwersytet Ekonomiczny w Krakowie":MAILTO:ud@uek.krakow.pl
END:VEVENT
BEGIN:VEVENT
DTSTART;TZID=Europe/Warsaw:20211218T101500
DTEND;TZID=Europe/Warsaw:20211218T111500
DTSTAMP:20260419T210855
CREATED:20211013T135104Z
LAST-MODIFIED:20220221T163909Z
UID:3116-1639822500-1639826100@ud.uek.krakow.pl
SUMMARY:Zajęcia dodatkowe: Metody kreatywnego myślenia
DESCRIPTION:Grupa II (9-12lat)\n„Metody kreatywnego myślenia.”\ndr Iryna Manczak\nKatedra Handlu i Instytucji Rynkowych UEK \n\n\nZAREJESTRUJ SIĘ
URL:https://ud.uek.krakow.pl/wydarzenie/zajecia-dodatkowe-metody-2/
LOCATION:zajęcia online
CATEGORIES:Grupa II (9–12 lat) - archiwum
ATTACH;FMTTYPE=image/jpeg:https://ud.uek.krakow.pl/wp-content/uploads/2021/10/Kreatywne-myslenie-scaled.jpg
ORGANIZER;CN="Uniwersytet Ekonomiczny w Krakowie":MAILTO:ud@uek.krakow.pl
END:VEVENT
BEGIN:VEVENT
DTSTART;TZID=Europe/Warsaw:20211204T130000
DTEND;TZID=Europe/Warsaw:20211204T140000
DTSTAMP:20260419T210855
CREATED:20211006T112609Z
LAST-MODIFIED:20220221T163836Z
UID:3090-1638622800-1638626400@ud.uek.krakow.pl
SUMMARY:Zajęcia dodatkowe:  Tenis ziemny
DESCRIPTION:Tenis ziemny\nStudium Wychowania Fizycznego i Sportu UEK \n  \n\n\nZAREJESTRUJ SIĘ
URL:https://ud.uek.krakow.pl/wydarzenie/zajecia-dodatkowe-tenis-ziemny-10/
LOCATION:Pawilon S\, hala sportowa\, ul. Rakowicka 27\, 31-510 Kraków
CATEGORIES:Grupa I (6-8 lat) - archiwum,Grupa II (9–12 lat) - archiwum
ATTACH;FMTTYPE=image/jpeg:https://ud.uek.krakow.pl/wp-content/uploads/2021/10/Tenis-scaled.jpg
ORGANIZER;CN="Uniwersytet Ekonomiczny w Krakowie":MAILTO:ud@uek.krakow.pl
END:VEVENT
BEGIN:VEVENT
DTSTART;TZID=Europe/Warsaw:20211204T114500
DTEND;TZID=Europe/Warsaw:20211204T123000
DTSTAMP:20260419T210855
CREATED:20211006T092542Z
LAST-MODIFIED:20220221T163805Z
UID:3069-1638618300-1638621000@ud.uek.krakow.pl
SUMMARY:Wykład:  Jak kultura wpływa na nasze życie?
DESCRIPTION:GRUPA II (9–12 LAT)\n„Jak kultura wpływa na nasze życie?” \nmgr Kamila Pilch\nKatedra Zarządzania Organizacjami Publicznymi UEK
URL:https://ud.uek.krakow.pl/wydarzenie/wyklad-kultura/
LOCATION:Stara Aula w Budynku Głównym UEK\, ul. Rakowicka 27\, 31-510 Kraków
CATEGORIES:Grupa II (9–12 lat) - archiwum
ATTACH;FMTTYPE=image/jpeg:https://ud.uek.krakow.pl/wp-content/uploads/2021/10/sztuka.jpg
ORGANIZER;CN="Uniwersytet Ekonomiczny w Krakowie":MAILTO:ud@uek.krakow.pl
END:VEVENT
BEGIN:VEVENT
DTSTART;TZID=Europe/Warsaw:20211204T114000
DTEND;TZID=Europe/Warsaw:20211204T124000
DTSTAMP:20260419T210855
CREATED:20211102T101528Z
LAST-MODIFIED:20220221T163713Z
UID:3209-1638618000-1638621600@ud.uek.krakow.pl
SUMMARY:Zajęcia dodatkowe: Budżet konsumenta - skąd się bierze i co możemy z nim zrobić?
DESCRIPTION:Grupa I (6-8lat)\n„Budżet konsumenta – skąd się bierze i co możemy z nim zrobić?”\nmgr Joanna Tarnowska\nKatedra Makroekonomii UEK \n\n\nZAREJESTRUJ SIĘ
URL:https://ud.uek.krakow.pl/wydarzenie/zajecia-dodatkowe-budzet-konsumenta/
LOCATION:Budynek Główny UEK\, sala 4\, ul. Rakowicka 27\, 31-510 Kraków
CATEGORIES:Grupa I (6-8 lat) - archiwum
ATTACH;FMTTYPE=image/jpeg:https://ud.uek.krakow.pl/wp-content/uploads/2021/11/budzet.jpg
ORGANIZER;CN="Uniwersytet Ekonomiczny w Krakowie":MAILTO:ud@uek.krakow.pl
END:VEVENT
BEGIN:VEVENT
DTSTART;TZID=Europe/Warsaw:20211204T114000
DTEND;TZID=Europe/Warsaw:20211204T124000
DTSTAMP:20260419T210855
CREATED:20211028T123811Z
LAST-MODIFIED:20220221T163644Z
UID:3200-1638618000-1638621600@ud.uek.krakow.pl
SUMMARY:Zajęcia dodatkowe: Warsztaty mikołajkowe. Drugie życie słoików. Zrób to sam!
DESCRIPTION:Grupa I (6-8lat)\n„Warsztaty mikołajkowe. Drugie życie słoików. Zrób to sam!”\nKatarzyna Sabatowicz\nFreelancer \n\n\nZAREJESTRUJ SIĘ
URL:https://ud.uek.krakow.pl/wydarzenie/zajecia-dodatkowe-drugie-zycie-sloikow/
LOCATION:Budynek Główny UEK\, sala 1\, ul. Rakowicka 27\, 31-510 Kraków
CATEGORIES:Grupa I (6-8 lat) - archiwum
ATTACH;FMTTYPE=image/jpeg:https://ud.uek.krakow.pl/wp-content/uploads/2021/10/Swieta-swieta-scaled.jpg
ORGANIZER;CN="Uniwersytet Ekonomiczny w Krakowie":MAILTO:ud@uek.krakow.pl
END:VEVENT
BEGIN:VEVENT
DTSTART;TZID=Europe/Warsaw:20211204T104500
DTEND;TZID=Europe/Warsaw:20211204T113000
DTSTAMP:20260419T210855
CREATED:20211006T092831Z
LAST-MODIFIED:20220221T163612Z
UID:3072-1638614700-1638617400@ud.uek.krakow.pl
SUMMARY:Wykład:  Jak kultura wpływa na nasze życie?
DESCRIPTION:GRUPA I (6–8 LAT)\n„Jak kultura wpływa na nasze życie?” \nmgr Kamila Pilch\nKatedra Zarządzania Organizacjami Publicznymi UEK
URL:https://ud.uek.krakow.pl/wydarzenie/wyklad-kultura-2/
LOCATION:Stara Aula w Budynku Głównym UEK\, ul. Rakowicka 27\, 31-510 Kraków
CATEGORIES:Grupa I (6-8 lat) - archiwum
ATTACH;FMTTYPE=image/jpeg:https://ud.uek.krakow.pl/wp-content/uploads/2021/10/sztuka.jpg
ORGANIZER;CN="Uniwersytet Ekonomiczny w Krakowie":MAILTO:ud@uek.krakow.pl
END:VEVENT
BEGIN:VEVENT
DTSTART;TZID=Europe/Warsaw:20211204T103000
DTEND;TZID=Europe/Warsaw:20211204T113000
DTSTAMP:20260419T210855
CREATED:20211102T101945Z
LAST-MODIFIED:20220221T163534Z
UID:3212-1638613800-1638617400@ud.uek.krakow.pl
SUMMARY:Zajęcia dodatkowe: Budżet konsumenta - skąd się bierze i co możemy z nim zrobić?
DESCRIPTION:GRUPA II (9–12 LAT)\n„Budżet konsumenta – skąd się bierze i co możemy z nim zrobić?”\nmgr Joanna Tarnowska\nKatedra Makroekonomii UEK \n\n\nZAREJESTRUJ SIĘ
URL:https://ud.uek.krakow.pl/wydarzenie/zajecia-dodatkowe-budzet-konsumenta-2/
LOCATION:Budynek Główny UEK\, sala 4\, ul. Rakowicka 27\, 31-510 Kraków
CATEGORIES:Grupa II (9–12 lat) - archiwum
ATTACH;FMTTYPE=image/jpeg:https://ud.uek.krakow.pl/wp-content/uploads/2021/11/budzet.jpg
ORGANIZER;CN="Uniwersytet Ekonomiczny w Krakowie":MAILTO:ud@uek.krakow.pl
END:VEVENT
BEGIN:VEVENT
DTSTART;TZID=Europe/Warsaw:20211204T103000
DTEND;TZID=Europe/Warsaw:20211204T113000
DTSTAMP:20260419T210855
CREATED:20211028T124231Z
LAST-MODIFIED:20220221T163507Z
UID:3203-1638613800-1638617400@ud.uek.krakow.pl
SUMMARY:Zajęcia dodatkowe: Warsztaty mikołajkowe. Drugie życie słoików. Zrób to sam!
DESCRIPTION:GRUPA II (9–12 LAT)\n„Warsztaty mikołajkowe. Drugie życie słoików. Zrób to sam!”\nKatarzyna Sabatowicz\nFreelancer \n\n\nZAREJESTRUJ SIĘ
URL:https://ud.uek.krakow.pl/wydarzenie/zajecia-dodatkowe-drugie-zycie-sloikow-2/
LOCATION:Budynek Główny UEK\, sala 1\, ul. Rakowicka 27\, 31-510 Kraków
CATEGORIES:Grupa II (9–12 lat) - archiwum
ATTACH;FMTTYPE=image/jpeg:https://ud.uek.krakow.pl/wp-content/uploads/2021/10/Swieta-swieta-scaled.jpg
ORGANIZER;CN="Uniwersytet Ekonomiczny w Krakowie":MAILTO:ud@uek.krakow.pl
END:VEVENT
BEGIN:VEVENT
DTSTART;TZID=Europe/Warsaw:20211120T130000
DTEND;TZID=Europe/Warsaw:20211120T140000
DTSTAMP:20260419T210855
CREATED:20211006T112246Z
LAST-MODIFIED:20220221T163441Z
UID:3088-1637413200-1637416800@ud.uek.krakow.pl
SUMMARY:Zajęcia dodatkowe:  Tenis ziemny
DESCRIPTION:Tenis ziemny\nStudium Wychowania Fizycznego i Sportu UEK \n  \n\n\nZAREJESTRUJ SIĘ
URL:https://ud.uek.krakow.pl/wydarzenie/zajecia-dodatkowe-tenis-ziemny-9/
LOCATION:Pawilon S\, hala sportowa\, ul. Rakowicka 27\, 31-510 Kraków
CATEGORIES:Grupa I (6-8 lat) - archiwum,Grupa II (9–12 lat) - archiwum
ATTACH;FMTTYPE=image/jpeg:https://ud.uek.krakow.pl/wp-content/uploads/2021/10/Tenis-scaled.jpg
ORGANIZER;CN="Uniwersytet Ekonomiczny w Krakowie":MAILTO:ud@uek.krakow.pl
END:VEVENT
BEGIN:VEVENT
DTSTART;TZID=Europe/Warsaw:20211120T114500
DTEND;TZID=Europe/Warsaw:20211120T123000
DTSTAMP:20260419T210855
CREATED:20211004T121654Z
LAST-MODIFIED:20220221T163414Z
UID:3027-1637408700-1637411400@ud.uek.krakow.pl
SUMMARY:Wykład:  Kto to jest polityk?
DESCRIPTION:GRUPA II (9–12 LAT)\n„Kto to jest polityk?”\ndr Jakub Kwaśny \nKatedra Międzynarodowych Stosunków Gospodarczych UEK
URL:https://ud.uek.krakow.pl/wydarzenie/wyklad-2/
LOCATION:Stara Aula w Budynku Głównym UEK\, ul. Rakowicka 27\, 31-510 Kraków
CATEGORIES:Grupa II (9–12 lat) - archiwum
ATTACH;FMTTYPE=image/jpeg:https://ud.uek.krakow.pl/wp-content/uploads/2021/10/swiat-2-scaled.jpg
ORGANIZER;CN="Uniwersytet Ekonomiczny w Krakowie":MAILTO:ud@uek.krakow.pl
END:VEVENT
BEGIN:VEVENT
DTSTART;TZID=Europe/Warsaw:20211120T114000
DTEND;TZID=Europe/Warsaw:20211120T124000
DTSTAMP:20260419T210855
CREATED:20211025T080006Z
LAST-MODIFIED:20220221T163345Z
UID:3167-1637408400-1637412000@ud.uek.krakow.pl
SUMMARY:Zajęcia dodatkowe: Jeden cukierek\, czy cała tabliczka czekolady. Jak podejmować dobre decyzje?
DESCRIPTION:Grupa I (6-8lat)\n„Jeden cukierek\, czy cała tabliczka czekolady. Jak podejmować dobre decyzje?”\nJan Machejek\nAkademia Ignatianum w Krakowie \n\n\nZAREJESTRUJ SIĘ
URL:https://ud.uek.krakow.pl/wydarzenie/zajecia-dodatkowe-jak-podejmowac-dobre-decyzje-2/
LOCATION:Budynek Główny UEK\, sala 1\, ul. Rakowicka 27\, 31-510 Kraków
CATEGORIES:Grupa I (6-8 lat) - archiwum
ATTACH;FMTTYPE=image/jpeg:https://ud.uek.krakow.pl/wp-content/uploads/2021/10/Trudne-decyzje-scaled.jpg
ORGANIZER;CN="Uniwersytet Ekonomiczny w Krakowie":MAILTO:ud@uek.krakow.pl
END:VEVENT
BEGIN:VEVENT
DTSTART;TZID=Europe/Warsaw:20211120T114000
DTEND;TZID=Europe/Warsaw:20211120T124000
DTSTAMP:20260419T210855
CREATED:20211005T111943Z
LAST-MODIFIED:20220221T163321Z
UID:3049-1637408400-1637412000@ud.uek.krakow.pl
SUMMARY:Zajęcia dodatkowe: Jak powstają reklamy?
DESCRIPTION:Grupa I (6-8lat)\n„Jak powstają reklamy?”\nmgr Kamila Pilch\nKatedra Zarządzania Organizacjami Publicznymi UEK \nPo co istnieją reklamy? Jak na nas działają? Kto je wymyśla? Nad tymi pytaniami będziemy zastanawiać się podczas warsztatów. Podczas zajęć uczniowie poznają różne rodzaje reklam oraz zasady ich tworzenia. Wypracujemy też kodeks dobrych praktyk\, na podstawie którego spróbujemy stworzyć własną reklamę. \n\n\nZAREJESTRUJ SIĘ
URL:https://ud.uek.krakow.pl/wydarzenie/zajecia-dodatkowe-reklamy-3/
LOCATION:Budynek Główny UEK\, sala 4\, ul. Rakowicka 27\, 31-510 Kraków
CATEGORIES:Grupa I (6-8 lat) - archiwum
ATTACH;FMTTYPE=image/jpeg:https://ud.uek.krakow.pl/wp-content/uploads/2021/10/Pojazd-scaled.jpg
ORGANIZER;CN="Uniwersytet Ekonomiczny w Krakowie":MAILTO:ud@uek.krakow.pl
END:VEVENT
BEGIN:VEVENT
DTSTART;TZID=Europe/Warsaw:20211120T104500
DTEND;TZID=Europe/Warsaw:20211120T113000
DTSTAMP:20260419T210855
CREATED:20211004T120417Z
LAST-MODIFIED:20220221T163233Z
UID:3023-1637405100-1637407800@ud.uek.krakow.pl
SUMMARY:Wykład:  Kto to jest polityk?
DESCRIPTION:Grupa I (6-8lat)\n„Kto to jest polityk?”\ndr Jakub Kwaśny \nKatedra Międzynarodowych Stosunków Gospodarczych UEK
URL:https://ud.uek.krakow.pl/wydarzenie/wyklad-polityk/
LOCATION:Stara Aula w Budynku Głównym UEK\, ul. Rakowicka 27\, 31-510 Kraków
CATEGORIES:Grupa I (6-8 lat) - archiwum
ATTACH;FMTTYPE=image/jpeg:https://ud.uek.krakow.pl/wp-content/uploads/2021/10/swiat-2-scaled.jpg
ORGANIZER;CN="Uniwersytet Ekonomiczny w Krakowie":MAILTO:ud@uek.krakow.pl
END:VEVENT
BEGIN:VEVENT
DTSTART;TZID=Europe/Warsaw:20211120T103000
DTEND;TZID=Europe/Warsaw:20211120T113000
DTSTAMP:20260419T210855
CREATED:20211025T075701Z
LAST-MODIFIED:20220221T163207Z
UID:3165-1637404200-1637407800@ud.uek.krakow.pl
SUMMARY:Zajęcia dodatkowe: Jeden cukierek\, czy cała tabliczka czekolady. Jak podejmować dobre decyzje?
DESCRIPTION:Grupa II (9-12lat)\n„Jeden cukierek\, czy cała tabliczka czekolady. Jak podejmować dobre decyzje?”\nJan Machejek\nAkademia Ignatianum w Krakowie \n\n\nZAREJESTRUJ SIĘ
URL:https://ud.uek.krakow.pl/wydarzenie/zajecia-dodatkowe-jak-podejmowac-dobre-decyzje/
LOCATION:Budynek Główny UEK\, sala 1\, ul. Rakowicka 27\, 31-510 Kraków
CATEGORIES:Grupa II (9–12 lat) - archiwum
ATTACH;FMTTYPE=image/jpeg:https://ud.uek.krakow.pl/wp-content/uploads/2021/10/Trudne-decyzje-scaled.jpg
ORGANIZER;CN="Uniwersytet Ekonomiczny w Krakowie":MAILTO:ud@uek.krakow.pl
END:VEVENT
BEGIN:VEVENT
DTSTART;TZID=Europe/Warsaw:20211120T103000
DTEND;TZID=Europe/Warsaw:20211120T113000
DTSTAMP:20260419T210855
CREATED:20211005T112033Z
LAST-MODIFIED:20220221T163110Z
UID:3051-1637404200-1637407800@ud.uek.krakow.pl
SUMMARY:Zajęcia dodatkowe:  Jak powstają reklamy?
DESCRIPTION:GRUPA II (9–12 LAT)\n„Jak powstają reklamy?”\nmgr Kamila Pilch\nKatedra Zarządzania Organizacjami Publicznymi UEK \nPo co istnieją reklamy? Jak na nas działają? Kto je wymyśla? Nad tymi pytaniami będziemy zastanawiać się podczas warsztatów. Podczas zajęć uczniowie poznają różne rodzaje reklam oraz zasady ich tworzenia. Wypracujemy też kodeks dobrych praktyk\, na podstawie którego spróbujemy stworzyć własną reklamę. \n\n\nZAREJESTRUJ SIĘ
URL:https://ud.uek.krakow.pl/wydarzenie/zajecia-dodatkowe-reklamy_2/
LOCATION:Budynek Główny UEK\, sala 4\, ul. Rakowicka 27\, 31-510 Kraków
CATEGORIES:Grupa II (9–12 lat) - archiwum
ATTACH;FMTTYPE=image/jpeg:https://ud.uek.krakow.pl/wp-content/uploads/2021/10/Pojazd-scaled.jpg
ORGANIZER;CN="Uniwersytet Ekonomiczny w Krakowie":MAILTO:ud@uek.krakow.pl
END:VEVENT
BEGIN:VEVENT
DTSTART;TZID=Europe/Warsaw:20211106T130000
DTEND;TZID=Europe/Warsaw:20211106T140000
DTSTAMP:20260419T210855
CREATED:20211006T112123Z
LAST-MODIFIED:20220221T163042Z
UID:3085-1636203600-1636207200@ud.uek.krakow.pl
SUMMARY:Zajęcia dodatkowe:  Tenis ziemny
DESCRIPTION:Tenis ziemny\nStudium Wychowania Fizycznego i Sportu UEK \n  \n\n\nZAREJESTRUJ SIĘ
URL:https://ud.uek.krakow.pl/wydarzenie/zajecia-dodatkowe-tenis-ziemny-8/
LOCATION:Pawilon S\, hala sportowa\, ul. Rakowicka 27\, 31-510 Kraków
CATEGORIES:Grupa I (6-8 lat) - archiwum,Grupa II (9–12 lat) - archiwum
ATTACH;FMTTYPE=image/jpeg:https://ud.uek.krakow.pl/wp-content/uploads/2021/10/Tenis-scaled.jpg
ORGANIZER;CN="Uniwersytet Ekonomiczny w Krakowie":MAILTO:ud@uek.krakow.pl
END:VEVENT
BEGIN:VEVENT
DTSTART;TZID=Europe/Warsaw:20211106T114500
DTEND;TZID=Europe/Warsaw:20211106T123000
DTSTAMP:20260419T210855
CREATED:20211004T115922Z
LAST-MODIFIED:20220221T163008Z
UID:3021-1636199100-1636201800@ud.uek.krakow.pl
SUMMARY:Wykład:  Kim jest prosument?
DESCRIPTION:GRUPA II (9–12 LAT)\n„Kim jest prosument?” \ndr Iryna Manczak\nKatedra Handlu i Instytucji Rynkowych UEK
URL:https://ud.uek.krakow.pl/wydarzenie/wyklad-prosument-2/
LOCATION:Stara Aula w Budynku Głównym UEK\, ul. Rakowicka 27\, 31-510 Kraków
CATEGORIES:Grupa II (9–12 lat) - archiwum
ATTACH;FMTTYPE=image/jpeg:https://ud.uek.krakow.pl/wp-content/uploads/2021/10/fake-newsy.jpg
ORGANIZER;CN="Uniwersytet Ekonomiczny w Krakowie":MAILTO:ud@uek.krakow.pl
END:VEVENT
BEGIN:VEVENT
DTSTART;TZID=Europe/Warsaw:20211106T114000
DTEND;TZID=Europe/Warsaw:20211106T124000
DTSTAMP:20260419T210855
CREATED:20211013T135905Z
LAST-MODIFIED:20220221T162945Z
UID:3118-1636198800-1636202400@ud.uek.krakow.pl
SUMMARY:Zajęcia dodatkowe: Umiejętność wyrażania własnego zdania\, czyli ćwiczenia z asertywności
DESCRIPTION:Grupa I (6-8lat)\n„Umiejętność wyrażania własnego zdania\, czyli ćwiczenia z asertywności.”\ndr Anna Dolot\nKatedra Zarządzania Zasobami Pracy UEK \n\n\nZAREJESTRUJ SIĘ
URL:https://ud.uek.krakow.pl/wydarzenie/zajecia-dodatkowe-asertywnosc/
LOCATION:Budynek Główny UEK\, sala 1\, ul. Rakowicka 27\, 31-510 Kraków
CATEGORIES:Grupa I (6-8 lat) - archiwum
ATTACH;FMTTYPE=image/jpeg:https://ud.uek.krakow.pl/wp-content/uploads/2021/10/Komunikacja-scaled.jpg
ORGANIZER;CN="Uniwersytet Ekonomiczny w Krakowie":MAILTO:ud@uek.krakow.pl
END:VEVENT
END:VCALENDAR