BEGIN:VCALENDAR
VERSION:2.0
PRODID:-//Uniwersytet Dziecięcy Uniwersytetu Ekonomicznego w Krakowie - ECPv6.15.20//NONSGML v1.0//EN
CALSCALE:GREGORIAN
METHOD:PUBLISH
X-ORIGINAL-URL:https://ud.uek.krakow.pl
X-WR-CALDESC:Wydarzenia dla Uniwersytet Dziecięcy Uniwersytetu Ekonomicznego w Krakowie
REFRESH-INTERVAL;VALUE=DURATION:PT1H
X-Robots-Tag:noindex
X-PUBLISHED-TTL:PT1H
BEGIN:VTIMEZONE
TZID:Europe/Warsaw
BEGIN:DAYLIGHT
TZOFFSETFROM:+0100
TZOFFSETTO:+0200
TZNAME:CEST
DTSTART:20190331T010000
END:DAYLIGHT
BEGIN:STANDARD
TZOFFSETFROM:+0200
TZOFFSETTO:+0100
TZNAME:CET
DTSTART:20191027T010000
END:STANDARD
BEGIN:DAYLIGHT
TZOFFSETFROM:+0100
TZOFFSETTO:+0200
TZNAME:CEST
DTSTART:20200329T010000
END:DAYLIGHT
BEGIN:STANDARD
TZOFFSETFROM:+0200
TZOFFSETTO:+0100
TZNAME:CET
DTSTART:20201025T010000
END:STANDARD
BEGIN:DAYLIGHT
TZOFFSETFROM:+0100
TZOFFSETTO:+0200
TZNAME:CEST
DTSTART:20210328T010000
END:DAYLIGHT
BEGIN:STANDARD
TZOFFSETFROM:+0200
TZOFFSETTO:+0100
TZNAME:CET
DTSTART:20211031T010000
END:STANDARD
BEGIN:DAYLIGHT
TZOFFSETFROM:+0100
TZOFFSETTO:+0200
TZNAME:CEST
DTSTART:20220327T010000
END:DAYLIGHT
BEGIN:STANDARD
TZOFFSETFROM:+0200
TZOFFSETTO:+0100
TZNAME:CET
DTSTART:20221030T010000
END:STANDARD
END:VTIMEZONE
BEGIN:VEVENT
DTSTART;TZID=Europe/Warsaw:20210424T113000
DTEND;TZID=Europe/Warsaw:20210424T121500
DTSTAMP:20260420T081526
CREATED:20210226T142814Z
LAST-MODIFIED:20211004T122222Z
UID:2864-1619263800-1619266500@ud.uek.krakow.pl
SUMMARY:Wykład:  Fake newsy.
DESCRIPTION:GRUPA II (9–12 LAT)\n„Fake newsy.” \ndr Iryna Manczak\nKatedra Handlu i Instytucji Rynkowych UEK
URL:https://ud.uek.krakow.pl/wydarzenie/wyklad-fake-newsy-2/
LOCATION:zajęcia online
CATEGORIES:Grupa II (9–12 lat) - archiwum
ATTACH;FMTTYPE=image/jpeg:https://ud.uek.krakow.pl/wp-content/uploads/2019/10/polityk.jpg
ORGANIZER;CN="Uniwersytet Ekonomiczny w Krakowie":MAILTO:ud@uek.krakow.pl
END:VEVENT
BEGIN:VEVENT
DTSTART;TZID=Europe/Warsaw:20210424T103000
DTEND;TZID=Europe/Warsaw:20210424T111500
DTSTAMP:20260420T081526
CREATED:20210226T143023Z
LAST-MODIFIED:20211004T122259Z
UID:2866-1619260200-1619262900@ud.uek.krakow.pl
SUMMARY:Wykład:  Fake newsy.
DESCRIPTION:Grupa I (6-8lat)\n„Fake newsy.”\ndr Iryna Manczak\nKatedra Handlu i Instytucji Rynkowych UEK
URL:https://ud.uek.krakow.pl/wydarzenie/wyklad-fake-newsy/
LOCATION:zajęcia online
CATEGORIES:Grupa I (6-8 lat) - archiwum
ATTACH;FMTTYPE=image/jpeg:https://ud.uek.krakow.pl/wp-content/uploads/2019/10/polityk.jpg
ORGANIZER;CN="Uniwersytet Ekonomiczny w Krakowie":MAILTO:ud@uek.krakow.pl
END:VEVENT
BEGIN:VEVENT
DTSTART;TZID=Europe/Warsaw:20210424T101500
DTEND;TZID=Europe/Warsaw:20210424T111500
DTSTAMP:20260420T081526
CREATED:20210301T135642Z
LAST-MODIFIED:20211004T122323Z
UID:2896-1619259300-1619262900@ud.uek.krakow.pl
SUMMARY:Zajęcia dodatkowe:  „Jak skutecznie zaprezentować siebie?”
DESCRIPTION:GRUPA II (9–12 LAT)\n„Jak skutecznie zaprezentować siebie?”\nmgr Kamila Pilch\nKatedra Zarządzania Organizacjami Publicznymi UEK \n\n\nZAREJESTRUJ SIĘ
URL:https://ud.uek.krakow.pl/wydarzenie/zajecia-dodatkowe-jak-skutecznie-zaprezentowac-siebie-2/
LOCATION:zajęcia online
CATEGORIES:Grupa II (9–12 lat) - archiwum
ATTACH;FMTTYPE=image/jpeg:https://ud.uek.krakow.pl/wp-content/uploads/2019/10/zycie-spoleczne.jpg
ORGANIZER;CN="Uniwersytet Ekonomiczny w Krakowie":MAILTO:ud@uek.krakow.pl
END:VEVENT
BEGIN:VEVENT
DTSTART;TZID=Europe/Warsaw:20210410T113000
DTEND;TZID=Europe/Warsaw:20210410T123000
DTSTAMP:20260420T081526
CREATED:20210301T102554Z
LAST-MODIFIED:20211004T122356Z
UID:2887-1618054200-1618057800@ud.uek.krakow.pl
SUMMARY:Zajęcia dodatkowe: „Fiku miku na języku.”
DESCRIPTION:Grupa I (6-8lat)\n„Fiku miku na języku.”\ndr Paweł Turek\nKatedra Jakości i Bezpieczeństwa Produktów Przemysłowych UEK\, Pracownia Analizy Sensorycznej \n\n\nZAREJESTRUJ SIĘ
URL:https://ud.uek.krakow.pl/wydarzenie/zajecia-dodatkowe-fiku-miku-na-jezyku/
LOCATION:zajęcia online
CATEGORIES:Grupa I (6-8 lat) - archiwum
ATTACH;FMTTYPE=image/jpeg:https://ud.uek.krakow.pl/wp-content/uploads/2019/10/lemoniada.jpg
ORGANIZER;CN="Uniwersytet Ekonomiczny w Krakowie":MAILTO:ud@uek.krakow.pl
END:VEVENT
BEGIN:VEVENT
DTSTART;TZID=Europe/Warsaw:20210410T113000
DTEND;TZID=Europe/Warsaw:20210410T121500
DTSTAMP:20260420T081526
CREATED:20210226T142343Z
LAST-MODIFIED:20211004T122428Z
UID:2860-1618054200-1618056900@ud.uek.krakow.pl
SUMMARY:Wykład:  Świat się zmienia.
DESCRIPTION:GRUPA II (9–12 LAT)\n„Świat się zmienia.” \ndr Iryna Manczak\nKatedra Handlu i Instytucji Rynkowych UEK
URL:https://ud.uek.krakow.pl/wydarzenie/wyklad-swiat-sie-zmienia-2/
LOCATION:zajęcia online
CATEGORIES:Grupa II (9–12 lat) - archiwum
ATTACH;FMTTYPE=image/jpeg:https://ud.uek.krakow.pl/wp-content/uploads/2019/10/slimak.jpg
ORGANIZER;CN="Uniwersytet Ekonomiczny w Krakowie":MAILTO:ud@uek.krakow.pl
END:VEVENT
BEGIN:VEVENT
DTSTART;TZID=Europe/Warsaw:20210410T103000
DTEND;TZID=Europe/Warsaw:20210410T111500
DTSTAMP:20260420T081526
CREATED:20210226T142611Z
LAST-MODIFIED:20211004T122546Z
UID:2862-1618050600-1618053300@ud.uek.krakow.pl
SUMMARY:Wykład:  Świat się zmienia.
DESCRIPTION:Grupa I (6-8lat)\n„Świat się zmienia.”\ndr Iryna Manczak\nKatedra Handlu i Instytucji Rynkowych UEK
URL:https://ud.uek.krakow.pl/wydarzenie/wyklad-swiat-sie-zmienia/
LOCATION:zajęcia online
CATEGORIES:Grupa I (6-8 lat) - archiwum
ATTACH;FMTTYPE=image/jpeg:https://ud.uek.krakow.pl/wp-content/uploads/2019/10/slimak.jpg
ORGANIZER;CN="Uniwersytet Ekonomiczny w Krakowie":MAILTO:ud@uek.krakow.pl
END:VEVENT
BEGIN:VEVENT
DTSTART;TZID=Europe/Warsaw:20210410T101500
DTEND;TZID=Europe/Warsaw:20210410T111500
DTSTAMP:20260420T081526
CREATED:20210301T103321Z
LAST-MODIFIED:20211004T122615Z
UID:2891-1618049700-1618053300@ud.uek.krakow.pl
SUMMARY:Zajęcia dodatkowe:  „Fiku miku na języku.”
DESCRIPTION:GRUPA II (9–12 LAT)\n„Fiku miku na języku.”\ndr Paweł Turek\nKatedra Jakości i Bezpieczeństwa Produktów Przemysłowych UEK\, Pracownia Analizy Sensorycznej \n\n\nZAREJESTRUJ SIĘ
URL:https://ud.uek.krakow.pl/wydarzenie/zajecia-dodatkowe-fiku-miku-2/
LOCATION:zajęcia online
CATEGORIES:Grupa II (9–12 lat) - archiwum
ATTACH;FMTTYPE=image/jpeg:https://ud.uek.krakow.pl/wp-content/uploads/2019/10/lemoniada.jpg
ORGANIZER;CN="Uniwersytet Ekonomiczny w Krakowie":MAILTO:ud@uek.krakow.pl
END:VEVENT
BEGIN:VEVENT
DTSTART;TZID=Europe/Warsaw:20210320T113000
DTEND;TZID=Europe/Warsaw:20210320T123000
DTSTAMP:20260420T081526
CREATED:20210301T094137Z
LAST-MODIFIED:20211004T122656Z
UID:2883-1616239800-1616243400@ud.uek.krakow.pl
SUMMARY:Zajęcia dodatkowe: „Czy design rozwiąże problemy społeczne?”
DESCRIPTION:Grupa I (6-8lat)\n„Czy design rozwiąże problemy społeczne?”\ndr Katarzyna Kwarcińska\nKatedra Socjologii UEK \nPodczas warsztatów dzieci poznają różne typy problemów społecznych i przykłady projektowania rozwiązań lepiej dostosowanych do potrzeb społecznych. Podczas zajęć stworzą prototypy rozwiązań dla problemów\, z którymi na co dzień stykają się różne grupy ludzi.\n(Do realizowania zadania w warsztacie będą potrzebne materiały plastyczne). \n\n\nZAREJESTRUJ SIĘ
URL:https://ud.uek.krakow.pl/wydarzenie/zajecia-dodatkowe-problemy-spoleczne/
LOCATION:zajęcia online
CATEGORIES:Grupa I (6-8 lat) - archiwum
ATTACH;FMTTYPE=image/jpeg:https://ud.uek.krakow.pl/wp-content/uploads/2019/10/japonczyk-przyjazn.jpg
ORGANIZER;CN="Uniwersytet Ekonomiczny w Krakowie":MAILTO:ud@uek.krakow.pl
END:VEVENT
BEGIN:VEVENT
DTSTART;TZID=Europe/Warsaw:20210320T113000
DTEND;TZID=Europe/Warsaw:20210320T121500
DTSTAMP:20260420T081526
CREATED:20210226T140856Z
LAST-MODIFIED:20211004T122835Z
UID:2854-1616239800-1616242500@ud.uek.krakow.pl
SUMMARY:Wykład: Reklamowy zawrót głowy\, czyli o tym jak i kiedy reklama na nas wpływa?
DESCRIPTION:GRUPA II (9–12 LAT)\n„Reklamowy zawrót głowy\, czyli o tym jak i kiedy reklama na nas wpływa?”\ndr Katarzyna Sanak-Kosmowska\nKatedra Marketingu UEK
URL:https://ud.uek.krakow.pl/wydarzenie/wyklad-reklamowy-zawrot-glowy-2/
LOCATION:zajęcia online
CATEGORIES:Grupa II (9–12 lat) - archiwum
ATTACH;FMTTYPE=image/jpeg:https://ud.uek.krakow.pl/wp-content/uploads/2019/10/marketing.jpg
ORGANIZER;CN="Uniwersytet Ekonomiczny w Krakowie":MAILTO:ud@uek.krakow.pl
END:VEVENT
BEGIN:VEVENT
DTSTART;TZID=Europe/Warsaw:20210320T103000
DTEND;TZID=Europe/Warsaw:20210320T111500
DTSTAMP:20260420T081526
CREATED:20210226T140328Z
LAST-MODIFIED:20211004T122935Z
UID:2851-1616236200-1616238900@ud.uek.krakow.pl
SUMMARY:Wykład:  Reklamowy zawrót głowy\, czyli o tym jak i kiedy reklama na nas wpływa?
DESCRIPTION:Grupa I (6-8lat)\n„Reklamowy zawrót głowy\, czyli o tym jak i kiedy reklama na nas wpływa?”\ndr Katarzyna Sanak-Kosmowska\nKatedra Marketingu UEK
URL:https://ud.uek.krakow.pl/wydarzenie/wyklad-reklamowy-zawrot-glowy/
LOCATION:zajęcia online
CATEGORIES:Grupa I (6-8 lat) - archiwum
ATTACH;FMTTYPE=image/jpeg:https://ud.uek.krakow.pl/wp-content/uploads/2019/10/marketing.jpg
ORGANIZER;CN="Uniwersytet Ekonomiczny w Krakowie":MAILTO:ud@uek.krakow.pl
END:VEVENT
BEGIN:VEVENT
DTSTART;TZID=Europe/Warsaw:20210320T101500
DTEND;TZID=Europe/Warsaw:20210320T111500
DTSTAMP:20260420T081526
CREATED:20210301T095416Z
LAST-MODIFIED:20211004T123010Z
UID:2885-1616235300-1616238900@ud.uek.krakow.pl
SUMMARY:Zajęcia dodatkowe:  „Czy design rozwiąże problemy społeczne?”
DESCRIPTION:GRUPA II (9–12 LAT)\n„Czy design rozwiąże problemy społeczne?”\ndr Katarzyna Kwarcińska\nKatedra Socjologii UEK \nPodczas warsztatów dzieci poznają różne typy problemów społecznych i przykłady projektowania rozwiązań lepiej dostosowanych do potrzeb społecznych. Podczas zajęć stworzą prototypy rozwiązań dla problemów\, z którymi na co dzień stykają się różne grupy ludzi.\n(Do realizowania zadania w warsztacie będą potrzebne materiały plastyczne). \n\n\nZAREJESTRUJ SIĘ
URL:https://ud.uek.krakow.pl/wydarzenie/zajecia-dodatkowe-problemy-spolecze-2/
LOCATION:zajęcia online
CATEGORIES:Grupa II (9–12 lat) - archiwum
ATTACH;FMTTYPE=image/jpeg:https://ud.uek.krakow.pl/wp-content/uploads/2019/10/japonczyk-przyjazn.jpg
ORGANIZER;CN="Uniwersytet Ekonomiczny w Krakowie":MAILTO:ud@uek.krakow.pl
END:VEVENT
BEGIN:VEVENT
DTSTART;TZID=Europe/Warsaw:20210306T113000
DTEND;TZID=Europe/Warsaw:20210306T123000
DTSTAMP:20260420T081526
CREATED:20210301T090532Z
LAST-MODIFIED:20211004T123104Z
UID:2877-1615030200-1615033800@ud.uek.krakow.pl
SUMMARY:Zajęcia dodatkowe: „Człowiek jako istota społeczna.”
DESCRIPTION:Grupa I (6-8lat)\n„Człowiek jako istota społeczna.”\nmgr Kamila Pilch\nKatedra Zarządzania Organizacjami Publicznymi UEK \nWszystkich nas można nazwać istotami społecznymi. Należymy do wielu różnych grup i każdy z nas ma potrzebę budowania więzi z innymi.\nPodczas zajęć będziemy zastanawiać się nad tym\, co to znaczy być częścią społeczeństwa oraz jak inni wpływają na nas i nasze zachowanie. W trakcie spotkania studenci zapoznają się z kategoriami takimi jak: „grupa społeczna” czy „rola społeczna” oraz poznają różne reguły dotyczące wpływu społecznego \n\n\nZAREJESTRUJ SIĘ
URL:https://ud.uek.krakow.pl/wydarzenie/zajecia-dodatkowe-czlowiek-jako-istota-spoleczna/
LOCATION:zajęcia online
CATEGORIES:Grupa I (6-8 lat) - archiwum
ATTACH;FMTTYPE=image/jpeg:https://ud.uek.krakow.pl/wp-content/uploads/2019/10/wiezowiec.jpg
ORGANIZER;CN="Uniwersytet Ekonomiczny w Krakowie":MAILTO:ud@uek.krakow.pl
END:VEVENT
BEGIN:VEVENT
DTSTART;TZID=Europe/Warsaw:20210306T113000
DTEND;TZID=Europe/Warsaw:20210306T121500
DTSTAMP:20260420T081526
CREATED:20210226T141338Z
LAST-MODIFIED:20211004T123140Z
UID:2856-1615030200-1615032900@ud.uek.krakow.pl
SUMMARY:Wykład:  Ile kosztuje bezcenne dzieło sztuki?
DESCRIPTION:GRUPA II (9–12 LAT)\n„Ile kosztuje bezcenne dzieło sztuki?”\ndr Katarzyna Kwarcińska\nKatedra Socjologii UEK
URL:https://ud.uek.krakow.pl/wydarzenie/wyklad-dzielo-sztuki-2/
LOCATION:zajęcia online
CATEGORIES:Grupa II (9–12 lat) - archiwum
ATTACH;FMTTYPE=image/jpeg:https://ud.uek.krakow.pl/wp-content/uploads/2019/10/japonczyk-przyjazn.jpg
ORGANIZER;CN="Uniwersytet Ekonomiczny w Krakowie":MAILTO:ud@uek.krakow.pl
END:VEVENT
BEGIN:VEVENT
DTSTART;TZID=Europe/Warsaw:20210306T103000
DTEND;TZID=Europe/Warsaw:20210306T111500
DTSTAMP:20260420T081526
CREATED:20210226T142053Z
LAST-MODIFIED:20211004T123217Z
UID:2858-1615026600-1615029300@ud.uek.krakow.pl
SUMMARY:Wykład:  Ile kosztuje bezcenne dzieło sztuki?
DESCRIPTION:Grupa I (6-8lat)\n„Ile kosztuje bezcenne dzieło sztuki?”\ndr Katarzyna Kwarcińska\nKatedra Socjologii UEK
URL:https://ud.uek.krakow.pl/wydarzenie/wyklad-dzielo-sztuki/
LOCATION:zajęcia online
CATEGORIES:Grupa I (6-8 lat) - archiwum
ATTACH;FMTTYPE=image/jpeg:https://ud.uek.krakow.pl/wp-content/uploads/2019/10/japonczyk-przyjazn.jpg
ORGANIZER;CN="Uniwersytet Ekonomiczny w Krakowie":MAILTO:ud@uek.krakow.pl
END:VEVENT
BEGIN:VEVENT
DTSTART;TZID=Europe/Warsaw:20210306T101500
DTEND;TZID=Europe/Warsaw:20210306T111500
DTSTAMP:20260420T081526
CREATED:20210301T091634Z
LAST-MODIFIED:20211004T123245Z
UID:2880-1615025700-1615029300@ud.uek.krakow.pl
SUMMARY:Zajęcia dodatkowe:  „Człowiek jako istota społeczna.”
DESCRIPTION:GRUPA II (9–12 LAT)\n„Człowiek jako istota społeczna.”\nmgr Kamila Pilch\nKatedra Zarządzania Organizacjami Publicznymi UEK \nWszystkich nas można nazwać istotami społecznymi. Należymy do wielu różnych grup i każdy z nas ma potrzebę budowania więzi z innymi.\nPodczas zajęć będziemy zastanawiać się nad tym\, co to znaczy być częścią społeczeństwa oraz jak inni wpływają na nas i nasze zachowanie. W trakcie spotkania studenci zapoznają się z kategoriami takimi jak: „grupa społeczna” czy „rola społeczna” oraz poznają różne reguły dotyczące wpływu społecznego \n\n\nZAREJESTRUJ SIĘ
URL:https://ud.uek.krakow.pl/wydarzenie/zajecia-dodatkowe-czlowiek-jako-istota-spoleczna-2/
LOCATION:zajęcia online
CATEGORIES:Grupa II (9–12 lat) - archiwum
ATTACH;FMTTYPE=image/jpeg:https://ud.uek.krakow.pl/wp-content/uploads/2019/10/wiezowiec.jpg
ORGANIZER;CN="Uniwersytet Ekonomiczny w Krakowie":MAILTO:ud@uek.krakow.pl
END:VEVENT
BEGIN:VEVENT
DTSTART;TZID=Europe/Warsaw:20210130T113000
DTEND;TZID=Europe/Warsaw:20210130T123000
DTSTAMP:20260420T081526
CREATED:20201026T131847Z
LAST-MODIFIED:20210226T143543Z
UID:2773-1612006200-1612009800@ud.uek.krakow.pl
SUMMARY:Zajęcia dodatkowe: „Ważne sprawy społeczności lokalnej.”
DESCRIPTION:Grupa I (6-8lat)\n„Ważne sprawy społeczności lokalnej.”\ndr Iryna Manczak\nKatedra Handlu i Instytucji Rynkowych UEK \nCelem warsztatów będzie zapoznanie słuchaczy z wybranymi działaniami\, które są kluczowe dla rozwoju społeczności lokalnej. Uczestnicy zajęć zastanowią się nad sposobami poznawania społeczności lokalnej oraz jej zasobów. Zostanie zwrócona uwaga na takie zagadnienia jak tożsamość lokalna\, wolontariat oraz przedsiębiorczość społeczna. \n\n\nZAREJESTRUJ SIĘ
URL:https://ud.uek.krakow.pl/wydarzenie/zajecia-dodatkowe-spolecznosc-lokalna/
LOCATION:zajęcia online
CATEGORIES:Grupa I (6-8 lat) - archiwum
ATTACH;FMTTYPE=image/jpeg:https://ud.uek.krakow.pl/wp-content/uploads/2019/10/marketing.jpg
ORGANIZER;CN="Uniwersytet Ekonomiczny w Krakowie":MAILTO:ud@uek.krakow.pl
END:VEVENT
BEGIN:VEVENT
DTSTART;TZID=Europe/Warsaw:20210130T113000
DTEND;TZID=Europe/Warsaw:20210130T121500
DTSTAMP:20260420T081526
CREATED:20201013T121924Z
LAST-MODIFIED:20210226T143622Z
UID:2712-1612006200-1612008900@ud.uek.krakow.pl
SUMMARY:Wykład:  Zmiany wokół nas.
DESCRIPTION:GRUPA II (9–12 LAT)\n„Zmiany wokół nas.” \nmgr Anna Mirzyńska\nKatedra Zarządzania Organizacjami Publicznymi UEK
URL:https://ud.uek.krakow.pl/wydarzenie/wyklad-zmiany-wokol-nas/
LOCATION:zajęcia online
CATEGORIES:Grupa II (9–12 lat) - archiwum
ATTACH;FMTTYPE=image/jpeg:https://ud.uek.krakow.pl/wp-content/uploads/2019/10/slimak.jpg
ORGANIZER;CN="Uniwersytet Ekonomiczny w Krakowie":MAILTO:ud@uek.krakow.pl
END:VEVENT
BEGIN:VEVENT
DTSTART;TZID=Europe/Warsaw:20210130T103000
DTEND;TZID=Europe/Warsaw:20210130T111500
DTSTAMP:20260420T081526
CREATED:20201013T121632Z
LAST-MODIFIED:20210226T143712Z
UID:2710-1612002600-1612005300@ud.uek.krakow.pl
SUMMARY:Wykład:  Zmiany wokół nas.
DESCRIPTION:Grupa I (6-8lat)\n„Zmiany wokół nas.”\nmgr Anna Mirzyńska\nKatedra Zarządzania Organizacjami Publicznymi UEK
URL:https://ud.uek.krakow.pl/wydarzenie/zmiany-wokol-nas/
LOCATION:zajęcia online
CATEGORIES:Grupa I (6-8 lat) - archiwum
ATTACH;FMTTYPE=image/jpeg:https://ud.uek.krakow.pl/wp-content/uploads/2019/10/slimak.jpg
ORGANIZER;CN="Uniwersytet Ekonomiczny w Krakowie":MAILTO:ud@uek.krakow.pl
END:VEVENT
BEGIN:VEVENT
DTSTART;TZID=Europe/Warsaw:20210130T101500
DTEND;TZID=Europe/Warsaw:20210130T111500
DTSTAMP:20260420T081526
CREATED:20201026T132259Z
LAST-MODIFIED:20210226T144046Z
UID:2777-1612001700-1612005300@ud.uek.krakow.pl
SUMMARY:Zajęcia dodatkowe:  „Ważne sprawy społeczności lokalnej.”
DESCRIPTION:GRUPA II (9–12 LAT)\n„Ważne sprawy społeczności lokalnej.”\ndr Iryna Manczak\nKatedra Handlu i Instytucji Rynkowych UEK \nCelem warsztatów będzie zapoznanie słuchaczy z wybranymi działaniami\, które są kluczowe dla rozwoju społeczności lokalnej. Uczestnicy zajęć zastanowią się nad sposobami poznawania społeczności lokalnej oraz jej zasobów. Zostanie zwrócona uwaga na takie zagadnienia jak tożsamość lokalna\, wolontariat oraz przedsiębiorczość społeczna. \n  \n\n\nZAREJESTRUJ SIĘ
URL:https://ud.uek.krakow.pl/wydarzenie/zajecia-dodatkowe-wazne-sprawy-spolecznosci-lokalnej/
LOCATION:zajęcia online
CATEGORIES:Grupa II (9–12 lat) - archiwum
ATTACH;FMTTYPE=image/jpeg:https://ud.uek.krakow.pl/wp-content/uploads/2019/10/marketing.jpg
ORGANIZER;CN="Uniwersytet Ekonomiczny w Krakowie":MAILTO:ud@uek.krakow.pl
END:VEVENT
BEGIN:VEVENT
DTSTART;TZID=Europe/Warsaw:20210116T113000
DTEND;TZID=Europe/Warsaw:20210116T123000
DTSTAMP:20260420T081526
CREATED:20201022T132655Z
LAST-MODIFIED:20210226T144155Z
UID:2760-1610796600-1610800200@ud.uek.krakow.pl
SUMMARY:Zajęcia dodatkowe: „Jak powstają reklamy?”
DESCRIPTION:Grupa I (6-8lat)\n„Jak powstają reklamy?”\nmgr Kamila Pilch\nKatedra Zarządzania Organizacjami Publicznymi UEK \nZ reklamą spotykamy się każdego dnia w bardzo wielu codziennych sytuacjach. Podczas warsztatów uczniowie poznają różne rodzaje reklam\, zasady ich tworzenia oraz sposoby\, w jakie oddziałują na odbiorców. Dyskusji będzie towarzyszyć pytanie: czy reklama to sprzedawanie marzeń? Na podstawie wspólnie wypracowanych dobrych praktyk tworzenia reklam uczniowie będą opracowywali własne przekazy reklamowe. \n\n\nZAREJESTRUJ SIĘ
URL:https://ud.uek.krakow.pl/wydarzenie/zajecia-dodatkowe-reklamy/
LOCATION:zajęcia online
CATEGORIES:Grupa I (6-8 lat) - archiwum
ATTACH;FMTTYPE=image/jpeg:https://ud.uek.krakow.pl/wp-content/uploads/2019/10/marketing.jpg
ORGANIZER;CN="Uniwersytet Ekonomiczny w Krakowie":MAILTO:ud@uek.krakow.pl
END:VEVENT
BEGIN:VEVENT
DTSTART;TZID=Europe/Warsaw:20210116T113000
DTEND;TZID=Europe/Warsaw:20210116T121500
DTSTAMP:20260420T081526
CREATED:20201009T135006Z
LAST-MODIFIED:20210226T144250Z
UID:2678-1610796600-1610799300@ud.uek.krakow.pl
SUMMARY:Wykład: Jak klienci zachowują się na rynku?
DESCRIPTION:GRUPA II (9–12 LAT)\n„Jak klienci zachowują się na rynku?”\ndr Iryna Manczak\nKatedra Handlu i Instytucji Rynkowych UEK
URL:https://ud.uek.krakow.pl/wydarzenie/wyklad-jak-klienci-zachowuja-sie-na-rynku-3/
LOCATION:zajęcia online
CATEGORIES:Grupa II (9–12 lat) - archiwum
ATTACH;FMTTYPE=image/jpeg:https://ud.uek.krakow.pl/wp-content/uploads/2019/10/zysk-strata.jpg
ORGANIZER;CN="Uniwersytet Ekonomiczny w Krakowie":MAILTO:ud@uek.krakow.pl
END:VEVENT
BEGIN:VEVENT
DTSTART;TZID=Europe/Warsaw:20210116T103000
DTEND;TZID=Europe/Warsaw:20210116T111500
DTSTAMP:20260420T081526
CREATED:20201009T135227Z
LAST-MODIFIED:20210226T144322Z
UID:2680-1610793000-1610795700@ud.uek.krakow.pl
SUMMARY:Wykład:  Jak klienci zachowują się na rynku?
DESCRIPTION:Grupa I (6-8lat)\n„Jak klienci zachowują się na rynku?”\ndr Iryna Manczak\nKatedra Handlu i Instytucji Rynkowych UEK
URL:https://ud.uek.krakow.pl/wydarzenie/wyklad-jak-klienci-zachowuja-sie-na-rynku-4/
LOCATION:zajęcia online
CATEGORIES:Grupa I (6-8 lat) - archiwum
ATTACH;FMTTYPE=image/jpeg:https://ud.uek.krakow.pl/wp-content/uploads/2019/10/zysk-strata.jpg
ORGANIZER;CN="Uniwersytet Ekonomiczny w Krakowie":MAILTO:ud@uek.krakow.pl
END:VEVENT
BEGIN:VEVENT
DTSTART;TZID=Europe/Warsaw:20210116T101500
DTEND;TZID=Europe/Warsaw:20210116T111500
DTSTAMP:20260420T081526
CREATED:20201022T133251Z
LAST-MODIFIED:20210226T144354Z
UID:2762-1610792100-1610795700@ud.uek.krakow.pl
SUMMARY:Zajęcia dodatkowe:  „Jak powstają reklamy?”
DESCRIPTION:GRUPA II (9–12 LAT)\n„Jak powstają reklamy?”\nmgr Kamila Pilch\nKatedra Zarządzania Organizacjami Publicznymi UEK \nZ reklamą spotykamy się każdego dnia w bardzo wielu codziennych sytuacjach. Podczas warsztatów uczniowie poznają różne rodzaje reklam\, zasady ich tworzenia oraz sposoby\, w jakie oddziałują na odbiorców. Dyskusji będzie towarzyszyć pytanie: czy reklama to sprzedawanie marzeń? Na podstawie wspólnie wypracowanych dobrych praktyk tworzenia reklam uczniowie będą opracowywali własne przekazy reklamowe. \n\n\nZAREJESTRUJ SIĘ
URL:https://ud.uek.krakow.pl/wydarzenie/zajecia-dodatkowe-reklamy-2/
LOCATION:zajęcia online
CATEGORIES:Grupa II (9–12 lat) - archiwum
ATTACH;FMTTYPE=image/jpeg:https://ud.uek.krakow.pl/wp-content/uploads/2019/10/marketing.jpg
ORGANIZER;CN="Uniwersytet Ekonomiczny w Krakowie":MAILTO:ud@uek.krakow.pl
END:VEVENT
BEGIN:VEVENT
DTSTART;TZID=Europe/Warsaw:20201205T113000
DTEND;TZID=Europe/Warsaw:20201205T123000
DTSTAMP:20260420T081526
CREATED:20201022T131606Z
LAST-MODIFIED:20210226T144430Z
UID:2756-1607167800-1607171400@ud.uek.krakow.pl
SUMMARY:Zajęcia dodatkowe: „Kulturalnie o kulturach.”
DESCRIPTION:Grupa I (6-8lat)\n„Kulturalnie o kulturach.”\nmgr Kamila Pilch\nKatedra Zarządzania Organizacjami Publicznymi UEK \nTematem warsztatów będzie świat różnorodności kulturowej. Uczniowie biorąc udział w różnych aktywnościach dowiedzą się czym jest kultura oraz poznają normy i obyczaje panujące w różnych kręgach cywilizacyjnych. Będziemy zastanawiać się dlaczego warto być tolerancyjnym oraz jak będzie wyglądać kultura przyszłości. \n  \n\n\nZAREJESTRUJ SIĘ
URL:https://ud.uek.krakow.pl/wydarzenie/zajecia-dodatkowe-kulturalnie-o-kulturach/
LOCATION:zajęcia online
CATEGORIES:Grupa I (6-8 lat) - archiwum
ATTACH;FMTTYPE=image/jpeg:https://ud.uek.krakow.pl/wp-content/uploads/2019/10/japonczyk-przyjazn.jpg
ORGANIZER;CN="Uniwersytet Ekonomiczny w Krakowie":MAILTO:ud@uek.krakow.pl
END:VEVENT
BEGIN:VEVENT
DTSTART;TZID=Europe/Warsaw:20201205T113000
DTEND;TZID=Europe/Warsaw:20201205T121500
DTSTAMP:20260420T081526
CREATED:20201009T140659Z
LAST-MODIFIED:20210226T144507Z
UID:2689-1607167800-1607170500@ud.uek.krakow.pl
SUMMARY:Wykład:  Z czym kojarzy Ci się słowo "kultura"?
DESCRIPTION:GRUPA II (9–12 LAT)\n„Z czym kojarzy Ci się słowo”kultura”?”\ndr Magdalena Wójcik-Jurkiewicz\nKatedra Rachunkowości UEK
URL:https://ud.uek.krakow.pl/wydarzenie/wyklad-z-czym-kolarzy-ci-sie-slowo-kultura/
LOCATION:zajęcia online
CATEGORIES:Grupa II (9–12 lat) - archiwum
ATTACH;FMTTYPE=image/jpeg:https://ud.uek.krakow.pl/wp-content/uploads/2019/10/japonczyk-przyjazn.jpg
ORGANIZER;CN="Uniwersytet Ekonomiczny w Krakowie":MAILTO:ud@uek.krakow.pl
END:VEVENT
BEGIN:VEVENT
DTSTART;TZID=Europe/Warsaw:20201205T103000
DTEND;TZID=Europe/Warsaw:20201205T111500
DTSTAMP:20260420T081526
CREATED:20201009T140909Z
LAST-MODIFIED:20210226T144549Z
UID:2691-1607164200-1607166900@ud.uek.krakow.pl
SUMMARY:Wykład:  Z czym kojarzy Ci się słowo "kultura"?
DESCRIPTION:Grupa I (6-8lat)\n„Z czym kojarzy Ci się słowo „kultura”?”\ndr Magdalena Wójcik-Jurkiewicz\nKatedra Rachunkowości UEK
URL:https://ud.uek.krakow.pl/wydarzenie/wyklad-z-czym-kolarzy-ci-sie-slowo-kultura-2/
LOCATION:zajęcia online
CATEGORIES:Grupa I (6-8 lat) - archiwum
ATTACH;FMTTYPE=image/jpeg:https://ud.uek.krakow.pl/wp-content/uploads/2019/10/japonczyk-przyjazn.jpg
ORGANIZER;CN="Uniwersytet Ekonomiczny w Krakowie":MAILTO:ud@uek.krakow.pl
END:VEVENT
BEGIN:VEVENT
DTSTART;TZID=Europe/Warsaw:20201205T101500
DTEND;TZID=Europe/Warsaw:20201205T111500
DTSTAMP:20260420T081526
CREATED:20201022T133826Z
LAST-MODIFIED:20210226T144706Z
UID:2764-1607163300-1607166900@ud.uek.krakow.pl
SUMMARY:Zajęcia dodatkowe:  „Kulturalnie o kulturach.”
DESCRIPTION:GRUPA II (9–12 LAT)\n„Kulturalnie o kulturach.”\nmgr Kamila Pilch\nKatedra Zarządzania Organizacjami Publicznymi UEK \nTematem warsztatów będzie świat różnorodności kulturowej. Uczniowie biorąc udział w różnych aktywnościach dowiedzą się czym jest kultura oraz poznają normy i obyczaje panujące w różnych kręgach cywilizacyjnych. Będziemy zastanawiać się dlaczego warto być tolerancyjnym oraz jak będzie wyglądać kultura przyszłości. \n\n\nZAREJESTRUJ SIĘ
URL:https://ud.uek.krakow.pl/wydarzenie/zajecia-dodatkowe-kulturalnie-o-kulturach-2/
LOCATION:zajęcia online
CATEGORIES:Grupa II (9–12 lat) - archiwum
ATTACH;FMTTYPE=image/jpeg:https://ud.uek.krakow.pl/wp-content/uploads/2019/10/japonczyk-przyjazn.jpg
ORGANIZER;CN="Uniwersytet Ekonomiczny w Krakowie":MAILTO:ud@uek.krakow.pl
END:VEVENT
BEGIN:VEVENT
DTSTART;TZID=Europe/Warsaw:20201121T113000
DTEND;TZID=Europe/Warsaw:20201121T123000
DTSTAMP:20260420T081526
CREATED:20201028T132159Z
LAST-MODIFIED:20210226T144835Z
UID:2784-1605958200-1605961800@ud.uek.krakow.pl
SUMMARY:Zajęcia dodatkowe: „Ile kosztuje lemoniada z malinami?”
DESCRIPTION:Grupa I (6-8lat)\n„Ile kosztuje lemoniada z malinami?”\ndr Magdalena Wójcik-Jurkiewicz\nKatedra Rachunkowości UEK \nUczestnicy warsztatów dowiedzą się w jaki sposób określić koszt wytworzenia lemoniady oraz jak zmierzyć zysk z jej sprzedaży. \n\n\nZAREJESTRUJ SIĘ
URL:https://ud.uek.krakow.pl/wydarzenie/zajecia-dodatkowe-koszt-lemoniady-2/
LOCATION:zajęcia online
CATEGORIES:Grupa I (6-8 lat) - archiwum
ATTACH;FMTTYPE=image/jpeg:https://ud.uek.krakow.pl/wp-content/uploads/2019/10/lemoniada.jpg
ORGANIZER;CN="Uniwersytet Ekonomiczny w Krakowie":MAILTO:ud@uek.krakow.pl
END:VEVENT
BEGIN:VEVENT
DTSTART;TZID=Europe/Warsaw:20201121T113000
DTEND;TZID=Europe/Warsaw:20201121T121500
DTSTAMP:20260420T081526
CREATED:20201009T141743Z
LAST-MODIFIED:20210301T081401Z
UID:2696-1605958200-1605960900@ud.uek.krakow.pl
SUMMARY:Wykład:  Dzielenie się hulajnogą\, czyli o ekonomii współdzielenia.
DESCRIPTION:GRUPA II (9–12 LAT)\n„Dzielenie się hulajnogą\, czyli o ekonomii współdzielenia.” \ndr Iryna Manczak\nKatedra Handlu i Instytucji Rynkowych UEK
URL:https://ud.uek.krakow.pl/wydarzenie/ekonomia-wspoldzielenia/
LOCATION:zajęcia online
CATEGORIES:Grupa II (9–12 lat) - archiwum
ATTACH;FMTTYPE=image/jpeg:https://ud.uek.krakow.pl/wp-content/uploads/2019/10/wiezowiec.jpg
ORGANIZER;CN="Uniwersytet Ekonomiczny w Krakowie":MAILTO:ud@uek.krakow.pl
END:VEVENT
BEGIN:VEVENT
DTSTART;TZID=Europe/Warsaw:20201121T103000
DTEND;TZID=Europe/Warsaw:20201121T111500
DTSTAMP:20260420T081526
CREATED:20201009T142241Z
LAST-MODIFIED:20210301T081505Z
UID:2698-1605954600-1605957300@ud.uek.krakow.pl
SUMMARY:Wykład:  Dzielenie się hulajnogą\, czyli o ekonomii współdzielenia.
DESCRIPTION:Grupa I (6-8lat)\n„Dzielenie się hulajnogą\, czyli o ekonomii współdzielenia.” \ndr Iryna Manczak\nKatedra Handlu i Instytucji Rynkowych UEK
URL:https://ud.uek.krakow.pl/wydarzenie/ekonomia-wspoldzielenia-2/
LOCATION:zajęcia online
CATEGORIES:Grupa I (6-8 lat) - archiwum
ATTACH;FMTTYPE=image/jpeg:https://ud.uek.krakow.pl/wp-content/uploads/2019/10/wiezowiec.jpg
ORGANIZER;CN="Uniwersytet Ekonomiczny w Krakowie":MAILTO:ud@uek.krakow.pl
END:VEVENT
END:VCALENDAR