BEGIN:VCALENDAR
VERSION:2.0
PRODID:-//Uniwersytet Dziecięcy Uniwersytetu Ekonomicznego w Krakowie - ECPv6.15.20//NONSGML v1.0//EN
CALSCALE:GREGORIAN
METHOD:PUBLISH
X-ORIGINAL-URL:https://ud.uek.krakow.pl
X-WR-CALDESC:Wydarzenia dla Uniwersytet Dziecięcy Uniwersytetu Ekonomicznego w Krakowie
REFRESH-INTERVAL;VALUE=DURATION:PT1H
X-Robots-Tag:noindex
X-PUBLISHED-TTL:PT1H
BEGIN:VTIMEZONE
TZID:Europe/Warsaw
BEGIN:DAYLIGHT
TZOFFSETFROM:+0100
TZOFFSETTO:+0200
TZNAME:CEST
DTSTART:20190331T010000
END:DAYLIGHT
BEGIN:STANDARD
TZOFFSETFROM:+0200
TZOFFSETTO:+0100
TZNAME:CET
DTSTART:20191027T010000
END:STANDARD
BEGIN:DAYLIGHT
TZOFFSETFROM:+0100
TZOFFSETTO:+0200
TZNAME:CEST
DTSTART:20200329T010000
END:DAYLIGHT
BEGIN:STANDARD
TZOFFSETFROM:+0200
TZOFFSETTO:+0100
TZNAME:CET
DTSTART:20201025T010000
END:STANDARD
BEGIN:DAYLIGHT
TZOFFSETFROM:+0100
TZOFFSETTO:+0200
TZNAME:CEST
DTSTART:20210328T010000
END:DAYLIGHT
BEGIN:STANDARD
TZOFFSETFROM:+0200
TZOFFSETTO:+0100
TZNAME:CET
DTSTART:20211031T010000
END:STANDARD
BEGIN:DAYLIGHT
TZOFFSETFROM:+0100
TZOFFSETTO:+0200
TZNAME:CEST
DTSTART:20220327T010000
END:DAYLIGHT
BEGIN:STANDARD
TZOFFSETFROM:+0200
TZOFFSETTO:+0100
TZNAME:CET
DTSTART:20221030T010000
END:STANDARD
END:VTIMEZONE
BEGIN:VTIMEZONE
TZID:UTC
BEGIN:STANDARD
TZOFFSETFROM:+0000
TZOFFSETTO:+0000
TZNAME:UTC
DTSTART:20190101T000000
END:STANDARD
END:VTIMEZONE
BEGIN:VEVENT
DTSTART;TZID=Europe/Warsaw:20210116T113000
DTEND;TZID=Europe/Warsaw:20210116T121500
DTSTAMP:20260421T033147
CREATED:20201009T135006Z
LAST-MODIFIED:20210226T144250Z
UID:2678-1610796600-1610799300@ud.uek.krakow.pl
SUMMARY:Wykład: Jak klienci zachowują się na rynku?
DESCRIPTION:GRUPA II (9–12 LAT)\n„Jak klienci zachowują się na rynku?”\ndr Iryna Manczak\nKatedra Handlu i Instytucji Rynkowych UEK
URL:https://ud.uek.krakow.pl/wydarzenie/wyklad-jak-klienci-zachowuja-sie-na-rynku-3/
LOCATION:zajęcia online
CATEGORIES:Grupa II (9–12 lat) - archiwum
ATTACH;FMTTYPE=image/jpeg:https://ud.uek.krakow.pl/wp-content/uploads/2019/10/zysk-strata.jpg
ORGANIZER;CN="Uniwersytet Ekonomiczny w Krakowie":MAILTO:ud@uek.krakow.pl
END:VEVENT
BEGIN:VEVENT
DTSTART;TZID=Europe/Warsaw:20210116T103000
DTEND;TZID=Europe/Warsaw:20210116T111500
DTSTAMP:20260421T033147
CREATED:20201009T135227Z
LAST-MODIFIED:20210226T144322Z
UID:2680-1610793000-1610795700@ud.uek.krakow.pl
SUMMARY:Wykład:  Jak klienci zachowują się na rynku?
DESCRIPTION:Grupa I (6-8lat)\n„Jak klienci zachowują się na rynku?”\ndr Iryna Manczak\nKatedra Handlu i Instytucji Rynkowych UEK
URL:https://ud.uek.krakow.pl/wydarzenie/wyklad-jak-klienci-zachowuja-sie-na-rynku-4/
LOCATION:zajęcia online
CATEGORIES:Grupa I (6-8 lat) - archiwum
ATTACH;FMTTYPE=image/jpeg:https://ud.uek.krakow.pl/wp-content/uploads/2019/10/zysk-strata.jpg
ORGANIZER;CN="Uniwersytet Ekonomiczny w Krakowie":MAILTO:ud@uek.krakow.pl
END:VEVENT
BEGIN:VEVENT
DTSTART;TZID=Europe/Warsaw:20210116T101500
DTEND;TZID=Europe/Warsaw:20210116T111500
DTSTAMP:20260421T033147
CREATED:20201022T133251Z
LAST-MODIFIED:20210226T144354Z
UID:2762-1610792100-1610795700@ud.uek.krakow.pl
SUMMARY:Zajęcia dodatkowe:  „Jak powstają reklamy?”
DESCRIPTION:GRUPA II (9–12 LAT)\n„Jak powstają reklamy?”\nmgr Kamila Pilch\nKatedra Zarządzania Organizacjami Publicznymi UEK \nZ reklamą spotykamy się każdego dnia w bardzo wielu codziennych sytuacjach. Podczas warsztatów uczniowie poznają różne rodzaje reklam\, zasady ich tworzenia oraz sposoby\, w jakie oddziałują na odbiorców. Dyskusji będzie towarzyszyć pytanie: czy reklama to sprzedawanie marzeń? Na podstawie wspólnie wypracowanych dobrych praktyk tworzenia reklam uczniowie będą opracowywali własne przekazy reklamowe. \n\n\nZAREJESTRUJ SIĘ
URL:https://ud.uek.krakow.pl/wydarzenie/zajecia-dodatkowe-reklamy-2/
LOCATION:zajęcia online
CATEGORIES:Grupa II (9–12 lat) - archiwum
ATTACH;FMTTYPE=image/jpeg:https://ud.uek.krakow.pl/wp-content/uploads/2019/10/marketing.jpg
ORGANIZER;CN="Uniwersytet Ekonomiczny w Krakowie":MAILTO:ud@uek.krakow.pl
END:VEVENT
BEGIN:VEVENT
DTSTART;TZID=Europe/Warsaw:20201205T113000
DTEND;TZID=Europe/Warsaw:20201205T123000
DTSTAMP:20260421T033147
CREATED:20201022T131606Z
LAST-MODIFIED:20210226T144430Z
UID:2756-1607167800-1607171400@ud.uek.krakow.pl
SUMMARY:Zajęcia dodatkowe: „Kulturalnie o kulturach.”
DESCRIPTION:Grupa I (6-8lat)\n„Kulturalnie o kulturach.”\nmgr Kamila Pilch\nKatedra Zarządzania Organizacjami Publicznymi UEK \nTematem warsztatów będzie świat różnorodności kulturowej. Uczniowie biorąc udział w różnych aktywnościach dowiedzą się czym jest kultura oraz poznają normy i obyczaje panujące w różnych kręgach cywilizacyjnych. Będziemy zastanawiać się dlaczego warto być tolerancyjnym oraz jak będzie wyglądać kultura przyszłości. \n  \n\n\nZAREJESTRUJ SIĘ
URL:https://ud.uek.krakow.pl/wydarzenie/zajecia-dodatkowe-kulturalnie-o-kulturach/
LOCATION:zajęcia online
CATEGORIES:Grupa I (6-8 lat) - archiwum
ATTACH;FMTTYPE=image/jpeg:https://ud.uek.krakow.pl/wp-content/uploads/2019/10/japonczyk-przyjazn.jpg
ORGANIZER;CN="Uniwersytet Ekonomiczny w Krakowie":MAILTO:ud@uek.krakow.pl
END:VEVENT
BEGIN:VEVENT
DTSTART;TZID=Europe/Warsaw:20201205T113000
DTEND;TZID=Europe/Warsaw:20201205T121500
DTSTAMP:20260421T033147
CREATED:20201009T140659Z
LAST-MODIFIED:20210226T144507Z
UID:2689-1607167800-1607170500@ud.uek.krakow.pl
SUMMARY:Wykład:  Z czym kojarzy Ci się słowo "kultura"?
DESCRIPTION:GRUPA II (9–12 LAT)\n„Z czym kojarzy Ci się słowo”kultura”?”\ndr Magdalena Wójcik-Jurkiewicz\nKatedra Rachunkowości UEK
URL:https://ud.uek.krakow.pl/wydarzenie/wyklad-z-czym-kolarzy-ci-sie-slowo-kultura/
LOCATION:zajęcia online
CATEGORIES:Grupa II (9–12 lat) - archiwum
ATTACH;FMTTYPE=image/jpeg:https://ud.uek.krakow.pl/wp-content/uploads/2019/10/japonczyk-przyjazn.jpg
ORGANIZER;CN="Uniwersytet Ekonomiczny w Krakowie":MAILTO:ud@uek.krakow.pl
END:VEVENT
BEGIN:VEVENT
DTSTART;TZID=Europe/Warsaw:20201205T103000
DTEND;TZID=Europe/Warsaw:20201205T111500
DTSTAMP:20260421T033147
CREATED:20201009T140909Z
LAST-MODIFIED:20210226T144549Z
UID:2691-1607164200-1607166900@ud.uek.krakow.pl
SUMMARY:Wykład:  Z czym kojarzy Ci się słowo "kultura"?
DESCRIPTION:Grupa I (6-8lat)\n„Z czym kojarzy Ci się słowo „kultura”?”\ndr Magdalena Wójcik-Jurkiewicz\nKatedra Rachunkowości UEK
URL:https://ud.uek.krakow.pl/wydarzenie/wyklad-z-czym-kolarzy-ci-sie-slowo-kultura-2/
LOCATION:zajęcia online
CATEGORIES:Grupa I (6-8 lat) - archiwum
ATTACH;FMTTYPE=image/jpeg:https://ud.uek.krakow.pl/wp-content/uploads/2019/10/japonczyk-przyjazn.jpg
ORGANIZER;CN="Uniwersytet Ekonomiczny w Krakowie":MAILTO:ud@uek.krakow.pl
END:VEVENT
BEGIN:VEVENT
DTSTART;TZID=Europe/Warsaw:20201205T101500
DTEND;TZID=Europe/Warsaw:20201205T111500
DTSTAMP:20260421T033147
CREATED:20201022T133826Z
LAST-MODIFIED:20210226T144706Z
UID:2764-1607163300-1607166900@ud.uek.krakow.pl
SUMMARY:Zajęcia dodatkowe:  „Kulturalnie o kulturach.”
DESCRIPTION:GRUPA II (9–12 LAT)\n„Kulturalnie o kulturach.”\nmgr Kamila Pilch\nKatedra Zarządzania Organizacjami Publicznymi UEK \nTematem warsztatów będzie świat różnorodności kulturowej. Uczniowie biorąc udział w różnych aktywnościach dowiedzą się czym jest kultura oraz poznają normy i obyczaje panujące w różnych kręgach cywilizacyjnych. Będziemy zastanawiać się dlaczego warto być tolerancyjnym oraz jak będzie wyglądać kultura przyszłości. \n\n\nZAREJESTRUJ SIĘ
URL:https://ud.uek.krakow.pl/wydarzenie/zajecia-dodatkowe-kulturalnie-o-kulturach-2/
LOCATION:zajęcia online
CATEGORIES:Grupa II (9–12 lat) - archiwum
ATTACH;FMTTYPE=image/jpeg:https://ud.uek.krakow.pl/wp-content/uploads/2019/10/japonczyk-przyjazn.jpg
ORGANIZER;CN="Uniwersytet Ekonomiczny w Krakowie":MAILTO:ud@uek.krakow.pl
END:VEVENT
BEGIN:VEVENT
DTSTART;TZID=Europe/Warsaw:20201121T113000
DTEND;TZID=Europe/Warsaw:20201121T123000
DTSTAMP:20260421T033147
CREATED:20201028T132159Z
LAST-MODIFIED:20210226T144835Z
UID:2784-1605958200-1605961800@ud.uek.krakow.pl
SUMMARY:Zajęcia dodatkowe: „Ile kosztuje lemoniada z malinami?”
DESCRIPTION:Grupa I (6-8lat)\n„Ile kosztuje lemoniada z malinami?”\ndr Magdalena Wójcik-Jurkiewicz\nKatedra Rachunkowości UEK \nUczestnicy warsztatów dowiedzą się w jaki sposób określić koszt wytworzenia lemoniady oraz jak zmierzyć zysk z jej sprzedaży. \n\n\nZAREJESTRUJ SIĘ
URL:https://ud.uek.krakow.pl/wydarzenie/zajecia-dodatkowe-koszt-lemoniady-2/
LOCATION:zajęcia online
CATEGORIES:Grupa I (6-8 lat) - archiwum
ATTACH;FMTTYPE=image/jpeg:https://ud.uek.krakow.pl/wp-content/uploads/2019/10/lemoniada.jpg
ORGANIZER;CN="Uniwersytet Ekonomiczny w Krakowie":MAILTO:ud@uek.krakow.pl
END:VEVENT
BEGIN:VEVENT
DTSTART;TZID=Europe/Warsaw:20201121T113000
DTEND;TZID=Europe/Warsaw:20201121T121500
DTSTAMP:20260421T033147
CREATED:20201009T141743Z
LAST-MODIFIED:20210301T081401Z
UID:2696-1605958200-1605960900@ud.uek.krakow.pl
SUMMARY:Wykład:  Dzielenie się hulajnogą\, czyli o ekonomii współdzielenia.
DESCRIPTION:GRUPA II (9–12 LAT)\n„Dzielenie się hulajnogą\, czyli o ekonomii współdzielenia.” \ndr Iryna Manczak\nKatedra Handlu i Instytucji Rynkowych UEK
URL:https://ud.uek.krakow.pl/wydarzenie/ekonomia-wspoldzielenia/
LOCATION:zajęcia online
CATEGORIES:Grupa II (9–12 lat) - archiwum
ATTACH;FMTTYPE=image/jpeg:https://ud.uek.krakow.pl/wp-content/uploads/2019/10/wiezowiec.jpg
ORGANIZER;CN="Uniwersytet Ekonomiczny w Krakowie":MAILTO:ud@uek.krakow.pl
END:VEVENT
BEGIN:VEVENT
DTSTART;TZID=Europe/Warsaw:20201121T103000
DTEND;TZID=Europe/Warsaw:20201121T111500
DTSTAMP:20260421T033147
CREATED:20201009T142241Z
LAST-MODIFIED:20210301T081505Z
UID:2698-1605954600-1605957300@ud.uek.krakow.pl
SUMMARY:Wykład:  Dzielenie się hulajnogą\, czyli o ekonomii współdzielenia.
DESCRIPTION:Grupa I (6-8lat)\n„Dzielenie się hulajnogą\, czyli o ekonomii współdzielenia.” \ndr Iryna Manczak\nKatedra Handlu i Instytucji Rynkowych UEK
URL:https://ud.uek.krakow.pl/wydarzenie/ekonomia-wspoldzielenia-2/
LOCATION:zajęcia online
CATEGORIES:Grupa I (6-8 lat) - archiwum
ATTACH;FMTTYPE=image/jpeg:https://ud.uek.krakow.pl/wp-content/uploads/2019/10/wiezowiec.jpg
ORGANIZER;CN="Uniwersytet Ekonomiczny w Krakowie":MAILTO:ud@uek.krakow.pl
END:VEVENT
BEGIN:VEVENT
DTSTART;TZID=Europe/Warsaw:20201121T101500
DTEND;TZID=Europe/Warsaw:20201121T111500
DTSTAMP:20260421T033147
CREATED:20201028T131900Z
LAST-MODIFIED:20210301T081555Z
UID:2782-1605953700-1605957300@ud.uek.krakow.pl
SUMMARY:Zajęcia dodatkowe:  „Ile kosztuje lemoniada z malinami?”
DESCRIPTION:GRUPA II (9–12 LAT)\n„Ile kosztuje lemoniada z malinami?”\ndr Magdalena Wójcik-Jurkiewicz\nKatedra Rachunkowości UEK \nUczestnicy warsztatów dowiedzą się w jaki sposób określić koszt wytworzenia lemoniady oraz jak zmierzyć zysk z jej sprzedaży. \n\n\nZAREJESTRUJ SIĘ
URL:https://ud.uek.krakow.pl/wydarzenie/zajecia-dodatkowe-koszt-lemoniady/
LOCATION:zajęcia online
CATEGORIES:Grupa II (9–12 lat) - archiwum
ATTACH;FMTTYPE=image/jpeg:https://ud.uek.krakow.pl/wp-content/uploads/2019/10/lemoniada.jpg
ORGANIZER;CN="Uniwersytet Ekonomiczny w Krakowie":MAILTO:ud@uek.krakow.pl
END:VEVENT
BEGIN:VEVENT
DTSTART;TZID=Europe/Warsaw:20201107T113000
DTEND;TZID=Europe/Warsaw:20201107T123000
DTSTAMP:20260421T033147
CREATED:20201022T125558Z
LAST-MODIFIED:20210301T081634Z
UID:2752-1604748600-1604752200@ud.uek.krakow.pl
SUMMARY:Zajęcia dodatkowe: „Czy chcesz otworzyć swoją własną kawiarnię?”
DESCRIPTION:Grupa I (6-8lat)\n„Czy chcesz otworzyć swoją własną kawiarnię?”\nJustyna Bereźnicka\nAutorka książki „Kawiarnia. Mój pierwszy biznes.” \nZajęcia z przedsiębiorczości\, na których stworzysz własny biznesplan! Z moją małą pomocą otworzysz swój pierwszy biznes\, wytłumaczę Ci\, po co firmie logo\, co to znaczy konkurencja\, oraz skąd wiedzieć\, za ile mamy sprzedawać nasze produkty\, czy też jak napisać dobry plan marketingowy. Udowodnię Ci\, że to wcale nie takie trudne\, a po ukończeniu zajęć\, będziesz właścicielem najpiękniejszej (bo własnej) kawiarni w Krakowie. \n  \n\n\nZAREJESTRUJ SIĘ
URL:https://ud.uek.krakow.pl/wydarzenie/zajecia-dodatkowe-czy-chcesz-otworzyc-swoja-wlasna-kawiarnie/
LOCATION:zajęcia online
CATEGORIES:Grupa I (6-8 lat) - archiwum
ATTACH;FMTTYPE=image/jpeg:https://ud.uek.krakow.pl/wp-content/uploads/2019/10/lemoniada.jpg
ORGANIZER;CN="Uniwersytet Ekonomiczny w Krakowie":MAILTO:ud@uek.krakow.pl
END:VEVENT
BEGIN:VEVENT
DTSTART;TZID=Europe/Warsaw:20201107T113000
DTEND;TZID=Europe/Warsaw:20201107T121500
DTSTAMP:20260421T033147
CREATED:20201009T135546Z
LAST-MODIFIED:20210301T081730Z
UID:2682-1604748600-1604751300@ud.uek.krakow.pl
SUMMARY:Wykład:  Stop "odkładaniu na później". Czyli jak rozbudzić motywację do pracy?
DESCRIPTION:GRUPA II (9–12 LAT)\n„Stop „odkładaniu na później”. Czyli jak rozbudzić motywacje do pracy?” \ndr Małgorzata Marchewka\nKatedra Procesu Zarządzania UEK
URL:https://ud.uek.krakow.pl/wydarzenie/wyklad-stop-odkladaniu-na-pozniej-czyli-jak-rozbudzic-motywacje-do-pracy-2/
LOCATION:zajęcia online
CATEGORIES:Grupa II (9–12 lat) - archiwum
ATTACH;FMTTYPE=image/jpeg:https://ud.uek.krakow.pl/wp-content/uploads/2019/10/polityk.jpg
ORGANIZER;CN="Uniwersytet Ekonomiczny w Krakowie":MAILTO:ud@uek.krakow.pl
END:VEVENT
BEGIN:VEVENT
DTSTART;TZID=Europe/Warsaw:20201107T103000
DTEND;TZID=Europe/Warsaw:20201107T111500
DTSTAMP:20260421T033147
CREATED:20201009T135959Z
LAST-MODIFIED:20210301T081815Z
UID:2684-1604745000-1604747700@ud.uek.krakow.pl
SUMMARY:Wykład:  Stop "odkładaniu na później". Czyli jak rozbudzić motywację do pracy?
DESCRIPTION:Grupa I (6-8lat)\n„Stop „odkładaniu na później”. Czyli jak rozbudzić motywację do pracy?”\ndr Małgorzata Marchewka\nKatedra Procesu Zarządzania UEK
URL:https://ud.uek.krakow.pl/wydarzenie/wyklad-stop-odkladaniu-na-pozniej-czyli-jak-rozbudzic-motywacje-do-pracy/
LOCATION:zajęcia online
CATEGORIES:Grupa I (6-8 lat) - archiwum
ATTACH;FMTTYPE=image/jpeg:https://ud.uek.krakow.pl/wp-content/uploads/2019/10/polityk.jpg
ORGANIZER;CN="Uniwersytet Ekonomiczny w Krakowie":MAILTO:ud@uek.krakow.pl
END:VEVENT
BEGIN:VEVENT
DTSTART;TZID=Europe/Warsaw:20201107T101500
DTEND;TZID=Europe/Warsaw:20201107T111500
DTSTAMP:20260421T033147
CREATED:20201022T130031Z
LAST-MODIFIED:20210301T081911Z
UID:2754-1604744100-1604747700@ud.uek.krakow.pl
SUMMARY:Zajęcia dodatkowe:  „Czy chcesz otworzyć swoją własną kawiarnię?”
DESCRIPTION:GRUPA II (9–12 LAT)\n„Czy chcesz otworzyć swoją własną kawiarnię?”\nJustyna Bereźnicka\nAutorka książki „Kawiarnia. Mój pierwszy biznes.” \nZajęcia z przedsiębiorczości\, na których stworzysz własny biznesplan! Z moją małą pomocą otworzysz swój pierwszy biznes\, wytłumaczę Ci\, po co firmie logo\, co to znaczy konkurencja\, oraz skąd wiedzieć\, za ile mamy sprzedawać nasze produkty\, czy też jak napisać dobry plan marketingowy. Udowodnię Ci\, że to wcale nie takie trudne\, a po ukończeniu zajęć\, będziesz właścicielem najpiękniejszej (bo własnej) kawiarni w Krakowie. \n  \n\n\nZAREJESTRUJ SIĘ
URL:https://ud.uek.krakow.pl/wydarzenie/zajecia-dodatkowe-czy-chcesz-otworzyc-swoja-wlasna-kawiarnie-2/
LOCATION:zajęcia online
CATEGORIES:Grupa II (9–12 lat) - archiwum
ATTACH;FMTTYPE=image/jpeg:https://ud.uek.krakow.pl/wp-content/uploads/2019/10/lemoniada.jpg
ORGANIZER;CN="Uniwersytet Ekonomiczny w Krakowie":MAILTO:ud@uek.krakow.pl
END:VEVENT
BEGIN:VEVENT
DTSTART;TZID=UTC:20201017T100000
DTEND;TZID=UTC:20201017T100000
DTSTAMP:20260421T033147
CREATED:20200205T104726Z
LAST-MODIFIED:20210301T082008Z
UID:2460-1602928800-1602928800@ud.uek.krakow.pl
SUMMARY:Inauguracja roku akademickiego: Czy da się zaprzyjaźnić ze sztuczną inteligencją?
DESCRIPTION:„Czy da się zaprzyjaźnić ze sztuczną inteligencją?”\nprof. dr hab. inż. Ryszard Tadeusiewicz\nAkademia Górniczo-Hutnicza w Krakowie
URL:https://ud.uek.krakow.pl/wydarzenie/wyklad-sztuczna-inteligencja/
LOCATION:zajęcia online
CATEGORIES:Grupa I (6-8 lat) - archiwum,Grupa II (9–12 lat) - archiwum
ATTACH;FMTTYPE=image/jpeg:https://ud.uek.krakow.pl/wp-content/uploads/2019/10/tkanina.jpg
ORGANIZER;CN="Uniwersytet Ekonomiczny w Krakowie":MAILTO:ud@uek.krakow.pl
END:VEVENT
BEGIN:VEVENT
DTSTART;TZID=Europe/Warsaw:20200523T130000
DTEND;TZID=Europe/Warsaw:20200523T140000
DTSTAMP:20260421T033147
CREATED:20200204T142246Z
LAST-MODIFIED:20200924T084226Z
UID:2438-1590238800-1590242400@ud.uek.krakow.pl
SUMMARY:Zajęcia dodatkowe:  Tenis ziemny
DESCRIPTION:Tenis ziemny\nStudium Wychowania Fizycznego i Sportu UEK \n  \n\n\nZAREJESTRUJ SIĘ
URL:https://ud.uek.krakow.pl/wydarzenie/zajecia-dodatkowe-tenis-ziemny-7/
LOCATION:Pawilon S\, hala sportowa\, ul. Rakowicka 27\, 31-510 Kraków
CATEGORIES:Grupa I (6-8 lat) - archiwum,Grupa II (9–12 lat) - archiwum
ATTACH;FMTTYPE=image/jpeg:https://ud.uek.krakow.pl/wp-content/uploads/2019/10/tenis.jpg
ORGANIZER;CN="Uniwersytet Ekonomiczny w Krakowie":MAILTO:ud@uek.krakow.pl
END:VEVENT
BEGIN:VEVENT
DTSTART;TZID=Europe/Warsaw:20200523T114500
DTEND;TZID=Europe/Warsaw:20200523T123000
DTSTAMP:20260421T033147
CREATED:20200205T102428Z
LAST-MODIFIED:20200924T084637Z
UID:2456-1590234300-1590237000@ud.uek.krakow.pl
SUMMARY:Wykład:  Czy design rozwiąże problemy społeczne?
DESCRIPTION:GRUPA II (9–12 LAT)\n„Czy design rozwiąże problemy społeczne?”\ndr Katarzyna Kwarcińska\nKatedra Socjologii UEK
URL:https://ud.uek.krakow.pl/wydarzenie/wyklad-czy-design-rozwiaze-problemy-spoleczne-2/
LOCATION:Stara Aula w Budynku Głównym UEK\, ul. Rakowicka 27\, 31-510 Kraków
CATEGORIES:Grupa II (9–12 lat) - archiwum
ATTACH;FMTTYPE=image/jpeg:https://ud.uek.krakow.pl/wp-content/uploads/2019/10/japonczyk-przyjazn.jpg
ORGANIZER;CN="Uniwersytet Ekonomiczny w Krakowie":MAILTO:ud@uek.krakow.pl
END:VEVENT
BEGIN:VEVENT
DTSTART;TZID=Europe/Warsaw:20200523T114000
DTEND;TZID=Europe/Warsaw:20200523T124000
DTSTAMP:20260421T033147
CREATED:20200205T130054Z
LAST-MODIFIED:20200924T084736Z
UID:2497-1590234000-1590237600@ud.uek.krakow.pl
SUMMARY:Zajęcia dodatkowe: „Jak być eko? Warsztaty graficzne projektowania toreb.”
DESCRIPTION:Grupa I (6-8lat)\n„Jak być eko? Warsztaty graficzne projektowania toreb.”\nMarta Wakuła-Mac\, Jan Bosak\nPracownia Grafiki Warsztatowej NCK \nZajęcia z grafiki warsztatowej\, podczas których dzieci wykonają ekologiczne torby z własnym nadrukiem przy użyciu prasy drukarskiej. \n  \n\n\nZAREJESTRUJ SIĘ
URL:https://ud.uek.krakow.pl/wydarzenie/zajecia-dodatkowe-jak-byc-eko-1/
LOCATION:Budynek Główny UEK\, sala 4\, ul. Rakowicka 27\, 31-510 Kraków
CATEGORIES:Grupa I (6-8 lat) - archiwum
ATTACH;FMTTYPE=image/jpeg:https://ud.uek.krakow.pl/wp-content/uploads/2019/10/tkanina.jpg
ORGANIZER;CN="Uniwersytet Ekonomiczny w Krakowie":MAILTO:ud@uek.krakow.pl
END:VEVENT
BEGIN:VEVENT
DTSTART;TZID=Europe/Warsaw:20200523T114000
DTEND;TZID=Europe/Warsaw:20200523T124000
DTSTAMP:20260421T033147
CREATED:20200205T122600Z
LAST-MODIFIED:20200924T085022Z
UID:2484-1590234000-1590237600@ud.uek.krakow.pl
SUMMARY:Zajęcia dodatkowe: „Pani Miarka wyrzuca cyrkiel i ekierkę.”
DESCRIPTION:Grupa I (6-8lat)\n„Pani Miarka wyrzuca cyrkiel i ekierkę.”\nMarzena Dranka\nAkademia Miarologii \nJak można narysować koło wielkości aligatora bez konieczności budowania wielkiego cyrkla\, albo jak wyznaczyć kąt prosty na boisku bez ekierki. Dzieci wytyczają. \n  \n\n\nZAREJESTRUJ SIĘ
URL:https://ud.uek.krakow.pl/wydarzenie/zajecia-dodatkowe-pani-miarka-3/
LOCATION:Budynek Główny UEK\, sala 1\, ul. Rakowicka 27\, 31-510 Kraków
CATEGORIES:Grupa I (6-8 lat) - archiwum
ATTACH;FMTTYPE=image/jpeg:https://ud.uek.krakow.pl/wp-content/uploads/2019/10/wiezowiec.jpg
ORGANIZER;CN="Uniwersytet Ekonomiczny w Krakowie":MAILTO:ud@uek.krakow.pl
END:VEVENT
BEGIN:VEVENT
DTSTART;TZID=Europe/Warsaw:20200523T104500
DTEND;TZID=Europe/Warsaw:20200523T113000
DTSTAMP:20260421T033147
CREATED:20200205T103553Z
LAST-MODIFIED:20200924T085139Z
UID:2458-1590230700-1590233400@ud.uek.krakow.pl
SUMMARY:Wykład:  Czy design rozwiąże problemy społeczne?
DESCRIPTION:Grupa I (6-8lat)\n„Czy design rozwiąże problemy społeczne?”\ndr Katarzyna Kwarcińska\nKatedra Socjologii UEK
URL:https://ud.uek.krakow.pl/wydarzenie/wyklad-czy-design-rozwiaze-problemy-spoleczne/
LOCATION:Stara Aula w Budynku Głównym UEK\, ul. Rakowicka 27\, 31-510 Kraków
CATEGORIES:Grupa I (6-8 lat) - archiwum
ATTACH;FMTTYPE=image/jpeg:https://ud.uek.krakow.pl/wp-content/uploads/2019/10/japonczyk-przyjazn.jpg
ORGANIZER;CN="Uniwersytet Ekonomiczny w Krakowie":MAILTO:ud@uek.krakow.pl
END:VEVENT
BEGIN:VEVENT
DTSTART;TZID=Europe/Warsaw:20200523T103000
DTEND;TZID=Europe/Warsaw:20200523T113000
DTSTAMP:20260421T033147
CREATED:20200205T130526Z
LAST-MODIFIED:20200924T085332Z
UID:2499-1590229800-1590233400@ud.uek.krakow.pl
SUMMARY:Zajęcia dodatkowe:  „Jak być eko? Warsztaty graficzne projektowania toreb.”
DESCRIPTION:GRUPA II (9–12 LAT)\n„Jak być eko? Warsztaty graficzne projektowania toreb.”\nMarta Wakuła-Mac\, Jan Bosak\nPracownia Grafiki Warsztatowej NCK \nZajęcia z grafiki warsztatowej\, podczas których dzieci wykonają ekologiczne torby z własnym nadrukiem przy użyciu prasy drukarskiej. \n  \n\n\nZAREJESTRUJ SIĘ
URL:https://ud.uek.krakow.pl/wydarzenie/zajecia-dodatkowe-jak-byc-eko-2/
LOCATION:Budynek Główny UEK\, sala 4\, ul. Rakowicka 27\, 31-510 Kraków
CATEGORIES:Grupa II (9–12 lat) - archiwum
ATTACH;FMTTYPE=image/jpeg:https://ud.uek.krakow.pl/wp-content/uploads/2019/10/tkanina.jpg
ORGANIZER;CN="Uniwersytet Ekonomiczny w Krakowie":MAILTO:ud@uek.krakow.pl
END:VEVENT
BEGIN:VEVENT
DTSTART;TZID=Europe/Warsaw:20200523T103000
DTEND;TZID=Europe/Warsaw:20200523T113000
DTSTAMP:20260421T033147
CREATED:20200205T122848Z
LAST-MODIFIED:20200924T085427Z
UID:2486-1590229800-1590233400@ud.uek.krakow.pl
SUMMARY:Zajęcia dodatkowe:  „Pani Miarka wyrzuca cyrkiel i ekierkę.”
DESCRIPTION:GRUPA II (9–12 LAT)\n„Pani Miarka wyrzuca cyrkiel i ekierkę.”\nMarzena Dranka\nAkademia Miarologii \nJak można narysować koło wielkości aligatora bez konieczności budowania wielkiego cyrkla\, albo jak wyznaczyć kąt prosty na boisku bez ekierki. Dzieci wytyczają. \n  \n\n\nZAREJESTRUJ SIĘ
URL:https://ud.uek.krakow.pl/wydarzenie/zajecia-dodatkowe-pani-miarka-4/
LOCATION:Budynek Główny UEK\, sala 1\, ul. Rakowicka 27\, 31-510 Kraków
CATEGORIES:Grupa II (9–12 lat) - archiwum
ATTACH;FMTTYPE=image/jpeg:https://ud.uek.krakow.pl/wp-content/uploads/2019/10/wiezowiec.jpg
ORGANIZER;CN="Uniwersytet Ekonomiczny w Krakowie":MAILTO:ud@uek.krakow.pl
END:VEVENT
BEGIN:VEVENT
DTSTART;TZID=Europe/Warsaw:20200425T130000
DTEND;TZID=Europe/Warsaw:20200425T140000
DTSTAMP:20260421T033147
CREATED:20200204T142122Z
LAST-MODIFIED:20200924T085522Z
UID:2436-1587819600-1587823200@ud.uek.krakow.pl
SUMMARY:Zajęcia dodatkowe:  Tenis ziemny
DESCRIPTION:Tenis ziemny\nStudium Wychowania Fizycznego i Sportu UEK \n  \n\n\nZAREJESTRUJ SIĘ
URL:https://ud.uek.krakow.pl/wydarzenie/zajecia-dodatkowe-tenis-ziemny-6/
LOCATION:Pawilon S\, hala sportowa\, ul. Rakowicka 27\, 31-510 Kraków
CATEGORIES:Grupa I (6-8 lat) - archiwum,Grupa II (9–12 lat) - archiwum
ATTACH;FMTTYPE=image/jpeg:https://ud.uek.krakow.pl/wp-content/uploads/2019/10/tenis.jpg
ORGANIZER;CN="Uniwersytet Ekonomiczny w Krakowie":MAILTO:ud@uek.krakow.pl
END:VEVENT
BEGIN:VEVENT
DTSTART;TZID=Europe/Warsaw:20200425T114500
DTEND;TZID=Europe/Warsaw:20200425T123000
DTSTAMP:20260421T033147
CREATED:20200205T101950Z
LAST-MODIFIED:20200924T085556Z
UID:2454-1587815100-1587817800@ud.uek.krakow.pl
SUMMARY:Wykład: Jak klienci zachowują się na rynku?
DESCRIPTION:GRUPA II (9–12 LAT)\n„Jak klienci zachowują się na rynku?”\ndr Magdalena Dołhasz\nKatedra Marketingu UEK
URL:https://ud.uek.krakow.pl/wydarzenie/wyklad-jak-klienci-zachowuja-sie-na-rynku-2/
LOCATION:Stara Aula w Budynku Głównym UEK\, ul. Rakowicka 27\, 31-510 Kraków
CATEGORIES:Grupa II (9–12 lat) - archiwum
ATTACH;FMTTYPE=image/jpeg:https://ud.uek.krakow.pl/wp-content/uploads/2019/10/zysk-strata.jpg
ORGANIZER;CN="Uniwersytet Ekonomiczny w Krakowie":MAILTO:ud@uek.krakow.pl
END:VEVENT
BEGIN:VEVENT
DTSTART;TZID=Europe/Warsaw:20200425T114000
DTEND;TZID=Europe/Warsaw:20200425T124000
DTSTAMP:20260421T033147
CREATED:20200205T131448Z
LAST-MODIFIED:20200924T085659Z
UID:2501-1587814800-1587818400@ud.uek.krakow.pl
SUMMARY:Zajęcia dodatkowe: „Mówimy nie dla smogu.”
DESCRIPTION:Grupa I (6-8lat)\n„Mówimy nie dla smogu.”\ndr Dominika Sułkowska\nSinoma \nCo to jest smog\, skąd się bierze\, jak możemy z nim walczyć\, co robić żeby go nie było?\nSmart city\, czyli jak zaplanować nowoczesne miasto bez smogu i jak możemy w nim żyć. \n  \n\n\nZAREJESTRUJ SIĘ
URL:https://ud.uek.krakow.pl/wydarzenie/zajecia-dodatkowe-nie-dla-smogu-1/
LOCATION:Budynek Główny UEK\, sala 1\, ul. Rakowicka 27\, 31-510 Kraków
CATEGORIES:Grupa I (6-8 lat) - archiwum
ATTACH;FMTTYPE=image/jpeg:https://ud.uek.krakow.pl/wp-content/uploads/2019/10/wiezowiec.jpg
ORGANIZER;CN="Uniwersytet Ekonomiczny w Krakowie":MAILTO:ud@uek.krakow.pl
END:VEVENT
BEGIN:VEVENT
DTSTART;TZID=Europe/Warsaw:20200425T114000
DTEND;TZID=Europe/Warsaw:20200425T124000
DTSTAMP:20260421T033147
CREATED:20200205T124151Z
LAST-MODIFIED:20200924T085736Z
UID:2493-1587814800-1587818400@ud.uek.krakow.pl
SUMMARY:Zajęcia dodatkowe: „Zmysły na straży oceny jakości produktów.”
DESCRIPTION:Grupa I (6-8lat)\n„Zmysły na straży oceny jakości produktów.”\ndr Paweł Turek\nKatedra Jakości i Bezpieczeństwa Produktów Przemysłowych UEK \nCzy zawsze kupujemy to\, co lubimy?\nCo to jest rynek konkurencyjny?\nCzy łatwo jest kupić dobry produkt?\nCzym się kierować przy zakupie produktów?\nJak uniknąć pułapek zastawianych w sklepach?\nCzy reklama mówi prawdę?\nCzy jogurt o najładniejszym opakowaniu rzeczywiście jest najsmaczniejszy?\nZajęcia mają na celu przybliżyć najmłodszym konsumentom zasady oceny produktów. Dzieci stają się ekspertami oceniającymi produkty\, dowiadują się jak sprawdzana jest wrażliwość sensoryczna (doświadczenia wzrokowe\, węchowe i smakowe). \n  \n\n\nZAREJESTRUJ SIĘ
URL:https://ud.uek.krakow.pl/wydarzenie/zajecia-dodatkowe-ocena-jakosci-3/
LOCATION:Budynek Główny UEK\, sala 4\, ul. Rakowicka 27\, 31-510 Kraków
CATEGORIES:Grupa I (6-8 lat) - archiwum
ATTACH;FMTTYPE=image/jpeg:https://ud.uek.krakow.pl/wp-content/uploads/2019/10/marketing.jpg
ORGANIZER;CN="Uniwersytet Ekonomiczny w Krakowie":MAILTO:ud@uek.krakow.pl
END:VEVENT
BEGIN:VEVENT
DTSTART;TZID=Europe/Warsaw:20200425T104500
DTEND;TZID=Europe/Warsaw:20200425T113000
DTSTAMP:20260421T033147
CREATED:20200205T101720Z
LAST-MODIFIED:20200924T085824Z
UID:2452-1587811500-1587814200@ud.uek.krakow.pl
SUMMARY:Wykład:  Jak klienci zachowują się na rynku?
DESCRIPTION:Grupa I (6-8lat)\n„Jak klienci zachowują się na rynku?”\ndr Magdalena Dołhasz\nKatedra Marketingu UEK
URL:https://ud.uek.krakow.pl/wydarzenie/wyklad-jak-klienci-zachowuja-sie-na-rynku/
LOCATION:Stara Aula w Budynku Głównym UEK\, ul. Rakowicka 27\, 31-510 Kraków
CATEGORIES:Grupa I (6-8 lat) - archiwum
ATTACH;FMTTYPE=image/jpeg:https://ud.uek.krakow.pl/wp-content/uploads/2019/10/zysk-strata.jpg
ORGANIZER;CN="Uniwersytet Ekonomiczny w Krakowie":MAILTO:ud@uek.krakow.pl
END:VEVENT
BEGIN:VEVENT
DTSTART;TZID=Europe/Warsaw:20200425T103000
DTEND;TZID=Europe/Warsaw:20200425T113000
DTSTAMP:20260421T033147
CREATED:20200205T132323Z
LAST-MODIFIED:20200924T085907Z
UID:2505-1587810600-1587814200@ud.uek.krakow.pl
SUMMARY:Zajęcia dodatkowe:  „Zmysły na straży oceny jakości produktów.”
DESCRIPTION:GRUPA II (9–12 LAT)\n„Zmysły na straży oceny jakości produktów.”\ndr Paweł Turek\nKatedra Jakości i Bezpieczeństwa Produktów Przemysłowych UEK \nCzy zawsze kupujemy to\, co lubimy?\nCo to jest rynek konkurencyjny?\nCzy łatwo jest kupić dobry produkt?\nCzym się kierować przy zakupie produktów?\nJak uniknąć pułapek zastawianych w sklepach?\nCzy reklama mówi prawdę?\nCzy jogurt o najładniejszym opakowaniu rzeczywiście jest najsmaczniejszy?\nZajęcia mają na celu przybliżyć najmłodszym konsumentom zasady oceny produktów. Dzieci stają się ekspertami oceniającymi produkty\, dowiadują się jak sprawdzana jest wrażliwość sensoryczna (doświadczenia wzrokowe\, węchowe i smakowe). \n  \n\n\nZAREJESTRUJ SIĘ
URL:https://ud.uek.krakow.pl/wydarzenie/zajecia-dodatkowe-zmysly-na-strazy-oceny-jakosci-produktow/
LOCATION:Budynek Główny UEK\, sala 4\, ul. Rakowicka 27\, 31-510 Kraków
CATEGORIES:Grupa II (9–12 lat) - archiwum
ATTACH;FMTTYPE=image/jpeg:https://ud.uek.krakow.pl/wp-content/uploads/2019/10/marketing.jpg
ORGANIZER;CN="Uniwersytet Ekonomiczny w Krakowie":MAILTO:ud@uek.krakow.pl
END:VEVENT
BEGIN:VEVENT
DTSTART;TZID=Europe/Warsaw:20200425T103000
DTEND;TZID=Europe/Warsaw:20200425T113000
DTSTAMP:20260421T033147
CREATED:20200205T131947Z
LAST-MODIFIED:20200924T085944Z
UID:2503-1587810600-1587814200@ud.uek.krakow.pl
SUMMARY:Zajęcia dodatkowe:  „Mówimy nie dla smogu.”
DESCRIPTION:GRUPA II (9–12 LAT)\n„Mówimy nie dla smogu.”\ndr Dominika Sułkowska\nSinoma \nCo to jest smog\, skąd się bierze\, jak możemy z nim walczyć\, co robić żeby go nie było?\nSmart city\, czyli jak zaplanować nowoczesne miasto bez smogu i jak możemy w nim żyć. \n  \n\n\nZAREJESTRUJ SIĘ
URL:https://ud.uek.krakow.pl/wydarzenie/zajecia-dodatkowe-nie-dla-smogu-2/
LOCATION:Budynek Główny UEK\, sala 1\, ul. Rakowicka 27\, 31-510 Kraków
CATEGORIES:Grupa II (9–12 lat) - archiwum
ATTACH;FMTTYPE=image/jpeg:https://ud.uek.krakow.pl/wp-content/uploads/2019/10/wiezowiec.jpg
ORGANIZER;CN="Uniwersytet Ekonomiczny w Krakowie":MAILTO:ud@uek.krakow.pl
END:VEVENT
END:VCALENDAR