BEGIN:VCALENDAR
VERSION:2.0
PRODID:-//Uniwersytet Dziecięcy Uniwersytetu Ekonomicznego w Krakowie - ECPv6.15.20//NONSGML v1.0//EN
CALSCALE:GREGORIAN
METHOD:PUBLISH
X-WR-CALNAME:Uniwersytet Dziecięcy Uniwersytetu Ekonomicznego w Krakowie
X-ORIGINAL-URL:https://ud.uek.krakow.pl
X-WR-CALDESC:Wydarzenia dla Uniwersytet Dziecięcy Uniwersytetu Ekonomicznego w Krakowie
REFRESH-INTERVAL;VALUE=DURATION:PT1H
X-Robots-Tag:noindex
X-PUBLISHED-TTL:PT1H
BEGIN:VTIMEZONE
TZID:Europe/Warsaw
BEGIN:DAYLIGHT
TZOFFSETFROM:+0100
TZOFFSETTO:+0200
TZNAME:CEST
DTSTART:20180325T010000
END:DAYLIGHT
BEGIN:STANDARD
TZOFFSETFROM:+0200
TZOFFSETTO:+0100
TZNAME:CET
DTSTART:20181028T010000
END:STANDARD
BEGIN:DAYLIGHT
TZOFFSETFROM:+0100
TZOFFSETTO:+0200
TZNAME:CEST
DTSTART:20190331T010000
END:DAYLIGHT
BEGIN:STANDARD
TZOFFSETFROM:+0200
TZOFFSETTO:+0100
TZNAME:CET
DTSTART:20191027T010000
END:STANDARD
BEGIN:DAYLIGHT
TZOFFSETFROM:+0100
TZOFFSETTO:+0200
TZNAME:CEST
DTSTART:20200329T010000
END:DAYLIGHT
BEGIN:STANDARD
TZOFFSETFROM:+0200
TZOFFSETTO:+0100
TZNAME:CET
DTSTART:20201025T010000
END:STANDARD
BEGIN:DAYLIGHT
TZOFFSETFROM:+0100
TZOFFSETTO:+0200
TZNAME:CEST
DTSTART:20210328T010000
END:DAYLIGHT
BEGIN:STANDARD
TZOFFSETFROM:+0200
TZOFFSETTO:+0100
TZNAME:CET
DTSTART:20211031T010000
END:STANDARD
END:VTIMEZONE
BEGIN:VEVENT
DTSTART;TZID=Europe/Warsaw:20200314T104500
DTEND;TZID=Europe/Warsaw:20200314T113000
DTSTAMP:20260421T064246
CREATED:20200205T095355Z
LAST-MODIFIED:20200924T091133Z
UID:2444-1584182700-1584185400@ud.uek.krakow.pl
SUMMARY:Wykład:  Z czym kolarzy Ci się słowo "kultura"?
DESCRIPTION:Grupa I (6-8lat)\n„Z czym kojarzy Ci się słowo „kultura”?”\ndr Magdalena Wójcik-Jurkiewicz\nKatedra Rachunkowości UEK
URL:https://ud.uek.krakow.pl/wydarzenie/wyklad-slowo-kultura/
LOCATION:Stara Aula w Budynku Głównym UEK\, ul. Rakowicka 27\, 31-510 Kraków
CATEGORIES:Grupa I (6-8 lat) - archiwum
ATTACH;FMTTYPE=image/jpeg:https://ud.uek.krakow.pl/wp-content/uploads/2019/10/japonczyk-przyjazn.jpg
ORGANIZER;CN="Uniwersytet Ekonomiczny w Krakowie":MAILTO:ud@uek.krakow.pl
END:VEVENT
BEGIN:VEVENT
DTSTART;TZID=Europe/Warsaw:20200314T103000
DTEND;TZID=Europe/Warsaw:20200314T113000
DTSTAMP:20260421T064246
CREATED:20200205T122304Z
LAST-MODIFIED:20200924T091210Z
UID:2482-1584181800-1584185400@ud.uek.krakow.pl
SUMMARY:Zajęcia dodatkowe:  „Pani Miarka wyrzuca cyrkiel i ekierkę.”
DESCRIPTION:GRUPA II (9–12 LAT)\n„Pani Miarka wyrzuca cyrkiel i ekierkę.”\nMarzena Dranka\nAkademia Miarologii \nJak można narysować koło wielkości aligatora bez konieczności budowania wielkiego cyrkla\, albo jak wyznaczyć kąt prosty na boisku bez ekierki. Dzieci wytyczają. \n  \n\n\nZAREJESTRUJ SIĘ
URL:https://ud.uek.krakow.pl/wydarzenie/zajecia-dodatkowe-pani-miarka-2/
LOCATION:Budynek Główny UEK\, sala 1\, ul. Rakowicka 27\, 31-510 Kraków
CATEGORIES:Grupa II (9–12 lat) - archiwum
ATTACH;FMTTYPE=image/jpeg:https://ud.uek.krakow.pl/wp-content/uploads/2019/10/wiezowiec.jpg
ORGANIZER;CN="Uniwersytet Ekonomiczny w Krakowie":MAILTO:ud@uek.krakow.pl
END:VEVENT
BEGIN:VEVENT
DTSTART;TZID=Europe/Warsaw:20200314T103000
DTEND;TZID=Europe/Warsaw:20200314T113000
DTSTAMP:20260421T064246
CREATED:20200205T113622Z
LAST-MODIFIED:20200924T091252Z
UID:2468-1584181800-1584185400@ud.uek.krakow.pl
SUMMARY:Zajęcia dodatkowe:  „Ślady kryminalistyczne – zabawy młodych detektywów\, cz. 2”
DESCRIPTION:GRUPA II (9–12 LAT)\n„Ślady kryminalistyczne – zabawy młodych detektywów\, cz. 2”\ndr hab. Jolanta Wąs-Gubała\nInstytut Ekspertyz Sądowych w Krakowie \nW trakcie warsztatów studenci dowiedzą się\, jakiego rodzaju ślady mogą pozostawić po sobie przestępcy na miejscu zderzania. Poznają sposoby poszukiwania takich śladów oraz ich ochrony przed zniszczeniem. Przekonają się\, czy brak śladów dostrzegalnych gołym okiem świadczy o tym\, że ich naprawdę nie ma? Będziemy też rozmawiać o tym\, czy łatwo zostać okradzionym\, a także jak się zabezpieczyć przed kradzieżą oraz pomóc Policji złapać złodzieja? Studenci dowiedzą się\, jak odróżnić prawdziwe pieniądze od fałszywych oraz jak zabezpieczone są polskie banknoty\, a także banknoty Euro? \n  \n\n\nZAREJESTRUJ SIĘ
URL:https://ud.uek.krakow.pl/wydarzenie/zajecia-dodatkowe-slady-kryminalistyczne-4/
LOCATION:Budynek Główny UEK\, sala 4\, ul. Rakowicka 27\, 31-510 Kraków
CATEGORIES:Grupa II (9–12 lat) - archiwum
ATTACH;FMTTYPE=image/jpeg:https://ud.uek.krakow.pl/wp-content/uploads/2019/10/detyktywi.jpg
ORGANIZER;CN="Uniwersytet Ekonomiczny w Krakowie":MAILTO:ud@uek.krakow.pl
END:VEVENT
BEGIN:VEVENT
DTSTART;TZID=Europe/Warsaw:20200229T114500
DTEND;TZID=Europe/Warsaw:20200229T123000
DTSTAMP:20260421T064246
CREATED:20200204T143656Z
LAST-MODIFIED:20200924T091332Z
UID:2442-1582976700-1582979400@ud.uek.krakow.pl
SUMMARY:Wykład:  Pani Miarka i metr\, czyli jak pomiary ułatwiają życie.
DESCRIPTION:GRUPA II (9–12 LAT)\n„Pani Miarka i metr\, czyli jak pomiary ułatwiają życie.” \nMarzena Dranka\nAkademia Miarologii
URL:https://ud.uek.krakow.pl/wydarzenie/wyklad-pani-miarka-i-metr-2/
LOCATION:Stara Aula w Budynku Głównym UEK\, ul. Rakowicka 27\, 31-510 Kraków
CATEGORIES:Grupa II (9–12 lat) - archiwum
ATTACH;FMTTYPE=image/jpeg:https://ud.uek.krakow.pl/wp-content/uploads/2019/10/polityk.jpg
ORGANIZER;CN="Uniwersytet Ekonomiczny w Krakowie":MAILTO:ud@uek.krakow.pl
END:VEVENT
BEGIN:VEVENT
DTSTART;TZID=Europe/Warsaw:20200229T114000
DTEND;TZID=Europe/Warsaw:20200229T124000
DTSTAMP:20260421T064246
CREATED:20200205T114322Z
LAST-MODIFIED:20200924T091416Z
UID:2470-1582976400-1582980000@ud.uek.krakow.pl
SUMMARY:Zajęcia dodatkowe: „Czy chcesz otworzyć swoją własną kawiarnię?”
DESCRIPTION:Grupa I (6-8lat)\n„Czy chcesz otworzyć swoją własną kawiarnię?”\nJustyna Bereźnicka\nAutorka książki „Kawiarnia. Mój pierwszy biznes.” \nZajęcia z przedsiębiorczości\, na których stworzysz własny biznesplan! Z moją małą pomocą otworzysz swój pierwszy biznes\, wytłumaczę Ci\, po co firmie logo\, co to znaczy konkurencja\, oraz skąd wiedzieć\, za ile mamy sprzedawać nasze produkty\, czy też jak napisać dobry plan marketingowy. Udowodnię Ci\, że to wcale nie takie trudne\, a wychodząc z zajęć\, będziesz właścicielem najpiękniejszej (bo własnej) kawiarni w Krakowie. \n  \n\n\nZAREJESTRUJ SIĘ
URL:https://ud.uek.krakow.pl/wydarzenie/zajecia-dodatkowe-kawiarnia/
LOCATION:Budynek Główny UEK\, sala 1\, ul. Rakowicka 27\, 31-510 Kraków
CATEGORIES:Grupa I (6-8 lat) - archiwum
ATTACH;FMTTYPE=image/jpeg:https://ud.uek.krakow.pl/wp-content/uploads/2019/10/lemoniada.jpg
ORGANIZER;CN="Uniwersytet Ekonomiczny w Krakowie":MAILTO:ud@uek.krakow.pl
END:VEVENT
BEGIN:VEVENT
DTSTART;TZID=Europe/Warsaw:20200229T114000
DTEND;TZID=Europe/Warsaw:20200229T124000
DTSTAMP:20260421T064246
CREATED:20200205T110233Z
LAST-MODIFIED:20200924T091453Z
UID:2462-1582976400-1582980000@ud.uek.krakow.pl
SUMMARY:Zajęcia dodatkowe: „Ślady kryminalistyczne – zabawy młodych detektywów\, cz. 2”
DESCRIPTION:Grupa I (6-8lat)\n„Ślady kryminalistyczne – zabawy młodych detektywów\, cz. 2”\ndr hab. Jolanta Wąs-Gubała\nInstytut Ekspertyz Sądowych w Krakowie \nW trakcie warsztatów studenci dowiedzą się\, jakiego rodzaju ślady mogą pozostawić po sobie przestępcy na miejscu zderzania. Poznają sposoby poszukiwania takich śladów oraz ich ochrony przed zniszczeniem. Przekonają się\, czy brak śladów dostrzegalnych gołym okiem świadczy o tym\, że ich naprawdę nie ma? Będziemy też rozmawiać o tym\, czy łatwo zostać okradzionym\, a także jak się zabezpieczyć przed kradzieżą oraz pomóc Policji złapać złodzieja? Studenci dowiedzą się\, jak odróżnić prawdziwe pieniądze od fałszywych oraz jak zabezpieczone są polskie banknoty\, a także banknoty Euro? \n  \n\n\nZAREJESTRUJ SIĘ
URL:https://ud.uek.krakow.pl/wydarzenie/zajecia-dodatkowe-slady-kryminalistyczne/
LOCATION:Budynek Główny UEK\, sala 4\, ul. Rakowicka 27\, 31-510 Kraków
CATEGORIES:Grupa I (6-8 lat) - archiwum
ATTACH;FMTTYPE=image/jpeg:https://ud.uek.krakow.pl/wp-content/uploads/2019/10/detyktywi.jpg
ORGANIZER;CN="Uniwersytet Ekonomiczny w Krakowie":MAILTO:ud@uek.krakow.pl
END:VEVENT
BEGIN:VEVENT
DTSTART;TZID=Europe/Warsaw:20200229T104500
DTEND;TZID=Europe/Warsaw:20200229T113000
DTSTAMP:20260421T064246
CREATED:20200204T143234Z
LAST-MODIFIED:20200924T091532Z
UID:2440-1582973100-1582975800@ud.uek.krakow.pl
SUMMARY:Wykład:  Pani Miarka i metr\, czyli jak pomiary ułatwiają życie.
DESCRIPTION:Grupa I (6-8lat)\n„Pani Miarka i metr\, czyli jak pomiary ułatwiają życie.” \nMarzena Dranka\nAkademia Miarologii
URL:https://ud.uek.krakow.pl/wydarzenie/wyklad-pani-miarka-i-metr/
LOCATION:Stara Aula w Budynku Głównym UEK\, ul. Rakowicka 27\, 31-510 Kraków
CATEGORIES:Grupa I (6-8 lat) - archiwum
ATTACH;FMTTYPE=image/jpeg:https://ud.uek.krakow.pl/wp-content/uploads/2019/10/polityk.jpg
ORGANIZER;CN="Uniwersytet Ekonomiczny w Krakowie":MAILTO:ud@uek.krakow.pl
END:VEVENT
BEGIN:VEVENT
DTSTART;TZID=Europe/Warsaw:20200229T103000
DTEND;TZID=Europe/Warsaw:20200229T113000
DTSTAMP:20260421T064246
CREATED:20200205T114918Z
LAST-MODIFIED:20200924T091626Z
UID:2472-1582972200-1582975800@ud.uek.krakow.pl
SUMMARY:Zajęcia dodatkowe:  „Czy chcesz otworzyć swoją własną kawiarnię?”
DESCRIPTION:GRUPA II (9–12 LAT)\n„Czy chcesz otworzyć swoją własną kawiarnię?”\nJustyna Bereźnicka\nAutorka książki „Kawiarnia. Mój pierwszy biznes.” \nZajęcia z przedsiębiorczości\, na których stworzysz własny biznesplan! Z moją małą pomocą otworzysz swój pierwszy biznes\, wytłumaczę Ci\, po co firmie logo\, co to znaczy konkurencja\, oraz skąd wiedzieć\, za ile mamy sprzedawać nasze produkty\, czy też jak napisać dobry plan marketingowy. Udowodnię Ci\, że to wcale nie takie trudne\, a wychodząc z zajęć\, będziesz właścicielem najpiękniejszej (bo własnej) kawiarni w Krakowie. \n  \n\n\nZAREJESTRUJ SIĘ
URL:https://ud.uek.krakow.pl/wydarzenie/zajecia-dodatkowe-kawiarnia-2/
LOCATION:Budynek Główny UEK\, sala 1\, ul. Rakowicka 27\, 31-510 Kraków
CATEGORIES:Grupa II (9–12 lat) - archiwum
ATTACH;FMTTYPE=image/jpeg:https://ud.uek.krakow.pl/wp-content/uploads/2019/10/lemoniada.jpg
ORGANIZER;CN="Uniwersytet Ekonomiczny w Krakowie":MAILTO:ud@uek.krakow.pl
END:VEVENT
BEGIN:VEVENT
DTSTART;TZID=Europe/Warsaw:20200229T103000
DTEND;TZID=Europe/Warsaw:20200229T113000
DTSTAMP:20260421T064246
CREATED:20200205T111717Z
LAST-MODIFIED:20200924T091822Z
UID:2464-1582972200-1582975800@ud.uek.krakow.pl
SUMMARY:Zajęcia dodatkowe:  „Ślady kryminalistyczne – zabawy młodych detektywów\, cz. 2”
DESCRIPTION:GRUPA II (9–12 LAT)\n„Ślady kryminalistyczne – zabawy młodych detektywów\, cz. 2”\ndr hab. Jolanta Wąs-Gubała\nInstytut Ekspertyz Sądowych w Krakowie \nW trakcie warsztatów studenci dowiedzą się\, jakiego rodzaju ślady mogą pozostawić po sobie przestępcy na miejscu zderzania. Poznają sposoby poszukiwania takich śladów oraz ich ochrony przed zniszczeniem. Przekonają się\, czy brak śladów dostrzegalnych gołym okiem świadczy o tym\, że ich naprawdę nie ma? Będziemy też rozmawiać o tym\, czy łatwo zostać okradzionym\, a także jak się zabezpieczyć przed kradzieżą oraz pomóc Policji złapać złodzieja? Studenci dowiedzą się\, jak odróżnić prawdziwe pieniądze od fałszywych oraz jak zabezpieczone są polskie banknoty\, a także banknoty Euro? \n  \n\n\nZAREJESTRUJ SIĘ
URL:https://ud.uek.krakow.pl/wydarzenie/zajecia-dodatkowe-slady-kryminalistyczne-2/
LOCATION:Budynek Główny UEK\, sala 4\, ul. Rakowicka 27\, 31-510 Kraków
CATEGORIES:Grupa II (9–12 lat) - archiwum
ATTACH;FMTTYPE=image/jpeg:https://ud.uek.krakow.pl/wp-content/uploads/2019/10/detyktywi.jpg
ORGANIZER;CN="Uniwersytet Ekonomiczny w Krakowie":MAILTO:ud@uek.krakow.pl
END:VEVENT
BEGIN:VEVENT
DTSTART;TZID=Europe/Warsaw:20200118T130000
DTEND;TZID=Europe/Warsaw:20200118T140000
DTSTAMP:20260421T064246
CREATED:20191008T021518Z
LAST-MODIFIED:20200205T125455Z
UID:2217-1579352400-1579356000@ud.uek.krakow.pl
SUMMARY:Zajęcia dodatkowe:  Tenis ziemny
DESCRIPTION:Tenis ziemny\nStudium Wychowania Fizycznego i Sportu UEK \nSzanowni Państwo\, \nZ uwagi na organizację 30. tradycyjnego Wieczoru Kolęd UEK w dniu 18 stycznia 2020 r. w hali widowiskowo-sportowej\, zmuszeni jesteśmy odwołać w tym dniu zajęcia z tenisa ziemnego. \n  \n\n\nZAREJESTRUJ SIĘ
URL:https://ud.uek.krakow.pl/wydarzenie/zajecia-dodatkowe-tenis-ziemny-3/
LOCATION:Pawilon S\, hala sportowa\, ul. Rakowicka 27\, 31-510 Kraków
CATEGORIES:Grupa I (6-8 lat) - archiwum,Grupa II (9–12 lat) - archiwum
ATTACH;FMTTYPE=image/jpeg:https://ud.uek.krakow.pl/wp-content/uploads/2019/10/tenis.jpg
ORGANIZER;CN="Uniwersytet Ekonomiczny w Krakowie":MAILTO:ud@uek.krakow.pl
END:VEVENT
BEGIN:VEVENT
DTSTART;TZID=Europe/Warsaw:20200118T114500
DTEND;TZID=Europe/Warsaw:20200118T123000
DTSTAMP:20260421T064246
CREATED:20191004T232320Z
LAST-MODIFIED:20200205T125444Z
UID:2126-1579347900-1579350600@ud.uek.krakow.pl
SUMMARY:Wykład:  „Śladami światowego ślimaka. Czy globalizacja zwalnia?”
DESCRIPTION:GRUPA II (9–12 LAT)\n„Śladami światowego ślimaka. Czy globalizacja zwalnia?”\ndr Piotr Stanek\nKatedra Międzynarodowych Stosunków Gospodarczych UEK
URL:https://ud.uek.krakow.pl/wydarzenie/wyklad-sladami-swiatowego-slimaka-czy-globalizacja-zwalnia/
LOCATION:Stara Aula w Budynku Głównym UEK\, ul. Rakowicka 27\, 31-510 Kraków
CATEGORIES:Grupa II (9–12 lat) - archiwum
ATTACH;FMTTYPE=image/jpeg:https://ud.uek.krakow.pl/wp-content/uploads/2019/10/slimak.jpg
ORGANIZER;CN="Uniwersytet Ekonomiczny w Krakowie":MAILTO:ud@uek.krakow.pl
END:VEVENT
BEGIN:VEVENT
DTSTART;TZID=Europe/Warsaw:20200118T114000
DTEND;TZID=Europe/Warsaw:20200118T124000
DTSTAMP:20260421T064246
CREATED:20191008T003958Z
LAST-MODIFIED:20200205T125435Z
UID:2189-1579347600-1579351200@ud.uek.krakow.pl
SUMMARY:Zajęcia dodatkowe: „Czym jest marketing?”
DESCRIPTION:Grupa I (6-8lat)\n„Czym jest marketing?”\nmgr Anna Wieczór\nKatedra Mikroekonomii UEK \n  \n\n\nZAREJESTRUJ SIĘ
URL:https://ud.uek.krakow.pl/wydarzenie/zajecia-dodatkowe-czym-jest-marketing-3/
LOCATION:Budynek Główny UEK\, sala 1\, ul. Rakowicka 27\, 31-510 Kraków
CATEGORIES:Grupa I (6-8 lat) - archiwum
ATTACH;FMTTYPE=image/jpeg:https://ud.uek.krakow.pl/wp-content/uploads/2019/10/marketing.jpg
ORGANIZER;CN="Uniwersytet Ekonomiczny w Krakowie":MAILTO:ud@uek.krakow.pl
END:VEVENT
BEGIN:VEVENT
DTSTART;TZID=Europe/Warsaw:20200118T114000
DTEND;TZID=Europe/Warsaw:20200118T124000
DTSTAMP:20260421T064246
CREATED:20191008T002617Z
LAST-MODIFIED:20200205T125420Z
UID:2185-1579347600-1579351200@ud.uek.krakow.pl
SUMMARY:Zajęcia dodatkowe: „Tkanina – jak wykonać jeden z najstarszych wynalazków ludzkości?”
DESCRIPTION:Grupa I (6-8lat)\n„Tkanina – jak wykonać jeden z najstarszych wynalazków ludzkości?”\nmgr Mateusz Kowalski\nKatedra Jakości i Bezpieczeństwa Produktów Przemysłowych UEK \n  \n\n\nZAREJESTRUJ SIĘ
URL:https://ud.uek.krakow.pl/wydarzenie/zajecia-dodatkowe-tkanina-jak-wykonac-jeden-z-najstarszych-wynalazkow-ludzkosci-3/
LOCATION:Budynek Główny UEK\, sala 4\, ul. Rakowicka 27\, 31-510 Kraków
CATEGORIES:Grupa I (6-8 lat) - archiwum
ATTACH;FMTTYPE=image/jpeg:https://ud.uek.krakow.pl/wp-content/uploads/2019/10/tkanina.jpg
ORGANIZER;CN="Uniwersytet Ekonomiczny w Krakowie":MAILTO:ud@uek.krakow.pl
END:VEVENT
BEGIN:VEVENT
DTSTART;TZID=Europe/Warsaw:20200118T104500
DTEND;TZID=Europe/Warsaw:20200118T113000
DTSTAMP:20260421T064246
CREATED:20191004T232332Z
LAST-MODIFIED:20200205T125410Z
UID:2127-1579344300-1579347000@ud.uek.krakow.pl
SUMMARY:Wykład:  „Śladami światowego ślimaka. Czy globalizacja zwalnia?”
DESCRIPTION:Grupa I (6-8lat)\n„Śladami światowego ślimaka. Czy globalizacja zwalnia?”\ndr Piotr Stanek\nKatedra Międzynarodowych Stosunków Gospodarczych UEK
URL:https://ud.uek.krakow.pl/wydarzenie/wyklad-sladami-swiatowego-slimaka-czy-globalizacja-zwalnia1/
LOCATION:Stara Aula w Budynku Głównym UEK\, ul. Rakowicka 27\, 31-510 Kraków
CATEGORIES:Grupa I (6-8 lat) - archiwum
ATTACH;FMTTYPE=image/jpeg:https://ud.uek.krakow.pl/wp-content/uploads/2019/10/slimak.jpg
ORGANIZER;CN="Uniwersytet Ekonomiczny w Krakowie":MAILTO:ud@uek.krakow.pl
END:VEVENT
BEGIN:VEVENT
DTSTART;TZID=Europe/Warsaw:20200118T103000
DTEND;TZID=Europe/Warsaw:20200118T113000
DTSTAMP:20260421T064246
CREATED:20191008T003954Z
LAST-MODIFIED:20200205T125402Z
UID:2188-1579343400-1579347000@ud.uek.krakow.pl
SUMMARY:Zajęcia dodatkowe:  „Czym jest marketing?”
DESCRIPTION:GRUPA II (9–12 LAT)\n„Czym jest marketing?”\nmgr Anna Wieczór\nKatedra Mikroekonomii UEK \n  \n\n\nZAREJESTRUJ SIĘ
URL:https://ud.uek.krakow.pl/wydarzenie/zajecia-dodatkowe-czym-jest-marketing-4/
LOCATION:Budynek Główny UEK\, sala 1\, ul. Rakowicka 27\, 31-510 Kraków
CATEGORIES:Grupa II (9–12 lat) - archiwum
ATTACH;FMTTYPE=image/jpeg:https://ud.uek.krakow.pl/wp-content/uploads/2019/10/marketing.jpg
ORGANIZER;CN="Uniwersytet Ekonomiczny w Krakowie":MAILTO:ud@uek.krakow.pl
END:VEVENT
BEGIN:VEVENT
DTSTART;TZID=Europe/Warsaw:20200118T103000
DTEND;TZID=Europe/Warsaw:20200118T113000
DTSTAMP:20260421T064246
CREATED:20191008T002642Z
LAST-MODIFIED:20200205T125354Z
UID:2184-1579343400-1579347000@ud.uek.krakow.pl
SUMMARY:Zajęcia dodatkowe:  „Tkanina – jak wykonać jeden z najstarszych wynalazków ludzkości?”
DESCRIPTION:GRUPA II (9–12 LAT)\n„Tkanina – jak wykonać jeden z najstarszych wynalazków ludzkości?”\nmgr Mateusz Kowalski\nKatedra Jakości i Bezpieczeństwa Produktów Przemysłowych UEK \n  \n\n\nZAREJESTRUJ SIĘ
URL:https://ud.uek.krakow.pl/wydarzenie/zajecia-dodatkowe-tkanina-jak-wykonac-jeden-z-najstarszych-wynalazkow-ludzkosci-4/
LOCATION:Budynek Główny UEK\, sala 4\, ul. Rakowicka 27\, 31-510 Kraków
CATEGORIES:Grupa II (9–12 lat) - archiwum
ATTACH;FMTTYPE=image/jpeg:https://ud.uek.krakow.pl/wp-content/uploads/2019/10/tkanina.jpg
ORGANIZER;CN="Uniwersytet Ekonomiczny w Krakowie":MAILTO:ud@uek.krakow.pl
END:VEVENT
BEGIN:VEVENT
DTSTART;TZID=Europe/Warsaw:20191214T130000
DTEND;TZID=Europe/Warsaw:20191214T140000
DTSTAMP:20260421T064246
CREATED:20191008T021626Z
LAST-MODIFIED:20200205T125345Z
UID:2218-1576328400-1576332000@ud.uek.krakow.pl
SUMMARY:Zajęcia dodatkowe:  Tenis ziemny
DESCRIPTION:Tenis ziemny\nStudium Wychowania Fizycznego i Sportu UEK \n  \n\n\nZAREJESTRUJ SIĘ
URL:https://ud.uek.krakow.pl/wydarzenie/zajecia-dodatkowe-tenis-ziemny-4/
LOCATION:Pawilon S\, hala sportowa\, ul. Rakowicka 27\, 31-510 Kraków
CATEGORIES:Grupa I (6-8 lat) - archiwum,Grupa II (9–12 lat) - archiwum
ATTACH;FMTTYPE=image/jpeg:https://ud.uek.krakow.pl/wp-content/uploads/2019/10/tenis.jpg
ORGANIZER;CN="Uniwersytet Ekonomiczny w Krakowie":MAILTO:ud@uek.krakow.pl
END:VEVENT
BEGIN:VEVENT
DTSTART;TZID=Europe/Warsaw:20191214T114500
DTEND;TZID=Europe/Warsaw:20191214T123000
DTSTAMP:20260421T064246
CREATED:20191004T225928Z
LAST-MODIFIED:20200205T125335Z
UID:2121-1576323900-1576326600@ud.uek.krakow.pl
SUMMARY:Wykład:  Co to jest prawdopodobieństwo?
DESCRIPTION:GRUPA II (9–12 LAT)\nCo to jest prawdopodobieństwo?\nprof. dr hab. Andrzej Sokołowski\nKatedra Statystyki UEK
URL:https://ud.uek.krakow.pl/wydarzenie/wyklad-co-to-jest-prawdopodobienstwo-2/
LOCATION:Stara Aula w Budynku Głównym UEK\, ul. Rakowicka 27\, 31-510 Kraków
CATEGORIES:Grupa II (9–12 lat) - archiwum
ATTACH;FMTTYPE=image/jpeg:https://ud.uek.krakow.pl/wp-content/uploads/2019/10/prawdopodobienstwo.jpg
ORGANIZER;CN="Uniwersytet Ekonomiczny w Krakowie":MAILTO:ud@uek.krakow.pl
END:VEVENT
BEGIN:VEVENT
DTSTART;TZID=Europe/Warsaw:20191214T114000
DTEND;TZID=Europe/Warsaw:20191214T124000
DTSTAMP:20260421T064246
CREATED:20191008T004933Z
LAST-MODIFIED:20200205T125328Z
UID:2196-1576323600-1576327200@ud.uek.krakow.pl
SUMMARY:Zajęcia dodatkowe: „Czym jest marketing?”
DESCRIPTION:Grupa I (6-8lat)\n„Czym jest marketing?”\nmgr Anna Wieczór\nKatedra Mikroekonomii UEK \n  \n\n\nZAREJESTRUJ SIĘ
URL:https://ud.uek.krakow.pl/wydarzenie/zajecia-dodatkowe-czym-jest-marketing/
LOCATION:Budynek Główny UEK\, sala 1\, ul. Rakowicka 27\, 31-510 Kraków
CATEGORIES:Grupa I (6-8 lat) - archiwum
ATTACH;FMTTYPE=image/jpeg:https://ud.uek.krakow.pl/wp-content/uploads/2019/10/marketing.jpg
ORGANIZER;CN="Uniwersytet Ekonomiczny w Krakowie":MAILTO:ud@uek.krakow.pl
END:VEVENT
BEGIN:VEVENT
DTSTART;TZID=Europe/Warsaw:20191214T114000
DTEND;TZID=Europe/Warsaw:20191214T124000
DTSTAMP:20260421T064246
CREATED:20191006T220740Z
LAST-MODIFIED:20200205T125317Z
UID:2172-1576323600-1576327200@ud.uek.krakow.pl
SUMMARY:Zajęcia dodatkowe: „Ile mierzy wieżowiec?”
DESCRIPTION:Grupa I (6-8lat)\n„Ile mierzy wieżowiec?”\nMarzena Dranka\nAkademia Miarologii \n  \n\n\nZAREJESTRUJ SIĘ
URL:https://ud.uek.krakow.pl/wydarzenie/zajecia-dodatkowe-ile-mierzy-wiezowiec-3/
LOCATION:Budynek Główny UEK\, sala 4\, ul. Rakowicka 27\, 31-510 Kraków
CATEGORIES:Grupa I (6-8 lat) - archiwum
ATTACH;FMTTYPE=image/jpeg:https://ud.uek.krakow.pl/wp-content/uploads/2019/10/wiezowiec.jpg
ORGANIZER;CN="Uniwersytet Ekonomiczny w Krakowie":MAILTO:ud@uek.krakow.pl
END:VEVENT
BEGIN:VEVENT
DTSTART;TZID=Europe/Warsaw:20191214T104500
DTEND;TZID=Europe/Warsaw:20191214T113000
DTSTAMP:20260421T064246
CREATED:20191004T230037Z
LAST-MODIFIED:20200205T125300Z
UID:2122-1576320300-1576323000@ud.uek.krakow.pl
SUMMARY:Wykład:  Co to jest prawdopodobieństwo?
DESCRIPTION:Grupa I (6-8lat)\nCo to jest prawdopodobieństwo?\nprof. dr hab. Andrzej Sokołowski\nKatedra Statystyki UEK
URL:https://ud.uek.krakow.pl/wydarzenie/wyklad-co-to-jest-prawdopodobienstwo/
LOCATION:Stara Aula w Budynku Głównym UEK\, ul. Rakowicka 27\, 31-510 Kraków
CATEGORIES:Grupa I (6-8 lat) - archiwum
ATTACH;FMTTYPE=image/jpeg:https://ud.uek.krakow.pl/wp-content/uploads/2019/10/prawdopodobienstwo.jpg
ORGANIZER;CN="Uniwersytet Ekonomiczny w Krakowie":MAILTO:ud@uek.krakow.pl
END:VEVENT
BEGIN:VEVENT
DTSTART;TZID=Europe/Warsaw:20191214T103000
DTEND;TZID=Europe/Warsaw:20191214T113000
DTSTAMP:20260421T064246
CREATED:20191008T004955Z
LAST-MODIFIED:20200205T125251Z
UID:2195-1576319400-1576323000@ud.uek.krakow.pl
SUMMARY:Zajęcia dodatkowe:  „Czym jest marketing?”
DESCRIPTION:GRUPA II (9–12 LAT)\n„Czym jest marketing?”\nmgr Anna Wieczór\nKatedra Mikroekonomii UEK \n  \n\n\nZAREJESTRUJ SIĘ
URL:https://ud.uek.krakow.pl/wydarzenie/zajecia-dodatkowe-czym-jest-marketing-2/
LOCATION:Budynek Główny UEK\, sala 1\, ul. Rakowicka 27\, 31-510 Kraków
CATEGORIES:Grupa II (9–12 lat) - archiwum
ATTACH;FMTTYPE=image/jpeg:https://ud.uek.krakow.pl/wp-content/uploads/2019/10/marketing.jpg
ORGANIZER;CN="Uniwersytet Ekonomiczny w Krakowie":MAILTO:ud@uek.krakow.pl
END:VEVENT
BEGIN:VEVENT
DTSTART;TZID=Europe/Warsaw:20191214T103000
DTEND;TZID=Europe/Warsaw:20191214T113000
DTSTAMP:20260421T064246
CREATED:20191006T220801Z
LAST-MODIFIED:20200205T125243Z
UID:2171-1576319400-1576323000@ud.uek.krakow.pl
SUMMARY:Zajęcia dodatkowe:  „Ile mierzy wieżowiec?”
DESCRIPTION:GRUPA II (9–12 LAT)\n„Ile mierzy wieżowiec?”\nMarzena Dranka\nAkademia Miarologii \n  \n\n\nZAREJESTRUJ SIĘ
URL:https://ud.uek.krakow.pl/wydarzenie/zajecia-dodatkowe-ile-mierzy-wiezowiec-4/
LOCATION:Budynek Główny UEK\, sala 4\, ul. Rakowicka 27\, 31-510 Kraków
CATEGORIES:Grupa II (9–12 lat) - archiwum
ATTACH;FMTTYPE=image/jpeg:https://ud.uek.krakow.pl/wp-content/uploads/2019/10/wiezowiec.jpg
ORGANIZER;CN="Uniwersytet Ekonomiczny w Krakowie":MAILTO:ud@uek.krakow.pl
END:VEVENT
BEGIN:VEVENT
DTSTART;TZID=Europe/Warsaw:20191130T130000
DTEND;TZID=Europe/Warsaw:20191130T140000
DTSTAMP:20260421T064246
CREATED:20191008T021407Z
LAST-MODIFIED:20200205T125228Z
UID:2219-1575118800-1575122400@ud.uek.krakow.pl
SUMMARY:Zajęcia dodatkowe:  Tenis ziemny
DESCRIPTION:Tenis ziemny\nStudium Wychowania Fizycznego i Sportu UEK \n  \n\n\nZAREJESTRUJ SIĘ
URL:https://ud.uek.krakow.pl/wydarzenie/zajecia-dodatkowe-tenis-ziemny-2/
LOCATION:Pawilon S\, hala sportowa\, ul. Rakowicka 27\, 31-510 Kraków
CATEGORIES:Grupa I (6-8 lat) - archiwum,Grupa II (9–12 lat) - archiwum
ATTACH;FMTTYPE=image/jpeg:https://ud.uek.krakow.pl/wp-content/uploads/2019/10/tenis.jpg
ORGANIZER;CN="Uniwersytet Ekonomiczny w Krakowie":MAILTO:ud@uek.krakow.pl
END:VEVENT
BEGIN:VEVENT
DTSTART;TZID=Europe/Warsaw:20191130T114500
DTEND;TZID=Europe/Warsaw:20191130T123000
DTSTAMP:20260421T064246
CREATED:20191004T183437Z
LAST-MODIFIED:20200205T125218Z
UID:2114-1575114300-1575117000@ud.uek.krakow.pl
SUMMARY:Wykład:  Jak zaprzyjaźnić się z Japończykiem? Akcja międzykulturowa komunikacja
DESCRIPTION:GRUPA II (9–12 LAT)\n„Jak zaprzyjaźnić się z Japończykiem? Akcja międzykulturowa komunikacja”\ndr Małgorzata Marchewka\nKatedra Procesu Zarządzania UEK
URL:https://ud.uek.krakow.pl/wydarzenie/wyklad-jak-zaprzyjaznic-sie-z-japonczykiem-akcja-miedzykulturowa-komunikacja/
LOCATION:Stara Aula w Budynku Głównym UEK\, ul. Rakowicka 27\, 31-510 Kraków
CATEGORIES:Grupa II (9–12 lat) - archiwum
ATTACH;FMTTYPE=image/jpeg:https://ud.uek.krakow.pl/wp-content/uploads/2019/10/japonczyk-przyjazn.jpg
ORGANIZER;CN="Uniwersytet Ekonomiczny w Krakowie":MAILTO:ud@uek.krakow.pl
END:VEVENT
BEGIN:VEVENT
DTSTART;TZID=Europe/Warsaw:20191130T114000
DTEND;TZID=Europe/Warsaw:20191130T124000
DTSTAMP:20260421T064246
CREATED:20191008T012106Z
LAST-MODIFIED:20200205T125209Z
UID:2204-1575114000-1575117600@ud.uek.krakow.pl
SUMMARY:Zajęcia dodatkowe: „Ślady kryminalistyczne – zabawy młodych detektywów”
DESCRIPTION:Grupa I (6-8lat)\n„Ślady kryminalistyczne – zabawy młodych detektywów”\ndr Irena Białek\nInstytut Badań i Ekspertyz Sądowych w Krakowie \n  \n\n\nZAREJESTRUJ SIĘ
URL:https://ud.uek.krakow.pl/wydarzenie/zajecia-dodatkowe-slady-kryminalistyczne-zabawy-mlodych-detektywow-3/
LOCATION:Budynek Główny UEK\, sala 1\, ul. Rakowicka 27\, 31-510 Kraków
CATEGORIES:Grupa I (6-8 lat) - archiwum
ATTACH;FMTTYPE=image/jpeg:https://ud.uek.krakow.pl/wp-content/uploads/2019/10/detyktywi.jpg
ORGANIZER;CN="Uniwersytet Ekonomiczny w Krakowie":MAILTO:ud@uek.krakow.pl
END:VEVENT
BEGIN:VEVENT
DTSTART;TZID=Europe/Warsaw:20191130T114000
DTEND;TZID=Europe/Warsaw:20191130T124000
DTSTAMP:20260421T064246
CREATED:20191006T222243Z
LAST-MODIFIED:20200205T130155Z
UID:2177-1575114000-1575117600@ud.uek.krakow.pl
SUMMARY:Zajęcia dodatkowe: „Tkanina – jak wykonać jeden z najstarszych wynalazków ludzkości?”
DESCRIPTION:Grupa I (6-8lat)\n„Tkanina – jak wykonać jeden z najstarszych wynalazków ludzkości?”\nmgr Mateusz Kowalski\nKatedra Jakości i Bezpieczeństwa Produktów Przemysłowych UEK \n  \n\n\nZAREJESTRUJ SIĘ
URL:https://ud.uek.krakow.pl/wydarzenie/zajecia-dodatkowe-tkanina-jak-wykonac-jeden-z-najstarszych-wynalazkow-ludzkosci/
LOCATION:Budynek Główny UEK\, sala 4\, ul. Rakowicka 27\, 31-510 Kraków
CATEGORIES:Grupa I (6-8 lat) - archiwum
ATTACH;FMTTYPE=image/jpeg:https://ud.uek.krakow.pl/wp-content/uploads/2019/10/tkanina.jpg
ORGANIZER;CN="Uniwersytet Ekonomiczny w Krakowie":MAILTO:ud@uek.krakow.pl
END:VEVENT
BEGIN:VEVENT
DTSTART;TZID=Europe/Warsaw:20191130T104500
DTEND;TZID=Europe/Warsaw:20191130T113000
DTSTAMP:20260421T064246
CREATED:20191004T183602Z
LAST-MODIFIED:20200205T125152Z
UID:2115-1575110700-1575113400@ud.uek.krakow.pl
SUMMARY:Wykład:  Jak zaprzyjaźnić się z Japończykiem? Akcja międzykulturowa komunikacja
DESCRIPTION:Grupa I (6-8lat)\n„Jak zaprzyjaźnić się z Japończykiem? Akcja międzykulturowa komunikacja”\ndr Małgorzata Marchewka\nKatedra Procesu Zarządzania UEK
URL:https://ud.uek.krakow.pl/wydarzenie/jak-zaprzyjaznic-sie-z-japonczykiem-akcja-miedzykulturowa-komunikacja/
LOCATION:Stara Aula w Budynku Głównym UEK\, ul. Rakowicka 27\, 31-510 Kraków
CATEGORIES:Grupa I (6-8 lat) - archiwum
ATTACH;FMTTYPE=image/jpeg:https://ud.uek.krakow.pl/wp-content/uploads/2019/10/japonczyk-przyjazn.jpg
ORGANIZER;CN="Uniwersytet Ekonomiczny w Krakowie":MAILTO:ud@uek.krakow.pl
END:VEVENT
BEGIN:VEVENT
DTSTART;TZID=Europe/Warsaw:20191130T103000
DTEND;TZID=Europe/Warsaw:20191130T113000
DTSTAMP:20260421T064246
CREATED:20191008T012127Z
LAST-MODIFIED:20200205T125143Z
UID:2205-1575109800-1575113400@ud.uek.krakow.pl
SUMMARY:Zajęcia dodatkowe:  „Ślady kryminalistyczne – zabawy młodych detektywów”
DESCRIPTION:GRUPA II (9–12 LAT)\n„Ślady kryminalistyczne – zabawy młodych detektywów”\ndr Irena Białek\nInstytut Badań i Ekspertyz Sądowych w Krakowie \n  \n\n\nZAREJESTRUJ SIĘ
URL:https://ud.uek.krakow.pl/wydarzenie/zajecia-dodatkowe-slady-kryminalistyczne-zabawy-mlodych-detektywow-4/
LOCATION:Budynek Główny UEK\, sala 1\, ul. Rakowicka 27\, 31-510 Kraków
CATEGORIES:Grupa II (9–12 lat) - archiwum
ATTACH;FMTTYPE=image/jpeg:https://ud.uek.krakow.pl/wp-content/uploads/2019/10/detyktywi.jpg
ORGANIZER;CN="Uniwersytet Ekonomiczny w Krakowie":MAILTO:ud@uek.krakow.pl
END:VEVENT
BEGIN:VEVENT
DTSTART;TZID=Europe/Warsaw:20191130T103000
DTEND;TZID=Europe/Warsaw:20191130T113000
DTSTAMP:20260421T064246
CREATED:20191006T222319Z
LAST-MODIFIED:20200205T130630Z
UID:2176-1575109800-1575113400@ud.uek.krakow.pl
SUMMARY:Zajęcia dodatkowe:  „Tkanina – jak wykonać jeden z najstarszych wynalazków ludzkości?”
DESCRIPTION:GRUPA II (9–12 LAT)\n„Tkanina – jak wykonać jeden z najstarszych wynalazków ludzkości?”\nmgr Mateusz Kowalski\nKatedra Jakości i Bezpieczeństwa Produktów Przemysłowych UEK \n  \n\n\nZAREJESTRUJ SIĘ
URL:https://ud.uek.krakow.pl/wydarzenie/zajecia-dodatkowe-tkanina-jak-wykonac-jeden-z-najstarszych-wynalazkow-ludzkosci-2/
LOCATION:Budynek Główny UEK\, sala 4\, ul. Rakowicka 27\, 31-510 Kraków
CATEGORIES:Grupa II (9–12 lat) - archiwum
ATTACH;FMTTYPE=image/jpeg:https://ud.uek.krakow.pl/wp-content/uploads/2019/10/tkanina.jpg
ORGANIZER;CN="Uniwersytet Ekonomiczny w Krakowie":MAILTO:ud@uek.krakow.pl
END:VEVENT
END:VCALENDAR