BEGIN:VCALENDAR
VERSION:2.0
PRODID:-//Uniwersytet Dziecięcy Uniwersytetu Ekonomicznego w Krakowie - ECPv6.15.20//NONSGML v1.0//EN
CALSCALE:GREGORIAN
METHOD:PUBLISH
X-WR-CALNAME:Uniwersytet Dziecięcy Uniwersytetu Ekonomicznego w Krakowie
X-ORIGINAL-URL:https://ud.uek.krakow.pl
X-WR-CALDESC:Wydarzenia dla Uniwersytet Dziecięcy Uniwersytetu Ekonomicznego w Krakowie
REFRESH-INTERVAL;VALUE=DURATION:PT1H
X-Robots-Tag:noindex
X-PUBLISHED-TTL:PT1H
BEGIN:VTIMEZONE
TZID:Europe/Warsaw
BEGIN:DAYLIGHT
TZOFFSETFROM:+0100
TZOFFSETTO:+0200
TZNAME:CEST
DTSTART:20180325T010000
END:DAYLIGHT
BEGIN:STANDARD
TZOFFSETFROM:+0200
TZOFFSETTO:+0100
TZNAME:CET
DTSTART:20181028T010000
END:STANDARD
BEGIN:DAYLIGHT
TZOFFSETFROM:+0100
TZOFFSETTO:+0200
TZNAME:CEST
DTSTART:20190331T010000
END:DAYLIGHT
BEGIN:STANDARD
TZOFFSETFROM:+0200
TZOFFSETTO:+0100
TZNAME:CET
DTSTART:20191027T010000
END:STANDARD
BEGIN:DAYLIGHT
TZOFFSETFROM:+0100
TZOFFSETTO:+0200
TZNAME:CEST
DTSTART:20200329T010000
END:DAYLIGHT
BEGIN:STANDARD
TZOFFSETFROM:+0200
TZOFFSETTO:+0100
TZNAME:CET
DTSTART:20201025T010000
END:STANDARD
END:VTIMEZONE
BEGIN:VTIMEZONE
TZID:UTC
BEGIN:STANDARD
TZOFFSETFROM:+0000
TZOFFSETTO:+0000
TZNAME:UTC
DTSTART:20180101T000000
END:STANDARD
END:VTIMEZONE
BEGIN:VEVENT
DTSTART;TZID=Europe/Warsaw:20191214T104500
DTEND;TZID=Europe/Warsaw:20191214T113000
DTSTAMP:20260421T064250
CREATED:20191004T230037Z
LAST-MODIFIED:20200205T125300Z
UID:2122-1576320300-1576323000@ud.uek.krakow.pl
SUMMARY:Wykład:  Co to jest prawdopodobieństwo?
DESCRIPTION:Grupa I (6-8lat)\nCo to jest prawdopodobieństwo?\nprof. dr hab. Andrzej Sokołowski\nKatedra Statystyki UEK
URL:https://ud.uek.krakow.pl/wydarzenie/wyklad-co-to-jest-prawdopodobienstwo/
LOCATION:Stara Aula w Budynku Głównym UEK\, ul. Rakowicka 27\, 31-510 Kraków
CATEGORIES:Grupa I (6-8 lat) - archiwum
ATTACH;FMTTYPE=image/jpeg:https://ud.uek.krakow.pl/wp-content/uploads/2019/10/prawdopodobienstwo.jpg
ORGANIZER;CN="Uniwersytet Ekonomiczny w Krakowie":MAILTO:ud@uek.krakow.pl
END:VEVENT
BEGIN:VEVENT
DTSTART;TZID=Europe/Warsaw:20191214T103000
DTEND;TZID=Europe/Warsaw:20191214T113000
DTSTAMP:20260421T064250
CREATED:20191008T004955Z
LAST-MODIFIED:20200205T125251Z
UID:2195-1576319400-1576323000@ud.uek.krakow.pl
SUMMARY:Zajęcia dodatkowe:  „Czym jest marketing?”
DESCRIPTION:GRUPA II (9–12 LAT)\n„Czym jest marketing?”\nmgr Anna Wieczór\nKatedra Mikroekonomii UEK \n  \n\n\nZAREJESTRUJ SIĘ
URL:https://ud.uek.krakow.pl/wydarzenie/zajecia-dodatkowe-czym-jest-marketing-2/
LOCATION:Budynek Główny UEK\, sala 1\, ul. Rakowicka 27\, 31-510 Kraków
CATEGORIES:Grupa II (9–12 lat) - archiwum
ATTACH;FMTTYPE=image/jpeg:https://ud.uek.krakow.pl/wp-content/uploads/2019/10/marketing.jpg
ORGANIZER;CN="Uniwersytet Ekonomiczny w Krakowie":MAILTO:ud@uek.krakow.pl
END:VEVENT
BEGIN:VEVENT
DTSTART;TZID=Europe/Warsaw:20191214T103000
DTEND;TZID=Europe/Warsaw:20191214T113000
DTSTAMP:20260421T064250
CREATED:20191006T220801Z
LAST-MODIFIED:20200205T125243Z
UID:2171-1576319400-1576323000@ud.uek.krakow.pl
SUMMARY:Zajęcia dodatkowe:  „Ile mierzy wieżowiec?”
DESCRIPTION:GRUPA II (9–12 LAT)\n„Ile mierzy wieżowiec?”\nMarzena Dranka\nAkademia Miarologii \n  \n\n\nZAREJESTRUJ SIĘ
URL:https://ud.uek.krakow.pl/wydarzenie/zajecia-dodatkowe-ile-mierzy-wiezowiec-4/
LOCATION:Budynek Główny UEK\, sala 4\, ul. Rakowicka 27\, 31-510 Kraków
CATEGORIES:Grupa II (9–12 lat) - archiwum
ATTACH;FMTTYPE=image/jpeg:https://ud.uek.krakow.pl/wp-content/uploads/2019/10/wiezowiec.jpg
ORGANIZER;CN="Uniwersytet Ekonomiczny w Krakowie":MAILTO:ud@uek.krakow.pl
END:VEVENT
BEGIN:VEVENT
DTSTART;TZID=Europe/Warsaw:20191130T130000
DTEND;TZID=Europe/Warsaw:20191130T140000
DTSTAMP:20260421T064250
CREATED:20191008T021407Z
LAST-MODIFIED:20200205T125228Z
UID:2219-1575118800-1575122400@ud.uek.krakow.pl
SUMMARY:Zajęcia dodatkowe:  Tenis ziemny
DESCRIPTION:Tenis ziemny\nStudium Wychowania Fizycznego i Sportu UEK \n  \n\n\nZAREJESTRUJ SIĘ
URL:https://ud.uek.krakow.pl/wydarzenie/zajecia-dodatkowe-tenis-ziemny-2/
LOCATION:Pawilon S\, hala sportowa\, ul. Rakowicka 27\, 31-510 Kraków
CATEGORIES:Grupa I (6-8 lat) - archiwum,Grupa II (9–12 lat) - archiwum
ATTACH;FMTTYPE=image/jpeg:https://ud.uek.krakow.pl/wp-content/uploads/2019/10/tenis.jpg
ORGANIZER;CN="Uniwersytet Ekonomiczny w Krakowie":MAILTO:ud@uek.krakow.pl
END:VEVENT
BEGIN:VEVENT
DTSTART;TZID=Europe/Warsaw:20191130T114500
DTEND;TZID=Europe/Warsaw:20191130T123000
DTSTAMP:20260421T064250
CREATED:20191004T183437Z
LAST-MODIFIED:20200205T125218Z
UID:2114-1575114300-1575117000@ud.uek.krakow.pl
SUMMARY:Wykład:  Jak zaprzyjaźnić się z Japończykiem? Akcja międzykulturowa komunikacja
DESCRIPTION:GRUPA II (9–12 LAT)\n„Jak zaprzyjaźnić się z Japończykiem? Akcja międzykulturowa komunikacja”\ndr Małgorzata Marchewka\nKatedra Procesu Zarządzania UEK
URL:https://ud.uek.krakow.pl/wydarzenie/wyklad-jak-zaprzyjaznic-sie-z-japonczykiem-akcja-miedzykulturowa-komunikacja/
LOCATION:Stara Aula w Budynku Głównym UEK\, ul. Rakowicka 27\, 31-510 Kraków
CATEGORIES:Grupa II (9–12 lat) - archiwum
ATTACH;FMTTYPE=image/jpeg:https://ud.uek.krakow.pl/wp-content/uploads/2019/10/japonczyk-przyjazn.jpg
ORGANIZER;CN="Uniwersytet Ekonomiczny w Krakowie":MAILTO:ud@uek.krakow.pl
END:VEVENT
BEGIN:VEVENT
DTSTART;TZID=Europe/Warsaw:20191130T114000
DTEND;TZID=Europe/Warsaw:20191130T124000
DTSTAMP:20260421T064250
CREATED:20191008T012106Z
LAST-MODIFIED:20200205T125209Z
UID:2204-1575114000-1575117600@ud.uek.krakow.pl
SUMMARY:Zajęcia dodatkowe: „Ślady kryminalistyczne – zabawy młodych detektywów”
DESCRIPTION:Grupa I (6-8lat)\n„Ślady kryminalistyczne – zabawy młodych detektywów”\ndr Irena Białek\nInstytut Badań i Ekspertyz Sądowych w Krakowie \n  \n\n\nZAREJESTRUJ SIĘ
URL:https://ud.uek.krakow.pl/wydarzenie/zajecia-dodatkowe-slady-kryminalistyczne-zabawy-mlodych-detektywow-3/
LOCATION:Budynek Główny UEK\, sala 1\, ul. Rakowicka 27\, 31-510 Kraków
CATEGORIES:Grupa I (6-8 lat) - archiwum
ATTACH;FMTTYPE=image/jpeg:https://ud.uek.krakow.pl/wp-content/uploads/2019/10/detyktywi.jpg
ORGANIZER;CN="Uniwersytet Ekonomiczny w Krakowie":MAILTO:ud@uek.krakow.pl
END:VEVENT
BEGIN:VEVENT
DTSTART;TZID=Europe/Warsaw:20191130T114000
DTEND;TZID=Europe/Warsaw:20191130T124000
DTSTAMP:20260421T064250
CREATED:20191006T222243Z
LAST-MODIFIED:20200205T130155Z
UID:2177-1575114000-1575117600@ud.uek.krakow.pl
SUMMARY:Zajęcia dodatkowe: „Tkanina – jak wykonać jeden z najstarszych wynalazków ludzkości?”
DESCRIPTION:Grupa I (6-8lat)\n„Tkanina – jak wykonać jeden z najstarszych wynalazków ludzkości?”\nmgr Mateusz Kowalski\nKatedra Jakości i Bezpieczeństwa Produktów Przemysłowych UEK \n  \n\n\nZAREJESTRUJ SIĘ
URL:https://ud.uek.krakow.pl/wydarzenie/zajecia-dodatkowe-tkanina-jak-wykonac-jeden-z-najstarszych-wynalazkow-ludzkosci/
LOCATION:Budynek Główny UEK\, sala 4\, ul. Rakowicka 27\, 31-510 Kraków
CATEGORIES:Grupa I (6-8 lat) - archiwum
ATTACH;FMTTYPE=image/jpeg:https://ud.uek.krakow.pl/wp-content/uploads/2019/10/tkanina.jpg
ORGANIZER;CN="Uniwersytet Ekonomiczny w Krakowie":MAILTO:ud@uek.krakow.pl
END:VEVENT
BEGIN:VEVENT
DTSTART;TZID=Europe/Warsaw:20191130T104500
DTEND;TZID=Europe/Warsaw:20191130T113000
DTSTAMP:20260421T064250
CREATED:20191004T183602Z
LAST-MODIFIED:20200205T125152Z
UID:2115-1575110700-1575113400@ud.uek.krakow.pl
SUMMARY:Wykład:  Jak zaprzyjaźnić się z Japończykiem? Akcja międzykulturowa komunikacja
DESCRIPTION:Grupa I (6-8lat)\n„Jak zaprzyjaźnić się z Japończykiem? Akcja międzykulturowa komunikacja”\ndr Małgorzata Marchewka\nKatedra Procesu Zarządzania UEK
URL:https://ud.uek.krakow.pl/wydarzenie/jak-zaprzyjaznic-sie-z-japonczykiem-akcja-miedzykulturowa-komunikacja/
LOCATION:Stara Aula w Budynku Głównym UEK\, ul. Rakowicka 27\, 31-510 Kraków
CATEGORIES:Grupa I (6-8 lat) - archiwum
ATTACH;FMTTYPE=image/jpeg:https://ud.uek.krakow.pl/wp-content/uploads/2019/10/japonczyk-przyjazn.jpg
ORGANIZER;CN="Uniwersytet Ekonomiczny w Krakowie":MAILTO:ud@uek.krakow.pl
END:VEVENT
BEGIN:VEVENT
DTSTART;TZID=Europe/Warsaw:20191130T103000
DTEND;TZID=Europe/Warsaw:20191130T113000
DTSTAMP:20260421T064250
CREATED:20191008T012127Z
LAST-MODIFIED:20200205T125143Z
UID:2205-1575109800-1575113400@ud.uek.krakow.pl
SUMMARY:Zajęcia dodatkowe:  „Ślady kryminalistyczne – zabawy młodych detektywów”
DESCRIPTION:GRUPA II (9–12 LAT)\n„Ślady kryminalistyczne – zabawy młodych detektywów”\ndr Irena Białek\nInstytut Badań i Ekspertyz Sądowych w Krakowie \n  \n\n\nZAREJESTRUJ SIĘ
URL:https://ud.uek.krakow.pl/wydarzenie/zajecia-dodatkowe-slady-kryminalistyczne-zabawy-mlodych-detektywow-4/
LOCATION:Budynek Główny UEK\, sala 1\, ul. Rakowicka 27\, 31-510 Kraków
CATEGORIES:Grupa II (9–12 lat) - archiwum
ATTACH;FMTTYPE=image/jpeg:https://ud.uek.krakow.pl/wp-content/uploads/2019/10/detyktywi.jpg
ORGANIZER;CN="Uniwersytet Ekonomiczny w Krakowie":MAILTO:ud@uek.krakow.pl
END:VEVENT
BEGIN:VEVENT
DTSTART;TZID=Europe/Warsaw:20191130T103000
DTEND;TZID=Europe/Warsaw:20191130T113000
DTSTAMP:20260421T064250
CREATED:20191006T222319Z
LAST-MODIFIED:20200205T130630Z
UID:2176-1575109800-1575113400@ud.uek.krakow.pl
SUMMARY:Zajęcia dodatkowe:  „Tkanina – jak wykonać jeden z najstarszych wynalazków ludzkości?”
DESCRIPTION:GRUPA II (9–12 LAT)\n„Tkanina – jak wykonać jeden z najstarszych wynalazków ludzkości?”\nmgr Mateusz Kowalski\nKatedra Jakości i Bezpieczeństwa Produktów Przemysłowych UEK \n  \n\n\nZAREJESTRUJ SIĘ
URL:https://ud.uek.krakow.pl/wydarzenie/zajecia-dodatkowe-tkanina-jak-wykonac-jeden-z-najstarszych-wynalazkow-ludzkosci-2/
LOCATION:Budynek Główny UEK\, sala 4\, ul. Rakowicka 27\, 31-510 Kraków
CATEGORIES:Grupa II (9–12 lat) - archiwum
ATTACH;FMTTYPE=image/jpeg:https://ud.uek.krakow.pl/wp-content/uploads/2019/10/tkanina.jpg
ORGANIZER;CN="Uniwersytet Ekonomiczny w Krakowie":MAILTO:ud@uek.krakow.pl
END:VEVENT
BEGIN:VEVENT
DTSTART;TZID=Europe/Warsaw:20191116T114500
DTEND;TZID=Europe/Warsaw:20191116T123000
DTSTAMP:20260421T064250
CREATED:20191003T231243Z
LAST-MODIFIED:20200205T125117Z
UID:2099-1573904700-1573907400@ud.uek.krakow.pl
SUMMARY:Wykład: Czym jest zysk\, a czym strata?
DESCRIPTION:GRUPA II (9–12 LAT)\n„Czym jest zysk\, a czym strata?”\ndr Magdalena Wójcik-Jurkiewicz\nKatedra Rachunkowości UEK
URL:https://ud.uek.krakow.pl/wydarzenie/wyklad-czym-jest-zysk-a-czym-strata-2/
LOCATION:Stara Aula w Budynku Głównym UEK\, ul. Rakowicka 27\, 31-510 Kraków
CATEGORIES:Grupa II (9–12 lat) - archiwum
ATTACH;FMTTYPE=image/jpeg:https://ud.uek.krakow.pl/wp-content/uploads/2019/10/zysk-strata.jpg
ORGANIZER;CN="Uniwersytet Ekonomiczny w Krakowie":MAILTO:ud@uek.krakow.pl
END:VEVENT
BEGIN:VEVENT
DTSTART;TZID=Europe/Warsaw:20191116T114000
DTEND;TZID=Europe/Warsaw:20191116T124000
DTSTAMP:20260421T064250
CREATED:20191008T012817Z
LAST-MODIFIED:20200205T125109Z
UID:2208-1573904400-1573908000@ud.uek.krakow.pl
SUMMARY:Zajęcia dodatkowe: „Jaki wygląd przybiorą pieniądze przyszłości?”
DESCRIPTION:Grupa I (6-8lat)\n„Jaki wygląd przybiorą pieniądze przyszłości?”\ndr Roksana Gołębiowska\nartysta grafik \n  \n\n\nZAREJESTRUJ SIĘ
URL:https://ud.uek.krakow.pl/wydarzenie/zajecia-dodatkowe-jaki-wyglad-przybiora-pieniadze-przyszlosci/
LOCATION:Budynek Główny UEK\, sala 4\, ul. Rakowicka 27\, 31-510 Kraków
CATEGORIES:Grupa I (6-8 lat) - archiwum
ATTACH;FMTTYPE=image/jpeg:https://ud.uek.krakow.pl/wp-content/uploads/2019/10/pieniadze.jpg
ORGANIZER;CN="Uniwersytet Ekonomiczny w Krakowie":MAILTO:ud@uek.krakow.pl
END:VEVENT
BEGIN:VEVENT
DTSTART;TZID=Europe/Warsaw:20191116T114000
DTEND;TZID=Europe/Warsaw:20191116T124000
DTSTAMP:20260421T064250
CREATED:20191008T005845Z
LAST-MODIFIED:20200205T125058Z
UID:2200-1573904400-1573908000@ud.uek.krakow.pl
SUMMARY:Zajęcia dodatkowe: „Ślady kryminalistyczne – zabawy młodych detektywów”
DESCRIPTION:Grupa I (6-8lat)\n„Ślady kryminalistyczne – zabawy młodych detektywów”\ndr Irena Białek\nInstytut Badań i Ekspertyz Sądowych w Krakowie \n\n\nZAREJESTRUJ SIĘ
URL:https://ud.uek.krakow.pl/wydarzenie/zajecia-dodatkowe-slady-kryminalistyczne-zabawy-mlodych-detektywow/
LOCATION:Budynek Główny UEK\, sala 1\, ul. Rakowicka 27\, 31-510 Kraków
CATEGORIES:Grupa I (6-8 lat) - archiwum
ATTACH;FMTTYPE=image/jpeg:https://ud.uek.krakow.pl/wp-content/uploads/2019/10/detyktywi.jpg
ORGANIZER;CN="Uniwersytet Ekonomiczny w Krakowie":MAILTO:ud@uek.krakow.pl
END:VEVENT
BEGIN:VEVENT
DTSTART;TZID=Europe/Warsaw:20191116T104500
DTEND;TZID=Europe/Warsaw:20191116T113000
DTSTAMP:20260421T064250
CREATED:20191003T231339Z
LAST-MODIFIED:20200205T125050Z
UID:2100-1573901100-1573903800@ud.uek.krakow.pl
SUMMARY:Wykład:  Czym jest zysk\, a czym strata?
DESCRIPTION:Grupa I (6-8lat)\n„Czym jest zysk\, a czym strata?”\ndr Magdalena Wójcik-Jurkiewicz\nKatedra Rachunkowości UEK
URL:https://ud.uek.krakow.pl/wydarzenie/wyklad-czym-jest-zysk-a-czym-strata/
LOCATION:Stara Aula w Budynku Głównym UEK\, ul. Rakowicka 27\, 31-510 Kraków
CATEGORIES:Grupa I (6-8 lat) - archiwum
ATTACH;FMTTYPE=image/jpeg:https://ud.uek.krakow.pl/wp-content/uploads/2019/10/zysk-strata.jpg
ORGANIZER;CN="Uniwersytet Ekonomiczny w Krakowie":MAILTO:ud@uek.krakow.pl
END:VEVENT
BEGIN:VEVENT
DTSTART;TZID=Europe/Warsaw:20191116T103000
DTEND;TZID=Europe/Warsaw:20191116T113000
DTSTAMP:20260421T064250
CREATED:20191008T012804Z
LAST-MODIFIED:20200205T125041Z
UID:2209-1573900200-1573903800@ud.uek.krakow.pl
SUMMARY:Zajęcia dodatkowe:  „Jaki wygląd przybiorą pieniądze przyszłości?”
DESCRIPTION:GRUPA II (9–12 LAT)\n„Jaki wygląd przybiorą pieniądze przyszłości?”\ndr Roksana Gołębiowska\nartysta grafik \n  \n\n\nZAREJESTRUJ SIĘ
URL:https://ud.uek.krakow.pl/wydarzenie/zajecia-dodatkowe-jaki-wyglad-przybiora-pieniadze-przyszlosci-2/
LOCATION:Budynek Główny UEK\, sala 4\, ul. Rakowicka 27\, 31-510 Kraków
CATEGORIES:Grupa II (9–12 lat) - archiwum
ATTACH;FMTTYPE=image/jpeg:https://ud.uek.krakow.pl/wp-content/uploads/2019/10/pieniadze.jpg
ORGANIZER;CN="Uniwersytet Ekonomiczny w Krakowie":MAILTO:ud@uek.krakow.pl
END:VEVENT
BEGIN:VEVENT
DTSTART;TZID=Europe/Warsaw:20191116T103000
DTEND;TZID=Europe/Warsaw:20191116T113000
DTSTAMP:20260421T064250
CREATED:20191008T005843Z
LAST-MODIFIED:20200205T124903Z
UID:2199-1573900200-1573903800@ud.uek.krakow.pl
SUMMARY:Zajęcia dodatkowe:  „Ślady kryminalistyczne – zabawy młodych detektywów”
DESCRIPTION:GRUPA II (9–12 LAT)\n„Ślady kryminalistyczne – zabawy młodych detektywów”\ndr Irena Białek\nInstytut Badań i Ekspertyz Sądowych w Krakowie \n  \n\n\nZAREJESTRUJ SIĘ
URL:https://ud.uek.krakow.pl/wydarzenie/zajecia-dodatkowe-slady-kryminalistyczne-zabawy-mlodych-detektywow-2/
LOCATION:Budynek Główny UEK\, sala 1\, ul. Rakowicka 27\, 31-510 Kraków
CATEGORIES:Grupa II (9–12 lat) - archiwum
ATTACH;FMTTYPE=image/jpeg:https://ud.uek.krakow.pl/wp-content/uploads/2019/10/detyktywi.jpg
ORGANIZER;CN="Uniwersytet Ekonomiczny w Krakowie":MAILTO:ud@uek.krakow.pl
END:VEVENT
BEGIN:VEVENT
DTSTART;TZID=Europe/Warsaw:20191026T130000
DTEND;TZID=Europe/Warsaw:20191026T140000
DTSTAMP:20260421T064250
CREATED:20191008T020959Z
LAST-MODIFIED:20200205T124854Z
UID:2214-1572094800-1572098400@ud.uek.krakow.pl
SUMMARY:Zajęcia dodatkowe:  Tenis ziemny
DESCRIPTION:Tenis ziemny\nStudium Wychowania Fizycznego i Sportu UEK \n  \n\n\nZAREJESTRUJ SIĘ
URL:https://ud.uek.krakow.pl/wydarzenie/zajecia-dodatkowe-tenis-ziemny/
LOCATION:Pawilon S\, hala sportowa\, ul. Rakowicka 27\, 31-510 Kraków
CATEGORIES:Grupa I (6-8 lat) - archiwum,Grupa II (9–12 lat) - archiwum
ATTACH;FMTTYPE=image/jpeg:https://ud.uek.krakow.pl/wp-content/uploads/2019/10/tenis.jpg
ORGANIZER;CN="Uniwersytet Ekonomiczny w Krakowie":MAILTO:ud@uek.krakow.pl
END:VEVENT
BEGIN:VEVENT
DTSTART;TZID=Europe/Warsaw:20191026T114500
DTEND;TZID=Europe/Warsaw:20191026T123000
DTSTAMP:20260421T064250
CREATED:20191003T014533Z
LAST-MODIFIED:20200205T124842Z
UID:2065-1572090300-1572093000@ud.uek.krakow.pl
SUMMARY:Wykład:  Kto to jest polityk?
DESCRIPTION:GRUPA II (9–12 LAT)\n„Kto to jest polityk?” \ndr Jakub Kwaśny\nKatedra Międzynarodowych Studiów Gospodarczych UEK
URL:https://ud.uek.krakow.pl/wydarzenie/wyklad-kto-to-jest-polityk/
LOCATION:Stara Aula w Budynku Głównym UEK\, ul. Rakowicka 27\, 31-510 Kraków
CATEGORIES:Grupa II (9–12 lat) - archiwum
ATTACH;FMTTYPE=image/jpeg:https://ud.uek.krakow.pl/wp-content/uploads/2019/10/polityk.jpg
ORGANIZER;CN="Uniwersytet Ekonomiczny w Krakowie":MAILTO:ud@uek.krakow.pl
END:VEVENT
BEGIN:VEVENT
DTSTART;TZID=Europe/Warsaw:20191026T114000
DTEND;TZID=Europe/Warsaw:20191026T124000
DTSTAMP:20260421T064250
CREATED:20191006T220158Z
LAST-MODIFIED:20200205T124832Z
UID:2167-1572090000-1572093600@ud.uek.krakow.pl
SUMMARY:Zajęcia dodatkowe: „Ile mierzy wieżowiec?”
DESCRIPTION:Grupa I (6-8lat)\n„Ile mierzy wieżowiec?”\nMarzena Dranka\nAkademia Miarologii \n  \n\n\nZAREJESTRUJ SIĘ
URL:https://ud.uek.krakow.pl/wydarzenie/zajecia-dodatkowe-ile-mierzy-wiezowiec/
LOCATION:Budynek Główny UEK\, sala 4\, ul. Rakowicka 27\, 31-510 Kraków
CATEGORIES:Grupa I (6-8 lat) - archiwum
ATTACH;FMTTYPE=image/jpeg:https://ud.uek.krakow.pl/wp-content/uploads/2019/10/wiezowiec.jpg
ORGANIZER;CN="Uniwersytet Ekonomiczny w Krakowie":MAILTO:ud@uek.krakow.pl
END:VEVENT
BEGIN:VEVENT
DTSTART;TZID=Europe/Warsaw:20191026T114000
DTEND;TZID=Europe/Warsaw:20191026T124000
DTSTAMP:20260421T064250
CREATED:20191006T203452Z
LAST-MODIFIED:20200205T124821Z
UID:2134-1572090000-1572093600@ud.uek.krakow.pl
SUMMARY:Zajęcia dodatkowe: „Ile zarobisz na lemoniadzie?”
DESCRIPTION:Grupa I (6-8lat)\n„Ile zarobisz na lemoniadzie?”\ndr Marcin Osikowicz\nKatedra Rachunkowości UEK \n  \n\n\nZAREJESTRUJ SIĘ
URL:https://ud.uek.krakow.pl/wydarzenie/zajecia-dodatkowe-ile-zarobisz-na-lemoniadzie/
LOCATION:Budynek Główny UEK\, sala 1\, ul. Rakowicka 27\, 31-510 Kraków
CATEGORIES:Grupa I (6-8 lat) - archiwum
ATTACH;FMTTYPE=image/jpeg:https://ud.uek.krakow.pl/wp-content/uploads/2019/10/lemoniada.jpg
ORGANIZER;CN="Uniwersytet Ekonomiczny w Krakowie":MAILTO:ud@uek.krakow.pl
END:VEVENT
BEGIN:VEVENT
DTSTART;TZID=Europe/Warsaw:20191026T104500
DTEND;TZID=Europe/Warsaw:20191026T113000
DTSTAMP:20260421T064250
CREATED:20191003T040014Z
LAST-MODIFIED:20200205T124801Z
UID:2061-1572086700-1572089400@ud.uek.krakow.pl
SUMMARY:Wykład:  Kto to jest polityk?
DESCRIPTION:Grupa I (6-8lat)\n„Kto to jest polityk?” \ndr Jakub Kwaśny\nKatedra Międzynarodowych Studiów Gospodarczych UEK
URL:https://ud.uek.krakow.pl/wydarzenie/kto-to-jest-polityk/
LOCATION:Stara Aula w Budynku Głównym UEK\, ul. Rakowicka 27\, 31-510 Kraków
CATEGORIES:Grupa I (6-8 lat) - archiwum
ATTACH;FMTTYPE=image/jpeg:https://ud.uek.krakow.pl/wp-content/uploads/2019/10/polityk.jpg
ORGANIZER;CN="Uniwersytet Ekonomiczny w Krakowie":MAILTO:ud@uek.krakow.pl
END:VEVENT
BEGIN:VEVENT
DTSTART;TZID=Europe/Warsaw:20191026T103000
DTEND;TZID=Europe/Warsaw:20191026T113000
DTSTAMP:20260421T064250
CREATED:20191006T220203Z
LAST-MODIFIED:20200205T124416Z
UID:2168-1572085800-1572089400@ud.uek.krakow.pl
SUMMARY:Zajęcia dodatkowe:  „Ile mierzy wieżowiec?”
DESCRIPTION:GRUPA II (9–12 LAT)\n„Ile mierzy wieżowiec?”\nMarzena Dranka\nAkademia Miarologii \n  \n\n\nZAREJESTRUJ SIĘ
URL:https://ud.uek.krakow.pl/wydarzenie/zajecia-dodatkowe-ile-mierzy-wiezowiec-2/
LOCATION:Budynek Główny UEK\, sala 4\, ul. Rakowicka 27\, 31-510 Kraków
CATEGORIES:Grupa II (9–12 lat) - archiwum
ATTACH;FMTTYPE=image/jpeg:https://ud.uek.krakow.pl/wp-content/uploads/2019/10/wiezowiec.jpg
ORGANIZER;CN="Uniwersytet Ekonomiczny w Krakowie":MAILTO:ud@uek.krakow.pl
END:VEVENT
BEGIN:VEVENT
DTSTART;TZID=Europe/Warsaw:20191026T103000
DTEND;TZID=Europe/Warsaw:20191026T113000
DTSTAMP:20260421T064250
CREATED:20191006T203243Z
LAST-MODIFIED:20200205T124713Z
UID:2133-1572085800-1572089400@ud.uek.krakow.pl
SUMMARY:Zajęcia dodatkowe:  „Ile zarobisz na lemoniadzie?”
DESCRIPTION:GRUPA II (9–12 LAT)\n„Ile zarobisz na lemoniadzie?”\ndr Marcin Osikowicz\nKatedra Rachunkowości UEK \n  \n\n\nZAREJESTRUJ SIĘ
URL:https://ud.uek.krakow.pl/wydarzenie/zajecia-dodatkowe-ile-zarobisz-na-lemoniadzie2/
LOCATION:Budynek Główny UEK\, sala 1\, ul. Rakowicka 27\, 31-510 Kraków
CATEGORIES:Grupa II (9–12 lat) - archiwum
ATTACH;FMTTYPE=image/jpeg:https://ud.uek.krakow.pl/wp-content/uploads/2019/10/lemoniada.jpg
ORGANIZER;CN="Uniwersytet Ekonomiczny w Krakowie":MAILTO:ud@uek.krakow.pl
END:VEVENT
BEGIN:VEVENT
DTSTART;TZID=UTC:20191012T100000
DTEND;TZID=UTC:20191012T113000
DTSTAMP:20260421T064250
CREATED:20191003T040417Z
LAST-MODIFIED:20200205T124605Z
UID:2018-1570874400-1570879800@ud.uek.krakow.pl
SUMMARY:Wykład inauguracyjny! W jaki sposób ludzie są zdolni? Czy lepiej wychowywać orły\, czy latawce?
DESCRIPTION:„W jaki sposób ludzie są zdolni?\nCzy lepiej wychowywać orły\, czy latawce?”\nmgr Monika Zatorska\ntwórczyni pierwszej w Polsce „szkoły gardnerowskiej”
URL:https://ud.uek.krakow.pl/wydarzenie/wyklad-byc-orlem-a-nie-latawcem/
LOCATION:Stara Aula w Budynku Głównym UEK\, ul. Rakowicka 27\, 31-510 Kraków
CATEGORIES:Grupa I (6-8 lat) - archiwum,Grupa II (9–12 lat) - archiwum
ATTACH;FMTTYPE=image/jpeg:https://ud.uek.krakow.pl/wp-content/uploads/2019/08/badz-orlem.jpg
ORGANIZER;CN="Uniwersytet Ekonomiczny w Krakowie":MAILTO:ud@uek.krakow.pl
END:VEVENT
END:VCALENDAR